BEGIN:VCALENDAR
PRODID:-//WikiCFP//topazas 1.0//EN
VERSION:2.0
CALSCALE:GREGORIAN
BEGIN:VEVENT
DTSTAMP:20260419T172319Z
DTSTART;VALUE=DATE:20130908
DTEND;VALUE=DATE:20130912
SUMMARY:ATSE 2013
DESCRIPTION:The Fourth Workshop on Automated Test Case Design\, Selection
  and Evaluation
URL:http://www.wikicfp.com/cfp/servlet/event.showcfp?eventid=30025&copyow
 nerid=52299
UID:cfp366987-E@wikicfp.com
END:VEVENT
BEGIN:VEVENT
DTSTAMP:20260419T172319Z
DTSTART;VALUE=DATE:20130512
SUMMARY:ATSE 2013 Deadline
DESCRIPTION:The Fourth Workshop on Automated Test Case Design\, Selection
  and Evaluation
URL:http://www.wikicfp.com/cfp/servlet/event.showcfp?eventid=30025&copyow
 nerid=52299
UID:cfp366987-D@wikicfp.com
END:VEVENT
BEGIN:VEVENT
DTSTAMP:20260419T172319Z
DTSTART;VALUE=DATE:20130617
SUMMARY:ATSE 2013 Notification Due
DESCRIPTION:The Fourth Workshop on Automated Test Case Design\, Selection
  and Evaluation
URL:http://www.wikicfp.com/cfp/servlet/event.showcfp?eventid=30025&copyow
 nerid=52299
UID:cfp366987-N@wikicfp.com
END:VEVENT
BEGIN:VEVENT
DTSTAMP:20260419T172319Z
DTSTART;VALUE=DATE:20140120
DTEND;VALUE=DATE:20140124
SUMMARY:ASP-DAC 2014
DESCRIPTION:Asia and South Pacific Design Automation Conference
URL:http://www.wikicfp.com/cfp/servlet/event.showcfp?eventid=30651&copyow
 nerid=52299
UID:cfp366989-E@wikicfp.com
END:VEVENT
BEGIN:VEVENT
DTSTAMP:20260419T172319Z
DTSTART;VALUE=DATE:20130710
SUMMARY:ASP-DAC 2014 Deadline
DESCRIPTION:Asia and South Pacific Design Automation Conference
URL:http://www.wikicfp.com/cfp/servlet/event.showcfp?eventid=30651&copyow
 nerid=52299
UID:cfp366989-D@wikicfp.com
END:VEVENT
BEGIN:VEVENT
DTSTAMP:20260419T172319Z
DTSTART;VALUE=DATE:20130911
SUMMARY:ASP-DAC 2014 Notification Due
DESCRIPTION:Asia and South Pacific Design Automation Conference
URL:http://www.wikicfp.com/cfp/servlet/event.showcfp?eventid=30651&copyow
 nerid=52299
UID:cfp366989-N@wikicfp.com
END:VEVENT
BEGIN:VEVENT
DTSTAMP:20260419T172319Z
DTSTART;VALUE=DATE:20131111
SUMMARY:ASP-DAC 2014 Final Version Due
DESCRIPTION:Asia and South Pacific Design Automation Conference
URL:http://www.wikicfp.com/cfp/servlet/event.showcfp?eventid=30651&copyow
 nerid=52299
UID:cfp366989-N@wikicfp.com
END:VEVENT
BEGIN:VEVENT
DTSTAMP:20260419T172319Z
DTSTART;VALUE=DATE:20140331
DTEND;VALUE=DATE:20140405
SUMMARY:ICST 2014
DESCRIPTION:International Conference on Software Testing\, Verification\,
  and Validation
URL:http://www.wikicfp.com/cfp/servlet/event.showcfp?eventid=31350&copyow
 nerid=52299
UID:cfp366988-E@wikicfp.com
END:VEVENT
BEGIN:VEVENT
DTSTAMP:20260419T172319Z
DTSTART;VALUE=DATE:20130923
SUMMARY:ICST 2014 Deadline
DESCRIPTION:International Conference on Software Testing\, Verification\,
  and Validation
URL:http://www.wikicfp.com/cfp/servlet/event.showcfp?eventid=31350&copyow
 nerid=52299
UID:cfp366988-D@wikicfp.com
END:VEVENT
BEGIN:VEVENT
DTSTAMP:20260419T172319Z
DTSTART;VALUE=DATE:20131222
SUMMARY:ICST 2014 Notification Due
DESCRIPTION:International Conference on Software Testing\, Verification\,
  and Validation
URL:http://www.wikicfp.com/cfp/servlet/event.showcfp?eventid=31350&copyow
 nerid=52299
UID:cfp366988-N@wikicfp.com
END:VEVENT
END:VCALENDAR
