BEGIN:VCALENDAR
PRODID:-//WikiCFP//rotem 1.0//EN
VERSION:2.0
CALSCALE:GREGORIAN
BEGIN:VEVENT
DTSTAMP:20260423T204413Z
DTSTART;VALUE=DATE:20160502
DTEND;VALUE=DATE:20160505
SUMMARY:ICLR 2016
DESCRIPTION:ICLR 2016 : International Conference on Learning Representati
 ons 2016
URL:http://www.wikicfp.com/cfp/servlet/event.showcfp?eventid=48154&copyow
 nerid=52217
UID:cfp577368-E@wikicfp.com
END:VEVENT
BEGIN:VEVENT
DTSTAMP:20260423T204413Z
DTSTART;VALUE=DATE:20151112
SUMMARY:ICLR 2016 Abstract Due
DESCRIPTION:ICLR 2016 : International Conference on Learning Representati
 ons 2016
URL:http://www.wikicfp.com/cfp/servlet/event.showcfp?eventid=48154&copyow
 nerid=52217
UID:cfp577368-A@wikicfp.com
END:VEVENT
BEGIN:VEVENT
DTSTAMP:20260423T204413Z
DTSTART;VALUE=DATE:20151119
SUMMARY:ICLR 2016 Deadline
DESCRIPTION:ICLR 2016 : International Conference on Learning Representati
 ons 2016
URL:http://www.wikicfp.com/cfp/servlet/event.showcfp?eventid=48154&copyow
 nerid=52217
UID:cfp577368-D@wikicfp.com
END:VEVENT
BEGIN:VEVENT
DTSTAMP:20260423T204413Z
DTSTART;VALUE=DATE:20160204
SUMMARY:ICLR 2016 Notification Due
DESCRIPTION:ICLR 2016 : International Conference on Learning Representati
 ons 2016
URL:http://www.wikicfp.com/cfp/servlet/event.showcfp?eventid=48154&copyow
 nerid=52217
UID:cfp577368-N@wikicfp.com
END:VEVENT
BEGIN:VEVENT
DTSTAMP:20260423T204413Z
DTSTART;VALUE=DATE:20160725
DTEND;VALUE=DATE:20160730
SUMMARY:IJCNN 2016
DESCRIPTION:IJCNN Special Session on Transfer Learning
URL:http://www.wikicfp.com/cfp/servlet/event.showcfp?eventid=50541&copyow
 nerid=52217
UID:cfp577367-E@wikicfp.com
END:VEVENT
BEGIN:VEVENT
DTSTAMP:20260423T204413Z
DTSTART;VALUE=DATE:20160115
SUMMARY:IJCNN 2016 Deadline
DESCRIPTION:IJCNN Special Session on Transfer Learning
URL:http://www.wikicfp.com/cfp/servlet/event.showcfp?eventid=50541&copyow
 nerid=52217
UID:cfp577367-D@wikicfp.com
END:VEVENT
BEGIN:VEVENT
DTSTAMP:20260423T204413Z
DTSTART;VALUE=DATE:20160725
DTEND;VALUE=DATE:20160730
SUMMARY:WCCI 2016
DESCRIPTION:2016 IEEE World Congress on Computational Intelligence
URL:http://www.wikicfp.com/cfp/servlet/event.showcfp?eventid=36350&copyow
 nerid=52217
UID:cfp577271-E@wikicfp.com
END:VEVENT
BEGIN:VEVENT
DTSTAMP:20260423T204413Z
DTSTART;VALUE=DATE:20160131
SUMMARY:WCCI 2016 Deadline
DESCRIPTION:2016 IEEE World Congress on Computational Intelligence
URL:http://www.wikicfp.com/cfp/servlet/event.showcfp?eventid=36350&copyow
 nerid=52217
UID:cfp577271-D@wikicfp.com
END:VEVENT
BEGIN:VEVENT
DTSTAMP:20260423T204413Z
DTSTART;VALUE=DATE:20160415
SUMMARY:WCCI 2016 Final Version Due
DESCRIPTION:2016 IEEE World Congress on Computational Intelligence
URL:http://www.wikicfp.com/cfp/servlet/event.showcfp?eventid=36350&copyow
 nerid=52217
UID:cfp577271-N@wikicfp.com
END:VEVENT
BEGIN:VEVENT
DTSTAMP:20260423T204413Z
DTSTART;VALUE=DATE:20160720
DTEND;VALUE=DATE:20160725
SUMMARY:GECCO 2016
DESCRIPTION:The Genetic and Evolutionary Computation Conference 
URL:http://www.wikicfp.com/cfp/servlet/event.showcfp?eventid=48741&copyow
 nerid=52217
UID:cfp577366-E@wikicfp.com
END:VEVENT
BEGIN:VEVENT
DTSTAMP:20260423T204413Z
DTSTART;VALUE=DATE:20160127
SUMMARY:GECCO 2016 Abstract Due
DESCRIPTION:The Genetic and Evolutionary Computation Conference 
URL:http://www.wikicfp.com/cfp/servlet/event.showcfp?eventid=48741&copyow
 nerid=52217
UID:cfp577366-A@wikicfp.com
END:VEVENT
BEGIN:VEVENT
DTSTAMP:20260423T204413Z
DTSTART;VALUE=DATE:20160203
SUMMARY:GECCO 2016 Deadline
DESCRIPTION:The Genetic and Evolutionary Computation Conference 
URL:http://www.wikicfp.com/cfp/servlet/event.showcfp?eventid=48741&copyow
 nerid=52217
UID:cfp577366-D@wikicfp.com
END:VEVENT
BEGIN:VEVENT
DTSTAMP:20260423T204413Z
DTSTART;VALUE=DATE:20161017
DTEND;VALUE=DATE:20161022
SUMMARY:MICCAI 2016
DESCRIPTION:Medical Image Computing and Computer Assisted Intervention
URL:http://www.wikicfp.com/cfp/servlet/event.showcfp?eventid=50615&copyow
 nerid=52217
UID:cfp572768-E@wikicfp.com
END:VEVENT
BEGIN:VEVENT
DTSTAMP:20260423T204413Z
DTSTART;VALUE=DATE:20160310
SUMMARY:MICCAI 2016 Deadline
DESCRIPTION:Medical Image Computing and Computer Assisted Intervention
URL:http://www.wikicfp.com/cfp/servlet/event.showcfp?eventid=50615&copyow
 nerid=52217
UID:cfp572768-D@wikicfp.com
END:VEVENT
END:VCALENDAR
