BEGIN:VCALENDAR
PRODID:-//WikiCFP//TasminaIslam 1.0//EN
VERSION:2.0
CALSCALE:GREGORIAN
BEGIN:VEVENT
DTSTAMP:20260425T160103Z
DTSTART;VALUE=DATE:20131126
DTEND;VALUE=DATE:20131129
SUMMARY:SHFB 2013
DESCRIPTION:Special session on âSecurity through human-factors and biom
 etricsâ 
URL:http://www.wikicfp.com/cfp/servlet/event.showcfp?eventid=30545&copyow
 nerid=52129
UID:cfp365821-E@wikicfp.com
END:VEVENT
BEGIN:VEVENT
DTSTAMP:20260425T160103Z
DTSTART;VALUE=DATE:20130715
SUMMARY:SHFB 2013 Deadline
DESCRIPTION:Special session on âSecurity through human-factors and biom
 etricsâ 
URL:http://www.wikicfp.com/cfp/servlet/event.showcfp?eventid=30545&copyow
 nerid=52129
UID:cfp365821-D@wikicfp.com
END:VEVENT
BEGIN:VEVENT
DTSTAMP:20260425T160103Z
DTSTART;VALUE=DATE:20130810
SUMMARY:SHFB 2013 Notification Due
DESCRIPTION:Special session on âSecurity through human-factors and biom
 etricsâ 
URL:http://www.wikicfp.com/cfp/servlet/event.showcfp?eventid=30545&copyow
 nerid=52129
UID:cfp365821-N@wikicfp.com
END:VEVENT
BEGIN:VEVENT
DTSTAMP:20260425T160103Z
DTSTART;VALUE=DATE:20130830
SUMMARY:SHFB 2013 Final Version Due
DESCRIPTION:Special session on âSecurity through human-factors and biom
 etricsâ 
URL:http://www.wikicfp.com/cfp/servlet/event.showcfp?eventid=30545&copyow
 nerid=52129
UID:cfp365821-N@wikicfp.com
END:VEVENT
BEGIN:VEVENT
DTSTAMP:20260425T160103Z
DTSTART;VALUE=DATE:20130909
DTEND;VALUE=DATE:20131202
SUMMARY:ANSPSS 2013
DESCRIPTION:Advances in Networking and Signal Processing for Social Secur
 ity - Special issue on Inderscience journal
URL:http://www.wikicfp.com/cfp/servlet/event.showcfp?eventid=27872&copyow
 nerid=52129
UID:cfp365818-E@wikicfp.com
END:VEVENT
BEGIN:VEVENT
DTSTAMP:20260425T160103Z
DTSTART;VALUE=DATE:20130909
SUMMARY:ANSPSS 2013 Deadline
DESCRIPTION:Advances in Networking and Signal Processing for Social Secur
 ity - Special issue on Inderscience journal
URL:http://www.wikicfp.com/cfp/servlet/event.showcfp?eventid=27872&copyow
 nerid=52129
UID:cfp365818-D@wikicfp.com
END:VEVENT
BEGIN:VEVENT
DTSTAMP:20260425T160103Z
DTSTART;VALUE=DATE:20131020
SUMMARY:ANSPSS 2013 Notification Due
DESCRIPTION:Advances in Networking and Signal Processing for Social Secur
 ity - Special issue on Inderscience journal
URL:http://www.wikicfp.com/cfp/servlet/event.showcfp?eventid=27872&copyow
 nerid=52129
UID:cfp365818-N@wikicfp.com
END:VEVENT
BEGIN:VEVENT
DTSTAMP:20260425T160103Z
DTSTART;VALUE=DATE:20131201
SUMMARY:ANSPSS 2013 Final Version Due
DESCRIPTION:Advances in Networking and Signal Processing for Social Secur
 ity - Special issue on Inderscience journal
URL:http://www.wikicfp.com/cfp/servlet/event.showcfp?eventid=27872&copyow
 nerid=52129
UID:cfp365818-N@wikicfp.com
END:VEVENT
BEGIN:VEVENT
DTSTAMP:20260425T160103Z
DTSTART;VALUE=DATE:20131101
SUMMARY:IJICTHD 2013 Deadline
DESCRIPTION:Special Issue on Social and Ethical Implications of Biometric
  Technology\, International Journal of Information Communication Technol
 ogies and Human Development 
URL:http://www.wikicfp.com/cfp/servlet/event.showcfp?eventid=31151&copyow
 nerid=52129
UID:cfp365820-D@wikicfp.com
END:VEVENT
BEGIN:VEVENT
DTSTAMP:20260425T160103Z
DTSTART;VALUE=DATE:20131215
SUMMARY:IJICTHD 2013 Notification Due
DESCRIPTION:Special Issue on Social and Ethical Implications of Biometric
  Technology\, International Journal of Information Communication Technol
 ogies and Human Development 
URL:http://www.wikicfp.com/cfp/servlet/event.showcfp?eventid=31151&copyow
 nerid=52129
UID:cfp365820-N@wikicfp.com
END:VEVENT
BEGIN:VEVENT
DTSTAMP:20260425T160103Z
DTSTART;VALUE=DATE:20140215
SUMMARY:IJICTHD 2013 Final Version Due
DESCRIPTION:Special Issue on Social and Ethical Implications of Biometric
  Technology\, International Journal of Information Communication Technol
 ogies and Human Development 
URL:http://www.wikicfp.com/cfp/servlet/event.showcfp?eventid=31151&copyow
 nerid=52129
UID:cfp365820-N@wikicfp.com
END:VEVENT
END:VCALENDAR
