BEGIN:VCALENDAR
PRODID:-//WikiCFP//Vignesh 1.0//EN
VERSION:2.0
CALSCALE:GREGORIAN
BEGIN:VEVENT
DTSTAMP:20260424T161452Z
DTSTART;VALUE=DATE:20190923
DTEND;VALUE=DATE:20190927
SUMMARY:PACT 2019
DESCRIPTION:28th International Conference on Parallel Architectures and C
 ompilation Techniques
URL:http://www.wikicfp.com/cfp/servlet/event.showcfp?eventid=84848&copyow
 nerid=51918
UID:cfp771790-E@wikicfp.com
END:VEVENT
BEGIN:VEVENT
DTSTAMP:20260424T161452Z
DTSTART;VALUE=DATE:20190411
SUMMARY:PACT 2019 Abstract Due
DESCRIPTION:28th International Conference on Parallel Architectures and C
 ompilation Techniques
URL:http://www.wikicfp.com/cfp/servlet/event.showcfp?eventid=84848&copyow
 nerid=51918
UID:cfp771790-A@wikicfp.com
END:VEVENT
BEGIN:VEVENT
DTSTAMP:20260424T161452Z
DTSTART;VALUE=DATE:20190415
SUMMARY:PACT 2019 Deadline
DESCRIPTION:28th International Conference on Parallel Architectures and C
 ompilation Techniques
URL:http://www.wikicfp.com/cfp/servlet/event.showcfp?eventid=84848&copyow
 nerid=51918
UID:cfp771790-D@wikicfp.com
END:VEVENT
BEGIN:VEVENT
DTSTAMP:20260424T161452Z
DTSTART;VALUE=DATE:20190608
SUMMARY:PACT 2019 Notification Due
DESCRIPTION:28th International Conference on Parallel Architectures and C
 ompilation Techniques
URL:http://www.wikicfp.com/cfp/servlet/event.showcfp?eventid=84848&copyow
 nerid=51918
UID:cfp771790-N@wikicfp.com
END:VEVENT
BEGIN:VEVENT
DTSTAMP:20260424T161452Z
DTSTART;VALUE=DATE:20190823
SUMMARY:PACT 2019 Final Version Due
DESCRIPTION:28th International Conference on Parallel Architectures and C
 ompilation Techniques
URL:http://www.wikicfp.com/cfp/servlet/event.showcfp?eventid=84848&copyow
 nerid=51918
UID:cfp771790-N@wikicfp.com
END:VEVENT
BEGIN:VEVENT
DTSTAMP:20260424T161452Z
DTSTART;VALUE=DATE:20191022
DTEND;VALUE=DATE:20191026
SUMMARY:MASCOTS 2019
DESCRIPTION:Modeling\, Analysis\, and Simulation On Computer and Telecomm
 unication Systems
URL:http://www.wikicfp.com/cfp/servlet/event.showcfp?eventid=87412&copyow
 nerid=51918
UID:cfp781436-E@wikicfp.com
END:VEVENT
BEGIN:VEVENT
DTSTAMP:20260424T161452Z
DTSTART;VALUE=DATE:20190426
SUMMARY:MASCOTS 2019 Abstract Due
DESCRIPTION:Modeling\, Analysis\, and Simulation On Computer and Telecomm
 unication Systems
URL:http://www.wikicfp.com/cfp/servlet/event.showcfp?eventid=87412&copyow
 nerid=51918
UID:cfp781436-A@wikicfp.com
END:VEVENT
BEGIN:VEVENT
DTSTAMP:20260424T161452Z
DTSTART;VALUE=DATE:20190503
SUMMARY:MASCOTS 2019 Deadline
DESCRIPTION:Modeling\, Analysis\, and Simulation On Computer and Telecomm
 unication Systems
URL:http://www.wikicfp.com/cfp/servlet/event.showcfp?eventid=87412&copyow
 nerid=51918
UID:cfp781436-D@wikicfp.com
END:VEVENT
BEGIN:VEVENT
DTSTAMP:20260424T161452Z
DTSTART;VALUE=DATE:20190627
SUMMARY:MASCOTS 2019 Notification Due
DESCRIPTION:Modeling\, Analysis\, and Simulation On Computer and Telecomm
 unication Systems
URL:http://www.wikicfp.com/cfp/servlet/event.showcfp?eventid=87412&copyow
 nerid=51918
UID:cfp781436-N@wikicfp.com
END:VEVENT
BEGIN:VEVENT
DTSTAMP:20260424T161452Z
DTSTART;VALUE=DATE:20190719
SUMMARY:MASCOTS 2019 Final Version Due
DESCRIPTION:Modeling\, Analysis\, and Simulation On Computer and Telecomm
 unication Systems
URL:http://www.wikicfp.com/cfp/servlet/event.showcfp?eventid=87412&copyow
 nerid=51918
UID:cfp781436-N@wikicfp.com
END:VEVENT
BEGIN:VEVENT
DTSTAMP:20260424T161452Z
DTSTART;VALUE=DATE:20190923
DTEND;VALUE=DATE:20190928
SUMMARY:CLUSTER 2019
DESCRIPTION:International Conference on Cluster Computing
URL:http://www.wikicfp.com/cfp/servlet/event.showcfp?eventid=86434&copyow
 nerid=51918
UID:cfp781437-E@wikicfp.com
END:VEVENT
BEGIN:VEVENT
DTSTAMP:20260424T161452Z
DTSTART;VALUE=DATE:20190510
SUMMARY:CLUSTER 2019 Abstract Due
DESCRIPTION:International Conference on Cluster Computing
URL:http://www.wikicfp.com/cfp/servlet/event.showcfp?eventid=86434&copyow
 nerid=51918
UID:cfp781437-A@wikicfp.com
END:VEVENT
BEGIN:VEVENT
DTSTAMP:20260424T161452Z
DTSTART;VALUE=DATE:20190517
SUMMARY:CLUSTER 2019 Deadline
DESCRIPTION:International Conference on Cluster Computing
URL:http://www.wikicfp.com/cfp/servlet/event.showcfp?eventid=86434&copyow
 nerid=51918
UID:cfp781437-D@wikicfp.com
END:VEVENT
BEGIN:VEVENT
DTSTAMP:20260424T161452Z
DTSTART;VALUE=DATE:20190715
SUMMARY:CLUSTER 2019 Notification Due
DESCRIPTION:International Conference on Cluster Computing
URL:http://www.wikicfp.com/cfp/servlet/event.showcfp?eventid=86434&copyow
 nerid=51918
UID:cfp781437-N@wikicfp.com
END:VEVENT
BEGIN:VEVENT
DTSTAMP:20260424T161452Z
DTSTART;VALUE=DATE:20190812
SUMMARY:CLUSTER 2019 Final Version Due
DESCRIPTION:International Conference on Cluster Computing
URL:http://www.wikicfp.com/cfp/servlet/event.showcfp?eventid=86434&copyow
 nerid=51918
UID:cfp781437-N@wikicfp.com
END:VEVENT
BEGIN:VEVENT
DTSTAMP:20260424T161452Z
DTSTART;VALUE=DATE:20191103
DTEND;VALUE=DATE:20191106
SUMMARY:IEEE IISWC 2019
DESCRIPTION:2019 Annual IEEE International Symposium on Workload Characte
 rization (IISWC'19)
URL:http://www.wikicfp.com/cfp/servlet/event.showcfp?eventid=86185&copyow
 nerid=51918
UID:cfp781438-E@wikicfp.com
END:VEVENT
BEGIN:VEVENT
DTSTAMP:20260424T161452Z
DTSTART;VALUE=DATE:20190524
SUMMARY:IEEE IISWC 2019 Abstract Due
DESCRIPTION:2019 Annual IEEE International Symposium on Workload Characte
 rization (IISWC'19)
URL:http://www.wikicfp.com/cfp/servlet/event.showcfp?eventid=86185&copyow
 nerid=51918
UID:cfp781438-A@wikicfp.com
END:VEVENT
BEGIN:VEVENT
DTSTAMP:20260424T161452Z
DTSTART;VALUE=DATE:20190531
SUMMARY:IEEE IISWC 2019 Deadline
DESCRIPTION:2019 Annual IEEE International Symposium on Workload Characte
 rization (IISWC'19)
URL:http://www.wikicfp.com/cfp/servlet/event.showcfp?eventid=86185&copyow
 nerid=51918
UID:cfp781438-D@wikicfp.com
END:VEVENT
BEGIN:VEVENT
DTSTAMP:20260424T161452Z
DTSTART;VALUE=DATE:20190815
SUMMARY:IEEE IISWC 2019 Notification Due
DESCRIPTION:2019 Annual IEEE International Symposium on Workload Characte
 rization (IISWC'19)
URL:http://www.wikicfp.com/cfp/servlet/event.showcfp?eventid=86185&copyow
 nerid=51918
UID:cfp781438-N@wikicfp.com
END:VEVENT
BEGIN:VEVENT
DTSTAMP:20260424T161452Z
DTSTART;VALUE=DATE:20190624
DTEND;VALUE=DATE:20190629
SUMMARY:SIGMETRICS 2019
DESCRIPTION:ACM SIGMETRICS / IFIP PERFORMANCE 2019
URL:http://www.wikicfp.com/cfp/servlet/event.showcfp?eventid=81716&copyow
 nerid=51918
UID:cfp781440-E@wikicfp.com
END:VEVENT
BEGIN:VEVENT
DTSTAMP:20260424T161452Z
DTSTART;VALUE=DATE:20191022
SUMMARY:SIGMETRICS 2019 Abstract Due
DESCRIPTION:ACM SIGMETRICS / IFIP PERFORMANCE 2019
URL:http://www.wikicfp.com/cfp/servlet/event.showcfp?eventid=81716&copyow
 nerid=51918
UID:cfp781440-A@wikicfp.com
END:VEVENT
BEGIN:VEVENT
DTSTAMP:20260424T161452Z
DTSTART;VALUE=DATE:20191029
SUMMARY:SIGMETRICS 2019 Deadline
DESCRIPTION:ACM SIGMETRICS / IFIP PERFORMANCE 2019
URL:http://www.wikicfp.com/cfp/servlet/event.showcfp?eventid=81716&copyow
 nerid=51918
UID:cfp781440-D@wikicfp.com
END:VEVENT
BEGIN:VEVENT
DTSTAMP:20260424T161452Z
DTSTART;VALUE=DATE:20191217
SUMMARY:SIGMETRICS 2019 Notification Due
DESCRIPTION:ACM SIGMETRICS / IFIP PERFORMANCE 2019
URL:http://www.wikicfp.com/cfp/servlet/event.showcfp?eventid=81716&copyow
 nerid=51918
UID:cfp781440-N@wikicfp.com
END:VEVENT
END:VCALENDAR
