BEGIN:VCALENDAR
PRODID:-//WikiCFP//masoume 1.0//EN
VERSION:2.0
CALSCALE:GREGORIAN
BEGIN:VEVENT
DTSTAMP:20260424T110042Z
DTSTART;VALUE=DATE:20100117
DTEND;VALUE=DATE:20100120
SUMMARY:SODA 2010
DESCRIPTION:ACM-SIAM Symposium on Discrete Algorithms
URL:http://www.wikicfp.com/cfp/servlet/event.showcfp?eventid=5433&copyown
 erid=5141
UID:cfp39858-E@wikicfp.com
END:VEVENT
BEGIN:VEVENT
DTSTAMP:20260424T110042Z
DTSTART;VALUE=DATE:20090629
SUMMARY:SODA 2010 Abstract Due
DESCRIPTION:ACM-SIAM Symposium on Discrete Algorithms
URL:http://www.wikicfp.com/cfp/servlet/event.showcfp?eventid=5433&copyown
 erid=5141
UID:cfp39858-A@wikicfp.com
END:VEVENT
BEGIN:VEVENT
DTSTAMP:20260424T110042Z
DTSTART;VALUE=DATE:20090706
SUMMARY:SODA 2010 Deadline
DESCRIPTION:ACM-SIAM Symposium on Discrete Algorithms
URL:http://www.wikicfp.com/cfp/servlet/event.showcfp?eventid=5433&copyown
 erid=5141
UID:cfp39858-D@wikicfp.com
END:VEVENT
BEGIN:VEVENT
DTSTAMP:20260424T110042Z
DTSTART;VALUE=DATE:20091216
DTEND;VALUE=DATE:20091219
SUMMARY:ISAAC 2009
DESCRIPTION:20th Int'l Symposium on Algorithms and Computation
URL:http://www.wikicfp.com/cfp/servlet/event.showcfp?eventid=4710&copyown
 erid=5141
UID:cfp39857-E@wikicfp.com
END:VEVENT
BEGIN:VEVENT
DTSTAMP:20260424T110042Z
DTSTART;VALUE=DATE:20090712
SUMMARY:ISAAC 2009 Deadline
DESCRIPTION:20th Int'l Symposium on Algorithms and Computation
URL:http://www.wikicfp.com/cfp/servlet/event.showcfp?eventid=4710&copyown
 erid=5141
UID:cfp39857-D@wikicfp.com
END:VEVENT
BEGIN:VEVENT
DTSTAMP:20260424T110042Z
DTSTART;VALUE=DATE:20090830
SUMMARY:ISAAC 2009 Notification Due
DESCRIPTION:20th Int'l Symposium on Algorithms and Computation
URL:http://www.wikicfp.com/cfp/servlet/event.showcfp?eventid=4710&copyown
 erid=5141
UID:cfp39857-N@wikicfp.com
END:VEVENT
BEGIN:VEVENT
DTSTAMP:20260424T110042Z
DTSTART;VALUE=DATE:20090915
SUMMARY:ISAAC 2009 Final Version Due
DESCRIPTION:20th Int'l Symposium on Algorithms and Computation
URL:http://www.wikicfp.com/cfp/servlet/event.showcfp?eventid=4710&copyown
 erid=5141
UID:cfp39857-N@wikicfp.com
END:VEVENT
BEGIN:VEVENT
DTSTAMP:20260424T110042Z
DTSTART;VALUE=DATE:20100118
DTEND;VALUE=DATE:20100122
SUMMARY:CATS 2010
DESCRIPTION:Computing: The Australasian Theory Symposium
URL:http://www.wikicfp.com/cfp/servlet/event.showcfp?eventid=5694&copyown
 erid=5141
UID:cfp39859-E@wikicfp.com
END:VEVENT
BEGIN:VEVENT
DTSTAMP:20260424T110042Z
DTSTART;VALUE=DATE:20090824
SUMMARY:CATS 2010 Deadline
DESCRIPTION:Computing: The Australasian Theory Symposium
URL:http://www.wikicfp.com/cfp/servlet/event.showcfp?eventid=5694&copyown
 erid=5141
UID:cfp39859-D@wikicfp.com
END:VEVENT
BEGIN:VEVENT
DTSTAMP:20260424T110042Z
DTSTART;VALUE=DATE:20091005
SUMMARY:CATS 2010 Notification Due
DESCRIPTION:Computing: The Australasian Theory Symposium
URL:http://www.wikicfp.com/cfp/servlet/event.showcfp?eventid=5694&copyown
 erid=5141
UID:cfp39859-N@wikicfp.com
END:VEVENT
BEGIN:VEVENT
DTSTAMP:20260424T110042Z
DTSTART;VALUE=DATE:20091102
SUMMARY:CATS 2010 Final Version Due
DESCRIPTION:Computing: The Australasian Theory Symposium
URL:http://www.wikicfp.com/cfp/servlet/event.showcfp?eventid=5694&copyown
 erid=5141
UID:cfp39859-N@wikicfp.com
END:VEVENT
BEGIN:VEVENT
DTSTAMP:20260424T110042Z
DTSTART;VALUE=DATE:20100526
DTEND;VALUE=DATE:20100529
SUMMARY:CIAC 2010
DESCRIPTION:7th International Conference on Algorithms and Complexity
URL:http://www.wikicfp.com/cfp/servlet/event.showcfp?eventid=5759&copyown
 erid=5141
UID:cfp39860-E@wikicfp.com
END:VEVENT
BEGIN:VEVENT
DTSTAMP:20260424T110042Z
DTSTART;VALUE=DATE:20091211
SUMMARY:CIAC 2010 Deadline
DESCRIPTION:7th International Conference on Algorithms and Complexity
URL:http://www.wikicfp.com/cfp/servlet/event.showcfp?eventid=5759&copyown
 erid=5141
UID:cfp39860-D@wikicfp.com
END:VEVENT
BEGIN:VEVENT
DTSTAMP:20260424T110042Z
DTSTART;VALUE=DATE:20100213
SUMMARY:CIAC 2010 Notification Due
DESCRIPTION:7th International Conference on Algorithms and Complexity
URL:http://www.wikicfp.com/cfp/servlet/event.showcfp?eventid=5759&copyown
 erid=5141
UID:cfp39860-N@wikicfp.com
END:VEVENT
BEGIN:VEVENT
DTSTAMP:20260424T110042Z
DTSTART;VALUE=DATE:20100312
SUMMARY:CIAC 2010 Final Version Due
DESCRIPTION:7th International Conference on Algorithms and Complexity
URL:http://www.wikicfp.com/cfp/servlet/event.showcfp?eventid=5759&copyown
 erid=5141
UID:cfp39860-N@wikicfp.com
END:VEVENT
END:VCALENDAR
