BEGIN:VCALENDAR
PRODID:-//WikiCFP//nsabahat 1.0//EN
VERSION:2.0
CALSCALE:GREGORIAN
BEGIN:VEVENT
DTSTAMP:20260421T065417Z
DTSTART;VALUE=DATE:20100523
DTEND;VALUE=DATE:20100527
SUMMARY:EuSEC 2010
DESCRIPTION:7th bi-annual European Systems Engineering Conference
URL:http://www.wikicfp.com/cfp/servlet/event.showcfp?eventid=6996&copyown
 erid=5139
UID:cfp54323-E@wikicfp.com
END:VEVENT
BEGIN:VEVENT
DTSTAMP:20260421T065417Z
DTSTART;VALUE=DATE:20091207
SUMMARY:EuSEC 2010 Deadline
DESCRIPTION:7th bi-annual European Systems Engineering Conference
URL:http://www.wikicfp.com/cfp/servlet/event.showcfp?eventid=6996&copyown
 erid=5139
UID:cfp54323-D@wikicfp.com
END:VEVENT
BEGIN:VEVENT
DTSTAMP:20260421T065417Z
DTSTART;VALUE=DATE:20100308
SUMMARY:EuSEC 2010 Notification Due
DESCRIPTION:7th bi-annual European Systems Engineering Conference
URL:http://www.wikicfp.com/cfp/servlet/event.showcfp?eventid=6996&copyown
 erid=5139
UID:cfp54323-N@wikicfp.com
END:VEVENT
BEGIN:VEVENT
DTSTAMP:20260421T065417Z
DTSTART;VALUE=DATE:20100412
SUMMARY:EuSEC 2010 Final Version Due
DESCRIPTION:7th bi-annual European Systems Engineering Conference
URL:http://www.wikicfp.com/cfp/servlet/event.showcfp?eventid=6996&copyown
 erid=5139
UID:cfp54323-N@wikicfp.com
END:VEVENT
BEGIN:VEVENT
DTSTAMP:20260421T065417Z
DTSTART;VALUE=DATE:20100621
DTEND;VALUE=DATE:20100626
SUMMARY:ECOOP 2010
DESCRIPTION:24th European Conference on Object-Oriented Programming
URL:http://www.wikicfp.com/cfp/servlet/event.showcfp?eventid=6061&copyown
 erid=5139
UID:cfp54307-E@wikicfp.com
END:VEVENT
BEGIN:VEVENT
DTSTAMP:20260421T065417Z
DTSTART;VALUE=DATE:20091214
SUMMARY:ECOOP 2010 Deadline
DESCRIPTION:24th European Conference on Object-Oriented Programming
URL:http://www.wikicfp.com/cfp/servlet/event.showcfp?eventid=6061&copyown
 erid=5139
UID:cfp54307-D@wikicfp.com
END:VEVENT
BEGIN:VEVENT
DTSTAMP:20260421T065417Z
DTSTART;VALUE=DATE:20100301
SUMMARY:ECOOP 2010 Notification Due
DESCRIPTION:24th European Conference on Object-Oriented Programming
URL:http://www.wikicfp.com/cfp/servlet/event.showcfp?eventid=6061&copyown
 erid=5139
UID:cfp54307-N@wikicfp.com
END:VEVENT
BEGIN:VEVENT
DTSTAMP:20260421T065417Z
DTSTART;VALUE=DATE:20100412
SUMMARY:ECOOP 2010 Final Version Due
DESCRIPTION:24th European Conference on Object-Oriented Programming
URL:http://www.wikicfp.com/cfp/servlet/event.showcfp?eventid=6061&copyown
 erid=5139
UID:cfp54307-N@wikicfp.com
END:VEVENT
BEGIN:VEVENT
DTSTAMP:20260421T065417Z
DTSTART;VALUE=DATE:20091215
SUMMARY:MIS Review - Special Issue 2009 Deadline
DESCRIPTION:Knowledge and Software Engineering: A Seamless Interplay - A 
 special issue of the MIS Review: An International Journal (MISR) 
URL:http://www.wikicfp.com/cfp/servlet/event.showcfp?eventid=6185&copyown
 erid=5139
UID:cfp54309-D@wikicfp.com
END:VEVENT
BEGIN:VEVENT
DTSTAMP:20260421T065417Z
DTSTART;VALUE=DATE:20100215
SUMMARY:MIS Review - Special Issue 2009 Notification Due
DESCRIPTION:Knowledge and Software Engineering: A Seamless Interplay - A 
 special issue of the MIS Review: An International Journal (MISR) 
URL:http://www.wikicfp.com/cfp/servlet/event.showcfp?eventid=6185&copyown
 erid=5139
UID:cfp54309-N@wikicfp.com
END:VEVENT
BEGIN:VEVENT
DTSTAMP:20260421T065417Z
DTSTART;VALUE=DATE:20100327
DTEND;VALUE=DATE:20100329
SUMMARY:Bytecode  2010
DESCRIPTION:5th Workshop on Bytecode Semantics\, Verification\, Analysis 
 and Transformation 
URL:http://www.wikicfp.com/cfp/servlet/event.showcfp?eventid=6822&copyown
 erid=5139
UID:cfp54319-E@wikicfp.com
END:VEVENT
BEGIN:VEVENT
DTSTAMP:20260421T065417Z
DTSTART;VALUE=DATE:20091214
SUMMARY:Bytecode  2010 Abstract Due
DESCRIPTION:5th Workshop on Bytecode Semantics\, Verification\, Analysis 
 and Transformation 
URL:http://www.wikicfp.com/cfp/servlet/event.showcfp?eventid=6822&copyown
 erid=5139
UID:cfp54319-A@wikicfp.com
END:VEVENT
BEGIN:VEVENT
DTSTAMP:20260421T065417Z
DTSTART;VALUE=DATE:20091221
SUMMARY:Bytecode  2010 Deadline
DESCRIPTION:5th Workshop on Bytecode Semantics\, Verification\, Analysis 
 and Transformation 
URL:http://www.wikicfp.com/cfp/servlet/event.showcfp?eventid=6822&copyown
 erid=5139
UID:cfp54319-D@wikicfp.com
END:VEVENT
BEGIN:VEVENT
DTSTAMP:20260421T065417Z
DTSTART;VALUE=DATE:20100122
SUMMARY:Bytecode  2010 Notification Due
DESCRIPTION:5th Workshop on Bytecode Semantics\, Verification\, Analysis 
 and Transformation 
URL:http://www.wikicfp.com/cfp/servlet/event.showcfp?eventid=6822&copyown
 erid=5139
UID:cfp54319-N@wikicfp.com
END:VEVENT
BEGIN:VEVENT
DTSTAMP:20260421T065417Z
DTSTART;VALUE=DATE:20090219
SUMMARY:Bytecode  2010 Final Version Due
DESCRIPTION:5th Workshop on Bytecode Semantics\, Verification\, Analysis 
 and Transformation 
URL:http://www.wikicfp.com/cfp/servlet/event.showcfp?eventid=6822&copyown
 erid=5139
UID:cfp54319-N@wikicfp.com
END:VEVENT
BEGIN:VEVENT
DTSTAMP:20260421T065417Z
DTSTART;VALUE=DATE:20100415
DTEND;VALUE=DATE:20100417
SUMMARY:SERENE 2010
DESCRIPTION:2nd International Workshop on  Software Engineering for Resil
 ient Systems
URL:http://www.wikicfp.com/cfp/servlet/event.showcfp?eventid=6981&copyown
 erid=5139
UID:cfp54322-E@wikicfp.com
END:VEVENT
BEGIN:VEVENT
DTSTAMP:20260421T065417Z
DTSTART;VALUE=DATE:20091221
SUMMARY:SERENE 2010 Deadline
DESCRIPTION:2nd International Workshop on  Software Engineering for Resil
 ient Systems
URL:http://www.wikicfp.com/cfp/servlet/event.showcfp?eventid=6981&copyown
 erid=5139
UID:cfp54322-D@wikicfp.com
END:VEVENT
BEGIN:VEVENT
DTSTAMP:20260421T065417Z
DTSTART;VALUE=DATE:20100215
SUMMARY:SERENE 2010 Notification Due
DESCRIPTION:2nd International Workshop on  Software Engineering for Resil
 ient Systems
URL:http://www.wikicfp.com/cfp/servlet/event.showcfp?eventid=6981&copyown
 erid=5139
UID:cfp54322-N@wikicfp.com
END:VEVENT
BEGIN:VEVENT
DTSTAMP:20260421T065417Z
DTSTART;VALUE=DATE:20100714
DTEND;VALUE=DATE:20100716
SUMMARY:QSIC 2010
DESCRIPTION:10th International Conference on Quality Software
URL:http://www.wikicfp.com/cfp/servlet/event.showcfp?eventid=6616&copyown
 erid=5139
UID:cfp54311-E@wikicfp.com
END:VEVENT
BEGIN:VEVENT
DTSTAMP:20260421T065417Z
DTSTART;VALUE=DATE:20100104
SUMMARY:QSIC 2010 Deadline
DESCRIPTION:10th International Conference on Quality Software
URL:http://www.wikicfp.com/cfp/servlet/event.showcfp?eventid=6616&copyown
 erid=5139
UID:cfp54311-D@wikicfp.com
END:VEVENT
BEGIN:VEVENT
DTSTAMP:20260421T065417Z
DTSTART;VALUE=DATE:20100310
SUMMARY:QSIC 2010 Notification Due
DESCRIPTION:10th International Conference on Quality Software
URL:http://www.wikicfp.com/cfp/servlet/event.showcfp?eventid=6616&copyown
 erid=5139
UID:cfp54311-N@wikicfp.com
END:VEVENT
BEGIN:VEVENT
DTSTAMP:20260421T065417Z
DTSTART;VALUE=DATE:20100505
SUMMARY:QSIC 2010 Final Version Due
DESCRIPTION:10th International Conference on Quality Software
URL:http://www.wikicfp.com/cfp/servlet/event.showcfp?eventid=6616&copyown
 erid=5139
UID:cfp54311-N@wikicfp.com
END:VEVENT
BEGIN:VEVENT
DTSTAMP:20260421T065417Z
DTSTART;VALUE=DATE:20100412
DTEND;VALUE=DATE:20100414
SUMMARY:EASE 2010
DESCRIPTION:14th International Conference on Evaluation & Assessment in S
 oftware Engineering
URL:http://www.wikicfp.com/cfp/servlet/event.showcfp?eventid=7014&copyown
 erid=5139
UID:cfp54325-E@wikicfp.com
END:VEVENT
BEGIN:VEVENT
DTSTAMP:20260421T065417Z
DTSTART;VALUE=DATE:20100104
SUMMARY:EASE 2010 Deadline
DESCRIPTION:14th International Conference on Evaluation & Assessment in S
 oftware Engineering
URL:http://www.wikicfp.com/cfp/servlet/event.showcfp?eventid=7014&copyown
 erid=5139
UID:cfp54325-D@wikicfp.com
END:VEVENT
BEGIN:VEVENT
DTSTAMP:20260421T065417Z
DTSTART;VALUE=DATE:20100628
DTEND;VALUE=DATE:20100703
SUMMARY:TOOLS EUROPE 2010
DESCRIPTION:48th International Conference Objects\, Models\, Components\,
  Patterns
URL:http://www.wikicfp.com/cfp/servlet/event.showcfp?eventid=6738&copyown
 erid=5139
UID:cfp54314-E@wikicfp.com
END:VEVENT
BEGIN:VEVENT
DTSTAMP:20260421T065417Z
DTSTART;VALUE=DATE:20100122
SUMMARY:TOOLS EUROPE 2010 Deadline
DESCRIPTION:48th International Conference Objects\, Models\, Components\,
  Patterns
URL:http://www.wikicfp.com/cfp/servlet/event.showcfp?eventid=6738&copyown
 erid=5139
UID:cfp54314-D@wikicfp.com
END:VEVENT
BEGIN:VEVENT
DTSTAMP:20260421T065417Z
DTSTART;VALUE=DATE:20100324
SUMMARY:TOOLS EUROPE 2010 Notification Due
DESCRIPTION:48th International Conference Objects\, Models\, Components\,
  Patterns
URL:http://www.wikicfp.com/cfp/servlet/event.showcfp?eventid=6738&copyown
 erid=5139
UID:cfp54314-N@wikicfp.com
END:VEVENT
BEGIN:VEVENT
DTSTAMP:20260421T065417Z
DTSTART;VALUE=DATE:20100405
SUMMARY:TOOLS EUROPE 2010 Final Version Due
DESCRIPTION:48th International Conference Objects\, Models\, Components\,
  Patterns
URL:http://www.wikicfp.com/cfp/servlet/event.showcfp?eventid=6738&copyown
 erid=5139
UID:cfp54314-N@wikicfp.com
END:VEVENT
BEGIN:VEVENT
DTSTAMP:20260421T065417Z
DTSTART;VALUE=DATE:20101027
DTEND;VALUE=DATE:20101030
SUMMARY:CSDM 2010
DESCRIPTION:Complex Systems Design & Management 2010
URL:http://www.wikicfp.com/cfp/servlet/event.showcfp?eventid=6788&copyown
 erid=5139
UID:cfp54316-E@wikicfp.com
END:VEVENT
BEGIN:VEVENT
DTSTAMP:20260421T065417Z
DTSTART;VALUE=DATE:20100122
SUMMARY:CSDM 2010 Deadline
DESCRIPTION:Complex Systems Design & Management 2010
URL:http://www.wikicfp.com/cfp/servlet/event.showcfp?eventid=6788&copyown
 erid=5139
UID:cfp54316-D@wikicfp.com
END:VEVENT
BEGIN:VEVENT
DTSTAMP:20260421T065417Z
DTSTART;VALUE=DATE:20100331
SUMMARY:CSDM 2010 Notification Due
DESCRIPTION:Complex Systems Design & Management 2010
URL:http://www.wikicfp.com/cfp/servlet/event.showcfp?eventid=6788&copyown
 erid=5139
UID:cfp54316-N@wikicfp.com
END:VEVENT
BEGIN:VEVENT
DTSTAMP:20260421T065417Z
DTSTART;VALUE=DATE:20100531
SUMMARY:CSDM 2010 Final Version Due
DESCRIPTION:Complex Systems Design & Management 2010
URL:http://www.wikicfp.com/cfp/servlet/event.showcfp?eventid=6788&copyown
 erid=5139
UID:cfp54316-N@wikicfp.com
END:VEVENT
BEGIN:VEVENT
DTSTAMP:20260421T065417Z
DTSTART;VALUE=DATE:20100614
DTEND;VALUE=DATE:20100616
SUMMARY:HotPar 2010
DESCRIPTION:2nd USENIX Workshop on Hot Topics in Parallelism
URL:http://www.wikicfp.com/cfp/servlet/event.showcfp?eventid=6533&copyown
 erid=5139
UID:cfp54310-E@wikicfp.com
END:VEVENT
BEGIN:VEVENT
DTSTAMP:20260421T065417Z
DTSTART;VALUE=DATE:20100124
SUMMARY:HotPar 2010 Deadline
DESCRIPTION:2nd USENIX Workshop on Hot Topics in Parallelism
URL:http://www.wikicfp.com/cfp/servlet/event.showcfp?eventid=6533&copyown
 erid=5139
UID:cfp54310-D@wikicfp.com
END:VEVENT
BEGIN:VEVENT
DTSTAMP:20260421T065417Z
DTSTART;VALUE=DATE:20100427
SUMMARY:HotPar 2010 Final Version Due
DESCRIPTION:2nd USENIX Workshop on Hot Topics in Parallelism
URL:http://www.wikicfp.com/cfp/servlet/event.showcfp?eventid=6533&copyown
 erid=5139
UID:cfp54310-N@wikicfp.com
END:VEVENT
BEGIN:VEVENT
DTSTAMP:20260421T065417Z
DTSTART;VALUE=DATE:20100628
DTEND;VALUE=DATE:20100703
SUMMARY:ICMT 2010
DESCRIPTION:INTERNATIONAL CONFERENCE ON MODEL TRANSFORMATION
URL:http://www.wikicfp.com/cfp/servlet/event.showcfp?eventid=6164&copyown
 erid=5139
UID:cfp54308-E@wikicfp.com
END:VEVENT
BEGIN:VEVENT
DTSTAMP:20260421T065417Z
DTSTART;VALUE=DATE:20100128
SUMMARY:ICMT 2010 Deadline
DESCRIPTION:INTERNATIONAL CONFERENCE ON MODEL TRANSFORMATION
URL:http://www.wikicfp.com/cfp/servlet/event.showcfp?eventid=6164&copyown
 erid=5139
UID:cfp54308-D@wikicfp.com
END:VEVENT
BEGIN:VEVENT
DTSTAMP:20260421T065417Z
DTSTART;VALUE=DATE:20100319
SUMMARY:ICMT 2010 Notification Due
DESCRIPTION:INTERNATIONAL CONFERENCE ON MODEL TRANSFORMATION
URL:http://www.wikicfp.com/cfp/servlet/event.showcfp?eventid=6164&copyown
 erid=5139
UID:cfp54308-N@wikicfp.com
END:VEVENT
BEGIN:VEVENT
DTSTAMP:20260421T065417Z
DTSTART;VALUE=DATE:20100405
SUMMARY:ICMT 2010 Final Version Due
DESCRIPTION:INTERNATIONAL CONFERENCE ON MODEL TRANSFORMATION
URL:http://www.wikicfp.com/cfp/servlet/event.showcfp?eventid=6164&copyown
 erid=5139
UID:cfp54308-N@wikicfp.com
END:VEVENT
BEGIN:VEVENT
DTSTAMP:20260421T065417Z
DTSTART;VALUE=DATE:20100628
DTEND;VALUE=DATE:20100703
SUMMARY:SC 2010
DESCRIPTION:9th International Conference on  Software Composition
URL:http://www.wikicfp.com/cfp/servlet/event.showcfp?eventid=6820&copyown
 erid=5139
UID:cfp54318-E@wikicfp.com
END:VEVENT
BEGIN:VEVENT
DTSTAMP:20260421T065417Z
DTSTART;VALUE=DATE:20100129
SUMMARY:SC 2010 Deadline
DESCRIPTION:9th International Conference on  Software Composition
URL:http://www.wikicfp.com/cfp/servlet/event.showcfp?eventid=6820&copyown
 erid=5139
UID:cfp54318-D@wikicfp.com
END:VEVENT
BEGIN:VEVENT
DTSTAMP:20260421T065417Z
DTSTART;VALUE=DATE:20100324
SUMMARY:SC 2010 Notification Due
DESCRIPTION:9th International Conference on  Software Composition
URL:http://www.wikicfp.com/cfp/servlet/event.showcfp?eventid=6820&copyown
 erid=5139
UID:cfp54318-N@wikicfp.com
END:VEVENT
BEGIN:VEVENT
DTSTAMP:20260421T065417Z
DTSTART;VALUE=DATE:20100421
SUMMARY:SC 2010 Final Version Due
DESCRIPTION:9th International Conference on  Software Composition
URL:http://www.wikicfp.com/cfp/servlet/event.showcfp?eventid=6820&copyown
 erid=5139
UID:cfp54318-N@wikicfp.com
END:VEVENT
BEGIN:VEVENT
DTSTAMP:20260421T065417Z
DTSTART;VALUE=DATE:20100605
DTEND;VALUE=DATE:20100607
SUMMARY:PASTE 2010
DESCRIPTION:9th ACM SIGPLAN-SIGSOFT Workshop on Program Analysis for Soft
 ware Tools and Engineering
URL:http://www.wikicfp.com/cfp/servlet/event.showcfp?eventid=6999&copyown
 erid=5139
UID:cfp54324-E@wikicfp.com
END:VEVENT
BEGIN:VEVENT
DTSTAMP:20260421T065417Z
DTSTART;VALUE=DATE:20100208
SUMMARY:PASTE 2010 Deadline
DESCRIPTION:9th ACM SIGPLAN-SIGSOFT Workshop on Program Analysis for Soft
 ware Tools and Engineering
URL:http://www.wikicfp.com/cfp/servlet/event.showcfp?eventid=6999&copyown
 erid=5139
UID:cfp54324-D@wikicfp.com
END:VEVENT
BEGIN:VEVENT
DTSTAMP:20260421T065417Z
DTSTART;VALUE=DATE:20100318
SUMMARY:PASTE 2010 Notification Due
DESCRIPTION:9th ACM SIGPLAN-SIGSOFT Workshop on Program Analysis for Soft
 ware Tools and Engineering
URL:http://www.wikicfp.com/cfp/servlet/event.showcfp?eventid=6999&copyown
 erid=5139
UID:cfp54324-N@wikicfp.com
END:VEVENT
BEGIN:VEVENT
DTSTAMP:20260421T065417Z
DTSTART;VALUE=DATE:20100406
SUMMARY:PASTE 2010 Final Version Due
DESCRIPTION:9th ACM SIGPLAN-SIGSOFT Workshop on Program Analysis for Soft
 ware Tools and Engineering
URL:http://www.wikicfp.com/cfp/servlet/event.showcfp?eventid=6999&copyown
 erid=5139
UID:cfp54324-N@wikicfp.com
END:VEVENT
BEGIN:VEVENT
DTSTAMP:20260421T065417Z
DTSTART;VALUE=DATE:20100927
DTEND;VALUE=DATE:20101002
SUMMARY:RE 2010
DESCRIPTION:The 18th International Requirements Engineering Conference
URL:http://www.wikicfp.com/cfp/servlet/event.showcfp?eventid=6800&copyown
 erid=5139
UID:cfp54317-E@wikicfp.com
END:VEVENT
BEGIN:VEVENT
DTSTAMP:20260421T065417Z
DTSTART;VALUE=DATE:20100212
SUMMARY:RE 2010 Abstract Due
DESCRIPTION:The 18th International Requirements Engineering Conference
URL:http://www.wikicfp.com/cfp/servlet/event.showcfp?eventid=6800&copyown
 erid=5139
UID:cfp54317-A@wikicfp.com
END:VEVENT
BEGIN:VEVENT
DTSTAMP:20260421T065417Z
DTSTART;VALUE=DATE:20100219
SUMMARY:RE 2010 Deadline
DESCRIPTION:The 18th International Requirements Engineering Conference
URL:http://www.wikicfp.com/cfp/servlet/event.showcfp?eventid=6800&copyown
 erid=5139
UID:cfp54317-D@wikicfp.com
END:VEVENT
BEGIN:VEVENT
DTSTAMP:20260421T065417Z
DTSTART;VALUE=DATE:20100429
SUMMARY:RE 2010 Notification Due
DESCRIPTION:The 18th International Requirements Engineering Conference
URL:http://www.wikicfp.com/cfp/servlet/event.showcfp?eventid=6800&copyown
 erid=5139
UID:cfp54317-N@wikicfp.com
END:VEVENT
BEGIN:VEVENT
DTSTAMP:20260421T065417Z
DTSTART;VALUE=DATE:20100913
DTEND;VALUE=DATE:20100918
SUMMARY:SPLC 2010
DESCRIPTION:14th International Software Product Line Conference
URL:http://www.wikicfp.com/cfp/servlet/event.showcfp?eventid=6879&copyown
 erid=5139
UID:cfp54320-E@wikicfp.com
END:VEVENT
BEGIN:VEVENT
DTSTAMP:20260421T065417Z
DTSTART;VALUE=DATE:20100228
SUMMARY:SPLC 2010 Deadline
DESCRIPTION:14th International Software Product Line Conference
URL:http://www.wikicfp.com/cfp/servlet/event.showcfp?eventid=6879&copyown
 erid=5139
UID:cfp54320-D@wikicfp.com
END:VEVENT
BEGIN:VEVENT
DTSTAMP:20260421T065417Z
DTSTART;VALUE=DATE:20100415
SUMMARY:SPLC 2010 Notification Due
DESCRIPTION:14th International Software Product Line Conference
URL:http://www.wikicfp.com/cfp/servlet/event.showcfp?eventid=6879&copyown
 erid=5139
UID:cfp54320-N@wikicfp.com
END:VEVENT
BEGIN:VEVENT
DTSTAMP:20260421T065417Z
DTSTART;VALUE=DATE:20100430
SUMMARY:SPLC 2010 Final Version Due
DESCRIPTION:14th International Software Product Line Conference
URL:http://www.wikicfp.com/cfp/servlet/event.showcfp?eventid=6879&copyown
 erid=5139
UID:cfp54320-N@wikicfp.com
END:VEVENT
BEGIN:VEVENT
DTSTAMP:20260421T065417Z
DTSTART;VALUE=DATE:20100712
DTEND;VALUE=DATE:20100716
SUMMARY:DEBS 2010
DESCRIPTION:The 4th ACM International Conference on Distributed Event-bas
 ed Systems
URL:http://www.wikicfp.com/cfp/servlet/event.showcfp?eventid=6758&copyown
 erid=5139
UID:cfp54315-E@wikicfp.com
END:VEVENT
BEGIN:VEVENT
DTSTAMP:20260421T065417Z
DTSTART;VALUE=DATE:20100222
SUMMARY:DEBS 2010 Abstract Due
DESCRIPTION:The 4th ACM International Conference on Distributed Event-bas
 ed Systems
URL:http://www.wikicfp.com/cfp/servlet/event.showcfp?eventid=6758&copyown
 erid=5139
UID:cfp54315-A@wikicfp.com
END:VEVENT
BEGIN:VEVENT
DTSTAMP:20260421T065417Z
DTSTART;VALUE=DATE:20100301
SUMMARY:DEBS 2010 Deadline
DESCRIPTION:The 4th ACM International Conference on Distributed Event-bas
 ed Systems
URL:http://www.wikicfp.com/cfp/servlet/event.showcfp?eventid=6758&copyown
 erid=5139
UID:cfp54315-D@wikicfp.com
END:VEVENT
BEGIN:VEVENT
DTSTAMP:20260421T065417Z
DTSTART;VALUE=DATE:20100426
SUMMARY:DEBS 2010 Notification Due
DESCRIPTION:The 4th ACM International Conference on Distributed Event-bas
 ed Systems
URL:http://www.wikicfp.com/cfp/servlet/event.showcfp?eventid=6758&copyown
 erid=5139
UID:cfp54315-N@wikicfp.com
END:VEVENT
BEGIN:VEVENT
DTSTAMP:20260421T065417Z
DTSTART;VALUE=DATE:20100916
DTEND;VALUE=DATE:20100918
SUMMARY:ESEM 2010
DESCRIPTION:4th International Symposium on Empirical Software Engineering
  and Measurement
URL:http://www.wikicfp.com/cfp/servlet/event.showcfp?eventid=7021&copyown
 erid=5139
UID:cfp54326-E@wikicfp.com
END:VEVENT
BEGIN:VEVENT
DTSTAMP:20260421T065417Z
DTSTART;VALUE=DATE:20100301
SUMMARY:ESEM 2010 Deadline
DESCRIPTION:4th International Symposium on Empirical Software Engineering
  and Measurement
URL:http://www.wikicfp.com/cfp/servlet/event.showcfp?eventid=7021&copyown
 erid=5139
UID:cfp54326-D@wikicfp.com
END:VEVENT
BEGIN:VEVENT
DTSTAMP:20260421T065417Z
DTSTART;VALUE=DATE:20100430
SUMMARY:ESEM 2010 Notification Due
DESCRIPTION:4th International Symposium on Empirical Software Engineering
  and Measurement
URL:http://www.wikicfp.com/cfp/servlet/event.showcfp?eventid=7021&copyown
 erid=5139
UID:cfp54326-N@wikicfp.com
END:VEVENT
BEGIN:VEVENT
DTSTAMP:20260421T065417Z
DTSTART;VALUE=DATE:20100701
DTEND;VALUE=DATE:20100704
SUMMARY:SEKE 2010
DESCRIPTION:22nd International Conference on Software Engineering  and Kn
 owledge Engineering
URL:http://www.wikicfp.com/cfp/servlet/event.showcfp?eventid=6732&copyown
 erid=5139
UID:cfp54313-E@wikicfp.com
END:VEVENT
BEGIN:VEVENT
DTSTAMP:20260421T065417Z
DTSTART;VALUE=DATE:20100302
SUMMARY:SEKE 2010 Deadline
DESCRIPTION:22nd International Conference on Software Engineering  and Kn
 owledge Engineering
URL:http://www.wikicfp.com/cfp/servlet/event.showcfp?eventid=6732&copyown
 erid=5139
UID:cfp54313-D@wikicfp.com
END:VEVENT
BEGIN:VEVENT
DTSTAMP:20260421T065417Z
DTSTART;VALUE=DATE:20100415
SUMMARY:SEKE 2010 Notification Due
DESCRIPTION:22nd International Conference on Software Engineering  and Kn
 owledge Engineering
URL:http://www.wikicfp.com/cfp/servlet/event.showcfp?eventid=6732&copyown
 erid=5139
UID:cfp54313-N@wikicfp.com
END:VEVENT
BEGIN:VEVENT
DTSTAMP:20260421T065417Z
DTSTART;VALUE=DATE:20100510
SUMMARY:SEKE 2010 Final Version Due
DESCRIPTION:22nd International Conference on Software Engineering  and Kn
 owledge Engineering
URL:http://www.wikicfp.com/cfp/servlet/event.showcfp?eventid=6732&copyown
 erid=5139
UID:cfp54313-N@wikicfp.com
END:VEVENT
BEGIN:VEVENT
DTSTAMP:20260421T065417Z
DTSTART;VALUE=DATE:20101109
DTEND;VALUE=DATE:20101112
SUMMARY:FSE 2010
DESCRIPTION:ACM SIGSOFT 18th International Symposium on the Foundations o
 f Software Engineering
URL:http://www.wikicfp.com/cfp/servlet/event.showcfp?eventid=6725&copyown
 erid=5139
UID:cfp54312-E@wikicfp.com
END:VEVENT
BEGIN:VEVENT
DTSTAMP:20260421T065417Z
DTSTART;VALUE=DATE:20100305
SUMMARY:FSE 2010 Deadline
DESCRIPTION:ACM SIGSOFT 18th International Symposium on the Foundations o
 f Software Engineering
URL:http://www.wikicfp.com/cfp/servlet/event.showcfp?eventid=6725&copyown
 erid=5139
UID:cfp54312-D@wikicfp.com
END:VEVENT
BEGIN:VEVENT
DTSTAMP:20260421T065417Z
DTSTART;VALUE=DATE:20100516
SUMMARY:FSE 2010 Notification Due
DESCRIPTION:ACM SIGSOFT 18th International Symposium on the Foundations o
 f Software Engineering
URL:http://www.wikicfp.com/cfp/servlet/event.showcfp?eventid=6725&copyown
 erid=5139
UID:cfp54312-N@wikicfp.com
END:VEVENT
BEGIN:VEVENT
DTSTAMP:20260421T065417Z
DTSTART;VALUE=DATE:20100627
SUMMARY:FSE 2010 Final Version Due
DESCRIPTION:ACM SIGSOFT 18th International Symposium on the Foundations o
 f Software Engineering
URL:http://www.wikicfp.com/cfp/servlet/event.showcfp?eventid=6725&copyown
 erid=5139
UID:cfp54312-N@wikicfp.com
END:VEVENT
BEGIN:VEVENT
DTSTAMP:20260421T065417Z
DTSTART;VALUE=DATE:20101025
DTEND;VALUE=DATE:20101030
SUMMARY:EDOC 2010
DESCRIPTION:Fourteenth IEEE International EDOC Conference
URL:http://www.wikicfp.com/cfp/servlet/event.showcfp?eventid=6933&copyown
 erid=5139
UID:cfp54321-E@wikicfp.com
END:VEVENT
BEGIN:VEVENT
DTSTAMP:20260421T065417Z
DTSTART;VALUE=DATE:20100310
SUMMARY:EDOC 2010 Abstract Due
DESCRIPTION:Fourteenth IEEE International EDOC Conference
URL:http://www.wikicfp.com/cfp/servlet/event.showcfp?eventid=6933&copyown
 erid=5139
UID:cfp54321-A@wikicfp.com
END:VEVENT
BEGIN:VEVENT
DTSTAMP:20260421T065417Z
DTSTART;VALUE=DATE:20100317
SUMMARY:EDOC 2010 Deadline
DESCRIPTION:Fourteenth IEEE International EDOC Conference
URL:http://www.wikicfp.com/cfp/servlet/event.showcfp?eventid=6933&copyown
 erid=5139
UID:cfp54321-D@wikicfp.com
END:VEVENT
BEGIN:VEVENT
DTSTAMP:20260421T065417Z
DTSTART;VALUE=DATE:20100528
SUMMARY:EDOC 2010 Notification Due
DESCRIPTION:Fourteenth IEEE International EDOC Conference
URL:http://www.wikicfp.com/cfp/servlet/event.showcfp?eventid=6933&copyown
 erid=5139
UID:cfp54321-N@wikicfp.com
END:VEVENT
BEGIN:VEVENT
DTSTAMP:20260421T065417Z
DTSTART;VALUE=DATE:20100616
SUMMARY:EDOC 2010 Final Version Due
DESCRIPTION:Fourteenth IEEE International EDOC Conference
URL:http://www.wikicfp.com/cfp/servlet/event.showcfp?eventid=6933&copyown
 erid=5139
UID:cfp54321-N@wikicfp.com
END:VEVENT
END:VCALENDAR
