BEGIN:VCALENDAR
PRODID:-//WikiCFP//hadia 1.0//EN
VERSION:2.0
CALSCALE:GREGORIAN
BEGIN:VEVENT
DTSTAMP:20260422T093118Z
DTSTART;VALUE=DATE:20131012
DTEND;VALUE=DATE:20131014
SUMMARY:ICDLE  2013
DESCRIPTION:2013 4th International Conference on Distance Learning and Ed
 ucation
URL:http://www.wikicfp.com/cfp/servlet/event.showcfp?eventid=30159&copyow
 nerid=50602
UID:cfp356089-E@wikicfp.com
END:VEVENT
BEGIN:VEVENT
DTSTAMP:20260422T093118Z
DTSTART;VALUE=DATE:20130725
SUMMARY:ICDLE  2013 Deadline
DESCRIPTION:2013 4th International Conference on Distance Learning and Ed
 ucation
URL:http://www.wikicfp.com/cfp/servlet/event.showcfp?eventid=30159&copyow
 nerid=50602
UID:cfp356089-D@wikicfp.com
END:VEVENT
BEGIN:VEVENT
DTSTAMP:20260422T093118Z
DTSTART;VALUE=DATE:20130815
SUMMARY:ICDLE  2013 Notification Due
DESCRIPTION:2013 4th International Conference on Distance Learning and Ed
 ucation
URL:http://www.wikicfp.com/cfp/servlet/event.showcfp?eventid=30159&copyow
 nerid=50602
UID:cfp356089-N@wikicfp.com
END:VEVENT
BEGIN:VEVENT
DTSTAMP:20260422T093118Z
DTSTART;VALUE=DATE:20130830
SUMMARY:ICDLE  2013 Final Version Due
DESCRIPTION:2013 4th International Conference on Distance Learning and Ed
 ucation
URL:http://www.wikicfp.com/cfp/servlet/event.showcfp?eventid=30159&copyow
 nerid=50602
UID:cfp356089-N@wikicfp.com
END:VEVENT
BEGIN:VEVENT
DTSTAMP:20260422T093118Z
DTSTART;VALUE=DATE:20131019
DTEND;VALUE=DATE:20131021
SUMMARY:ICHSC 2013
DESCRIPTION:2013 3rd International Conference on Humanities\, Society and
  Culture 
URL:http://www.wikicfp.com/cfp/servlet/event.showcfp?eventid=30389&copyow
 nerid=50602
UID:cfp356090-E@wikicfp.com
END:VEVENT
BEGIN:VEVENT
DTSTAMP:20260422T093118Z
DTSTART;VALUE=DATE:20130810
SUMMARY:ICHSC 2013 Deadline
DESCRIPTION:2013 3rd International Conference on Humanities\, Society and
  Culture 
URL:http://www.wikicfp.com/cfp/servlet/event.showcfp?eventid=30389&copyow
 nerid=50602
UID:cfp356090-D@wikicfp.com
END:VEVENT
BEGIN:VEVENT
DTSTAMP:20260422T093118Z
DTSTART;VALUE=DATE:20130830
SUMMARY:ICHSC 2013 Notification Due
DESCRIPTION:2013 3rd International Conference on Humanities\, Society and
  Culture 
URL:http://www.wikicfp.com/cfp/servlet/event.showcfp?eventid=30389&copyow
 nerid=50602
UID:cfp356090-N@wikicfp.com
END:VEVENT
BEGIN:VEVENT
DTSTAMP:20260422T093118Z
DTSTART;VALUE=DATE:20130915
SUMMARY:ICHSC 2013 Final Version Due
DESCRIPTION:2013 3rd International Conference on Humanities\, Society and
  Culture 
URL:http://www.wikicfp.com/cfp/servlet/event.showcfp?eventid=30389&copyow
 nerid=50602
UID:cfp356090-N@wikicfp.com
END:VEVENT
END:VCALENDAR
