BEGIN:VCALENDAR
PRODID:-//WikiCFP//my891008 1.0//EN
VERSION:2.0
CALSCALE:GREGORIAN
BEGIN:VEVENT
DTSTAMP:20260419T195916Z
DTSTART;VALUE=DATE:20131202
DTEND;VALUE=DATE:20131206
SUMMARY:SITIS -  2013
DESCRIPTION:IEEE-SITIS2013 : Track on Signal and Image Technologies (SIT)
 
URL:http://www.wikicfp.com/cfp/servlet/event.showcfp?eventid=32405&copyow
 nerid=50471
UID:cfp380823-E@wikicfp.com
END:VEVENT
BEGIN:VEVENT
DTSTAMP:20260419T195916Z
DTSTART;VALUE=DATE:20130908
SUMMARY:SITIS -  2013 Deadline
DESCRIPTION:IEEE-SITIS2013 : Track on Signal and Image Technologies (SIT)
 
URL:http://www.wikicfp.com/cfp/servlet/event.showcfp?eventid=32405&copyow
 nerid=50471
UID:cfp380823-D@wikicfp.com
END:VEVENT
BEGIN:VEVENT
DTSTAMP:20260419T195916Z
DTSTART;VALUE=DATE:20131006
SUMMARY:SITIS -  2013 Notification Due
DESCRIPTION:IEEE-SITIS2013 : Track on Signal and Image Technologies (SIT)
 
URL:http://www.wikicfp.com/cfp/servlet/event.showcfp?eventid=32405&copyow
 nerid=50471
UID:cfp380823-N@wikicfp.com
END:VEVENT
BEGIN:VEVENT
DTSTAMP:20260419T195916Z
DTSTART;VALUE=DATE:20131015
SUMMARY:SITIS -  2013 Final Version Due
DESCRIPTION:IEEE-SITIS2013 : Track on Signal and Image Technologies (SIT)
 
URL:http://www.wikicfp.com/cfp/servlet/event.showcfp?eventid=32405&copyow
 nerid=50471
UID:cfp380823-N@wikicfp.com
END:VEVENT
BEGIN:VEVENT
DTSTAMP:20260419T195916Z
DTSTART;VALUE=DATE:20131127
DTEND;VALUE=DATE:20131130
SUMMARY:IVCNZ 2013
DESCRIPTION:Image and Vision Computing New Zealand 2013
URL:http://www.wikicfp.com/cfp/servlet/event.showcfp?eventid=31611&copyow
 nerid=50471
UID:cfp380822-E@wikicfp.com
END:VEVENT
BEGIN:VEVENT
DTSTAMP:20260419T195916Z
DTSTART;VALUE=DATE:20130909
SUMMARY:IVCNZ 2013 Deadline
DESCRIPTION:Image and Vision Computing New Zealand 2013
URL:http://www.wikicfp.com/cfp/servlet/event.showcfp?eventid=31611&copyow
 nerid=50471
UID:cfp380822-D@wikicfp.com
END:VEVENT
BEGIN:VEVENT
DTSTAMP:20260419T195916Z
DTSTART;VALUE=DATE:20131014
SUMMARY:IVCNZ 2013 Notification Due
DESCRIPTION:Image and Vision Computing New Zealand 2013
URL:http://www.wikicfp.com/cfp/servlet/event.showcfp?eventid=31611&copyow
 nerid=50471
UID:cfp380822-N@wikicfp.com
END:VEVENT
BEGIN:VEVENT
DTSTAMP:20260419T195916Z
DTSTART;VALUE=DATE:20131104
SUMMARY:IVCNZ 2013 Final Version Due
DESCRIPTION:Image and Vision Computing New Zealand 2013
URL:http://www.wikicfp.com/cfp/servlet/event.showcfp?eventid=31611&copyow
 nerid=50471
UID:cfp380822-N@wikicfp.com
END:VEVENT
BEGIN:VEVENT
DTSTAMP:20260419T195916Z
DTSTART;VALUE=DATE:20140102
DTEND;VALUE=DATE:20140105
SUMMARY:SIP 2014
DESCRIPTION:The Third International Conference on Signal and Image Proces
 sing
URL:http://www.wikicfp.com/cfp/servlet/event.showcfp?eventid=31422&copyow
 nerid=50471
UID:cfp380824-E@wikicfp.com
END:VEVENT
BEGIN:VEVENT
DTSTAMP:20260419T195916Z
DTSTART;VALUE=DATE:20130920
SUMMARY:SIP 2014 Deadline
DESCRIPTION:The Third International Conference on Signal and Image Proces
 sing
URL:http://www.wikicfp.com/cfp/servlet/event.showcfp?eventid=31422&copyow
 nerid=50471
UID:cfp380824-D@wikicfp.com
END:VEVENT
BEGIN:VEVENT
DTSTAMP:20260419T195916Z
DTSTART;VALUE=DATE:20131025
SUMMARY:SIP 2014 Notification Due
DESCRIPTION:The Third International Conference on Signal and Image Proces
 sing
URL:http://www.wikicfp.com/cfp/servlet/event.showcfp?eventid=31422&copyow
 nerid=50471
UID:cfp380824-N@wikicfp.com
END:VEVENT
BEGIN:VEVENT
DTSTAMP:20260419T195916Z
DTSTART;VALUE=DATE:20131110
SUMMARY:SIP 2014 Final Version Due
DESCRIPTION:The Third International Conference on Signal and Image Proces
 sing
URL:http://www.wikicfp.com/cfp/servlet/event.showcfp?eventid=31422&copyow
 nerid=50471
UID:cfp380824-N@wikicfp.com
END:VEVENT
BEGIN:VEVENT
DTSTAMP:20260419T195916Z
DTSTART;VALUE=DATE:20131216
DTEND;VALUE=DATE:20131219
SUMMARY:CISP - BMEI'13 2013
DESCRIPTION:Special Session on Soft Computing for Medical Imaging
URL:http://www.wikicfp.com/cfp/servlet/event.showcfp?eventid=32213&copyow
 nerid=50471
UID:cfp379196-E@wikicfp.com
END:VEVENT
BEGIN:VEVENT
DTSTAMP:20260419T195916Z
DTSTART;VALUE=DATE:20130930
SUMMARY:CISP - BMEI'13 2013 Deadline
DESCRIPTION:Special Session on Soft Computing for Medical Imaging
URL:http://www.wikicfp.com/cfp/servlet/event.showcfp?eventid=32213&copyow
 nerid=50471
UID:cfp379196-D@wikicfp.com
END:VEVENT
BEGIN:VEVENT
DTSTAMP:20260419T195916Z
DTSTART;VALUE=DATE:20131030
SUMMARY:CISP - BMEI'13 2013 Notification Due
DESCRIPTION:Special Session on Soft Computing for Medical Imaging
URL:http://www.wikicfp.com/cfp/servlet/event.showcfp?eventid=32213&copyow
 nerid=50471
UID:cfp379196-N@wikicfp.com
END:VEVENT
BEGIN:VEVENT
DTSTAMP:20260419T195916Z
DTSTART;VALUE=DATE:20131115
SUMMARY:CISP - BMEI'13 2013 Final Version Due
DESCRIPTION:Special Session on Soft Computing for Medical Imaging
URL:http://www.wikicfp.com/cfp/servlet/event.showcfp?eventid=32213&copyow
 nerid=50471
UID:cfp379196-N@wikicfp.com
END:VEVENT
BEGIN:VEVENT
DTSTAMP:20260419T195916Z
DTSTART;VALUE=DATE:20140310
DTEND;VALUE=DATE:20140313
SUMMARY:ICA2IT 2014
DESCRIPTION:International Conference on Artificial Intelligence and Infor
 mation Technology 2014
URL:http://www.wikicfp.com/cfp/servlet/event.showcfp?eventid=31960&copyow
 nerid=50471
UID:cfp380821-E@wikicfp.com
END:VEVENT
BEGIN:VEVENT
DTSTAMP:20260419T195916Z
DTSTART;VALUE=DATE:20131015
SUMMARY:ICA2IT 2014 Deadline
DESCRIPTION:International Conference on Artificial Intelligence and Infor
 mation Technology 2014
URL:http://www.wikicfp.com/cfp/servlet/event.showcfp?eventid=31960&copyow
 nerid=50471
UID:cfp380821-D@wikicfp.com
END:VEVENT
BEGIN:VEVENT
DTSTAMP:20260419T195916Z
DTSTART;VALUE=DATE:20131130
SUMMARY:ICA2IT 2014 Notification Due
DESCRIPTION:International Conference on Artificial Intelligence and Infor
 mation Technology 2014
URL:http://www.wikicfp.com/cfp/servlet/event.showcfp?eventid=31960&copyow
 nerid=50471
UID:cfp380821-N@wikicfp.com
END:VEVENT
BEGIN:VEVENT
DTSTAMP:20260419T195916Z
DTSTART;VALUE=DATE:20131215
SUMMARY:ICA2IT 2014 Final Version Due
DESCRIPTION:International Conference on Artificial Intelligence and Infor
 mation Technology 2014
URL:http://www.wikicfp.com/cfp/servlet/event.showcfp?eventid=31960&copyow
 nerid=50471
UID:cfp380821-N@wikicfp.com
END:VEVENT
BEGIN:VEVENT
DTSTAMP:20260419T195916Z
DTSTART;VALUE=DATE:20140221
DTEND;VALUE=DATE:20140223
SUMMARY:SIPP 2014
DESCRIPTION:Second International Conference on Signal\, Image Processing 
 and Pattern Recognition
URL:http://www.wikicfp.com/cfp/servlet/event.showcfp?eventid=32133&copyow
 nerid=50471
UID:cfp380820-E@wikicfp.com
END:VEVENT
BEGIN:VEVENT
DTSTAMP:20260419T195916Z
DTSTART;VALUE=DATE:20131125
SUMMARY:SIPP 2014 Deadline
DESCRIPTION:Second International Conference on Signal\, Image Processing 
 and Pattern Recognition
URL:http://www.wikicfp.com/cfp/servlet/event.showcfp?eventid=32133&copyow
 nerid=50471
UID:cfp380820-D@wikicfp.com
END:VEVENT
BEGIN:VEVENT
DTSTAMP:20260419T195916Z
DTSTART;VALUE=DATE:20131225
SUMMARY:SIPP 2014 Notification Due
DESCRIPTION:Second International Conference on Signal\, Image Processing 
 and Pattern Recognition
URL:http://www.wikicfp.com/cfp/servlet/event.showcfp?eventid=32133&copyow
 nerid=50471
UID:cfp380820-N@wikicfp.com
END:VEVENT
BEGIN:VEVENT
DTSTAMP:20260419T195916Z
DTSTART;VALUE=DATE:20140101
SUMMARY:SIPP 2014 Final Version Due
DESCRIPTION:Second International Conference on Signal\, Image Processing 
 and Pattern Recognition
URL:http://www.wikicfp.com/cfp/servlet/event.showcfp?eventid=32133&copyow
 nerid=50471
UID:cfp380820-N@wikicfp.com
END:VEVENT
BEGIN:VEVENT
DTSTAMP:20260419T195916Z
DTSTART;VALUE=DATE:20140324
DTEND;VALUE=DATE:20140327
SUMMARY:WACV 2014
DESCRIPTION:IEEE Winter Application and Computer Vision Conference
URL:http://www.wikicfp.com/cfp/servlet/event.showcfp?eventid=31213&copyow
 nerid=50471
UID:cfp379195-E@wikicfp.com
END:VEVENT
BEGIN:VEVENT
DTSTAMP:20260419T195916Z
DTSTART;VALUE=DATE:20131210
SUMMARY:WACV 2014 Deadline
DESCRIPTION:IEEE Winter Application and Computer Vision Conference
URL:http://www.wikicfp.com/cfp/servlet/event.showcfp?eventid=31213&copyow
 nerid=50471
UID:cfp379195-D@wikicfp.com
END:VEVENT
BEGIN:VEVENT
DTSTAMP:20260419T195916Z
DTSTART;VALUE=DATE:20140130
SUMMARY:WACV 2014 Notification Due
DESCRIPTION:IEEE Winter Application and Computer Vision Conference
URL:http://www.wikicfp.com/cfp/servlet/event.showcfp?eventid=31213&copyow
 nerid=50471
UID:cfp379195-N@wikicfp.com
END:VEVENT
BEGIN:VEVENT
DTSTAMP:20260419T195916Z
DTSTART;VALUE=DATE:20140214
SUMMARY:WACV 2014 Final Version Due
DESCRIPTION:IEEE Winter Application and Computer Vision Conference
URL:http://www.wikicfp.com/cfp/servlet/event.showcfp?eventid=31213&copyow
 nerid=50471
UID:cfp379195-N@wikicfp.com
END:VEVENT
BEGIN:VEVENT
DTSTAMP:20260419T195916Z
DTSTART;VALUE=DATE:20141027
DTEND;VALUE=DATE:20141031
SUMMARY:ICIP 2014
DESCRIPTION:IEEE International Conference on Image Processing
URL:http://www.wikicfp.com/cfp/servlet/event.showcfp?eventid=31610&copyow
 nerid=50471
UID:cfp380819-E@wikicfp.com
END:VEVENT
BEGIN:VEVENT
DTSTAMP:20260419T195916Z
DTSTART;VALUE=DATE:20140214
SUMMARY:ICIP 2014 Deadline
DESCRIPTION:IEEE International Conference on Image Processing
URL:http://www.wikicfp.com/cfp/servlet/event.showcfp?eventid=31610&copyow
 nerid=50471
UID:cfp380819-D@wikicfp.com
END:VEVENT
BEGIN:VEVENT
DTSTAMP:20260419T195916Z
DTSTART;VALUE=DATE:20140430
SUMMARY:ICIP 2014 Notification Due
DESCRIPTION:IEEE International Conference on Image Processing
URL:http://www.wikicfp.com/cfp/servlet/event.showcfp?eventid=31610&copyow
 nerid=50471
UID:cfp380819-N@wikicfp.com
END:VEVENT
BEGIN:VEVENT
DTSTAMP:20260419T195916Z
DTSTART;VALUE=DATE:20140515
SUMMARY:ICIP 2014 Final Version Due
DESCRIPTION:IEEE International Conference on Image Processing
URL:http://www.wikicfp.com/cfp/servlet/event.showcfp?eventid=31610&copyow
 nerid=50471
UID:cfp380819-N@wikicfp.com
END:VEVENT
BEGIN:VEVENT
DTSTAMP:20260419T195916Z
DTSTART;VALUE=DATE:20140711
DTEND;VALUE=DATE:20140714
SUMMARY:ICCCNT  2014
DESCRIPTION:5th International Conference on Computing Communications and 
 Networking Technologies 
URL:http://www.wikicfp.com/cfp/servlet/event.showcfp?eventid=32271&copyow
 nerid=50471
UID:cfp380818-E@wikicfp.com
END:VEVENT
BEGIN:VEVENT
DTSTAMP:20260419T195916Z
DTSTART;VALUE=DATE:20140430
SUMMARY:ICCCNT  2014 Deadline
DESCRIPTION:5th International Conference on Computing Communications and 
 Networking Technologies 
URL:http://www.wikicfp.com/cfp/servlet/event.showcfp?eventid=32271&copyow
 nerid=50471
UID:cfp380818-D@wikicfp.com
END:VEVENT
BEGIN:VEVENT
DTSTAMP:20260419T195916Z
DTSTART;VALUE=DATE:20140515
SUMMARY:ICCCNT  2014 Notification Due
DESCRIPTION:5th International Conference on Computing Communications and 
 Networking Technologies 
URL:http://www.wikicfp.com/cfp/servlet/event.showcfp?eventid=32271&copyow
 nerid=50471
UID:cfp380818-N@wikicfp.com
END:VEVENT
BEGIN:VEVENT
DTSTAMP:20260419T195916Z
DTSTART;VALUE=DATE:20140522
SUMMARY:ICCCNT  2014 Final Version Due
DESCRIPTION:5th International Conference on Computing Communications and 
 Networking Technologies 
URL:http://www.wikicfp.com/cfp/servlet/event.showcfp?eventid=32271&copyow
 nerid=50471
UID:cfp380818-N@wikicfp.com
END:VEVENT
END:VCALENDAR
