BEGIN:VCALENDAR
PRODID:-//WikiCFP//Kouser 1.0//EN
VERSION:2.0
CALSCALE:GREGORIAN
BEGIN:VEVENT
DTSTAMP:20260422T192553Z
DTSTART;VALUE=DATE:20131208
DTEND;VALUE=DATE:20131212
SUMMARY:ICDM 2013
DESCRIPTION:IEEE International Conference on Data Mining 
URL:http://www.wikicfp.com/cfp/servlet/event.showcfp?eventid=28503&copyow
 nerid=50452
UID:cfp355066-E@wikicfp.com
END:VEVENT
BEGIN:VEVENT
DTSTAMP:20260422T192553Z
DTSTART;VALUE=DATE:20130621
SUMMARY:ICDM 2013 Deadline
DESCRIPTION:IEEE International Conference on Data Mining 
URL:http://www.wikicfp.com/cfp/servlet/event.showcfp?eventid=28503&copyow
 nerid=50452
UID:cfp355066-D@wikicfp.com
END:VEVENT
BEGIN:VEVENT
DTSTAMP:20260422T192553Z
DTSTART;VALUE=DATE:20130920
SUMMARY:ICDM 2013 Notification Due
DESCRIPTION:IEEE International Conference on Data Mining 
URL:http://www.wikicfp.com/cfp/servlet/event.showcfp?eventid=28503&copyow
 nerid=50452
UID:cfp355066-N@wikicfp.com
END:VEVENT
BEGIN:VEVENT
DTSTAMP:20260422T192553Z
DTSTART;VALUE=DATE:20130928
DTEND;VALUE=DATE:20130930
SUMMARY:ICACSIS 2013
DESCRIPTION:2013 International Conference on Advanced Computer Science an
 d Information Systems
URL:http://www.wikicfp.com/cfp/servlet/event.showcfp?eventid=30375&copyow
 nerid=50452
UID:cfp355065-E@wikicfp.com
END:VEVENT
BEGIN:VEVENT
DTSTAMP:20260422T192553Z
DTSTART;VALUE=DATE:20130630
SUMMARY:ICACSIS 2013 Deadline
DESCRIPTION:2013 International Conference on Advanced Computer Science an
 d Information Systems
URL:http://www.wikicfp.com/cfp/servlet/event.showcfp?eventid=30375&copyow
 nerid=50452
UID:cfp355065-D@wikicfp.com
END:VEVENT
BEGIN:VEVENT
DTSTAMP:20260422T192553Z
DTSTART;VALUE=DATE:20130814
SUMMARY:ICACSIS 2013 Notification Due
DESCRIPTION:2013 International Conference on Advanced Computer Science an
 d Information Systems
URL:http://www.wikicfp.com/cfp/servlet/event.showcfp?eventid=30375&copyow
 nerid=50452
UID:cfp355065-N@wikicfp.com
END:VEVENT
BEGIN:VEVENT
DTSTAMP:20260422T192553Z
DTSTART;VALUE=DATE:20130915
SUMMARY:ICACSIS 2013 Final Version Due
DESCRIPTION:2013 International Conference on Advanced Computer Science an
 d Information Systems
URL:http://www.wikicfp.com/cfp/servlet/event.showcfp?eventid=30375&copyow
 nerid=50452
UID:cfp355065-N@wikicfp.com
END:VEVENT
END:VCALENDAR
