BEGIN:VCALENDAR
PRODID:-//WikiCFP//ramakumar 1.0//EN
VERSION:2.0
CALSCALE:GREGORIAN
BEGIN:VEVENT
DTSTAMP:20260425T182733Z
DTSTART;VALUE=DATE:20130502
DTEND;VALUE=DATE:20130505
SUMMARY:SDM 2013
DESCRIPTION:SIAM International Conference on Data Mining
URL:http://www.wikicfp.com/cfp/servlet/event.showcfp?eventid=25392&copyow
 nerid=49510
UID:cfp363665-E@wikicfp.com
END:VEVENT
BEGIN:VEVENT
DTSTAMP:20260425T182733Z
DTSTART;VALUE=DATE:20121015
SUMMARY:SDM 2013 Deadline
DESCRIPTION:SIAM International Conference on Data Mining
URL:http://www.wikicfp.com/cfp/servlet/event.showcfp?eventid=25392&copyow
 nerid=49510
UID:cfp363665-D@wikicfp.com
END:VEVENT
BEGIN:VEVENT
DTSTAMP:20260425T182733Z
DTSTART;VALUE=DATE:20121220
SUMMARY:SDM 2013 Notification Due
DESCRIPTION:SIAM International Conference on Data Mining
URL:http://www.wikicfp.com/cfp/servlet/event.showcfp?eventid=25392&copyow
 nerid=49510
UID:cfp363665-N@wikicfp.com
END:VEVENT
BEGIN:VEVENT
DTSTAMP:20260425T182733Z
DTSTART;VALUE=DATE:20130125
SUMMARY:SDM 2013 Final Version Due
DESCRIPTION:SIAM International Conference on Data Mining
URL:http://www.wikicfp.com/cfp/servlet/event.showcfp?eventid=25392&copyow
 nerid=49510
UID:cfp363665-N@wikicfp.com
END:VEVENT
BEGIN:VEVENT
DTSTAMP:20260425T182733Z
DTSTART;VALUE=DATE:20130315
SUMMARY:FGCS Special Issue 2013 Deadline
DESCRIPTION:Future Generation Computer Systems (FGCS) Special Issue on Be
 havior Data Security Issues in Network Information Propagation
URL:http://www.wikicfp.com/cfp/servlet/event.showcfp?eventid=28026&copyow
 nerid=49510
UID:cfp353522-D@wikicfp.com
END:VEVENT
BEGIN:VEVENT
DTSTAMP:20260425T182733Z
DTSTART;VALUE=DATE:20130615
SUMMARY:FGCS Special Issue 2013 Notification Due
DESCRIPTION:Future Generation Computer Systems (FGCS) Special Issue on Be
 havior Data Security Issues in Network Information Propagation
URL:http://www.wikicfp.com/cfp/servlet/event.showcfp?eventid=28026&copyow
 nerid=49510
UID:cfp353522-N@wikicfp.com
END:VEVENT
BEGIN:VEVENT
DTSTAMP:20260425T182733Z
DTSTART;VALUE=DATE:20130930
SUMMARY:FGCS Special Issue 2013 Final Version Due
DESCRIPTION:Future Generation Computer Systems (FGCS) Special Issue on Be
 havior Data Security Issues in Network Information Propagation
URL:http://www.wikicfp.com/cfp/servlet/event.showcfp?eventid=28026&copyow
 nerid=49510
UID:cfp353522-N@wikicfp.com
END:VEVENT
BEGIN:VEVENT
DTSTAMP:20260425T182733Z
DTSTART;VALUE=DATE:20130825
DTEND;VALUE=DATE:20130829
SUMMARY:ASONAM 2013
DESCRIPTION:The 2013 IEEE/ACM International Conference on Advances in Soc
 ial Networks Analysis and Mining
URL:http://www.wikicfp.com/cfp/servlet/event.showcfp?eventid=26725&copyow
 nerid=49510
UID:cfp353517-E@wikicfp.com
END:VEVENT
BEGIN:VEVENT
DTSTAMP:20260425T182733Z
DTSTART;VALUE=DATE:20130408
SUMMARY:ASONAM 2013 Abstract Due
DESCRIPTION:The 2013 IEEE/ACM International Conference on Advances in Soc
 ial Networks Analysis and Mining
URL:http://www.wikicfp.com/cfp/servlet/event.showcfp?eventid=26725&copyow
 nerid=49510
UID:cfp353517-A@wikicfp.com
END:VEVENT
BEGIN:VEVENT
DTSTAMP:20260425T182733Z
DTSTART;VALUE=DATE:20130415
SUMMARY:ASONAM 2013 Deadline
DESCRIPTION:The 2013 IEEE/ACM International Conference on Advances in Soc
 ial Networks Analysis and Mining
URL:http://www.wikicfp.com/cfp/servlet/event.showcfp?eventid=26725&copyow
 nerid=49510
UID:cfp353517-D@wikicfp.com
END:VEVENT
BEGIN:VEVENT
DTSTAMP:20260425T182733Z
DTSTART;VALUE=DATE:20130520
SUMMARY:ASONAM 2013 Notification Due
DESCRIPTION:The 2013 IEEE/ACM International Conference on Advances in Soc
 ial Networks Analysis and Mining
URL:http://www.wikicfp.com/cfp/servlet/event.showcfp?eventid=26725&copyow
 nerid=49510
UID:cfp353517-N@wikicfp.com
END:VEVENT
BEGIN:VEVENT
DTSTAMP:20260425T182733Z
DTSTART;VALUE=DATE:20130531
SUMMARY:ASONAM 2013 Final Version Due
DESCRIPTION:The 2013 IEEE/ACM International Conference on Advances in Soc
 ial Networks Analysis and Mining
URL:http://www.wikicfp.com/cfp/servlet/event.showcfp?eventid=26725&copyow
 nerid=49510
UID:cfp353517-N@wikicfp.com
END:VEVENT
BEGIN:VEVENT
DTSTAMP:20260425T182733Z
DTSTART;VALUE=DATE:20130923
DTEND;VALUE=DATE:20130928
SUMMARY:ECML-PKDD 2013
DESCRIPTION:European Conference on Machine Learning and Principles and Pr
 actice of Knowledge Discovery in Databases
URL:http://www.wikicfp.com/cfp/servlet/event.showcfp?eventid=24751&copyow
 nerid=49510
UID:cfp348898-E@wikicfp.com
END:VEVENT
BEGIN:VEVENT
DTSTAMP:20260425T182733Z
DTSTART;VALUE=DATE:20130418
SUMMARY:ECML-PKDD 2013 Abstract Due
DESCRIPTION:European Conference on Machine Learning and Principles and Pr
 actice of Knowledge Discovery in Databases
URL:http://www.wikicfp.com/cfp/servlet/event.showcfp?eventid=24751&copyow
 nerid=49510
UID:cfp348898-A@wikicfp.com
END:VEVENT
BEGIN:VEVENT
DTSTAMP:20260425T182733Z
DTSTART;VALUE=DATE:20130422
SUMMARY:ECML-PKDD 2013 Deadline
DESCRIPTION:European Conference on Machine Learning and Principles and Pr
 actice of Knowledge Discovery in Databases
URL:http://www.wikicfp.com/cfp/servlet/event.showcfp?eventid=24751&copyow
 nerid=49510
UID:cfp348898-D@wikicfp.com
END:VEVENT
BEGIN:VEVENT
DTSTAMP:20260425T182733Z
DTSTART;VALUE=DATE:20130614
SUMMARY:ECML-PKDD 2013 Notification Due
DESCRIPTION:European Conference on Machine Learning and Principles and Pr
 actice of Knowledge Discovery in Databases
URL:http://www.wikicfp.com/cfp/servlet/event.showcfp?eventid=24751&copyow
 nerid=49510
UID:cfp348898-N@wikicfp.com
END:VEVENT
BEGIN:VEVENT
DTSTAMP:20260425T182733Z
DTSTART;VALUE=DATE:20130628
SUMMARY:ECML-PKDD 2013 Final Version Due
DESCRIPTION:European Conference on Machine Learning and Principles and Pr
 actice of Knowledge Discovery in Databases
URL:http://www.wikicfp.com/cfp/servlet/event.showcfp?eventid=24751&copyow
 nerid=49510
UID:cfp348898-N@wikicfp.com
END:VEVENT
BEGIN:VEVENT
DTSTAMP:20260425T182733Z
DTSTART;VALUE=DATE:20130720
DTEND;VALUE=DATE:20130722
SUMMARY:ICIKM 2013
DESCRIPTION:2013 2nd International Conference on Information and Knowledg
 e Management
URL:http://www.wikicfp.com/cfp/servlet/event.showcfp?eventid=28646&copyow
 nerid=49510
UID:cfp353470-E@wikicfp.com
END:VEVENT
BEGIN:VEVENT
DTSTAMP:20260425T182733Z
DTSTART;VALUE=DATE:20130510
SUMMARY:ICIKM 2013 Deadline
DESCRIPTION:2013 2nd International Conference on Information and Knowledg
 e Management
URL:http://www.wikicfp.com/cfp/servlet/event.showcfp?eventid=28646&copyow
 nerid=49510
UID:cfp353470-D@wikicfp.com
END:VEVENT
BEGIN:VEVENT
DTSTAMP:20260425T182733Z
DTSTART;VALUE=DATE:20130530
SUMMARY:ICIKM 2013 Notification Due
DESCRIPTION:2013 2nd International Conference on Information and Knowledg
 e Management
URL:http://www.wikicfp.com/cfp/servlet/event.showcfp?eventid=28646&copyow
 nerid=49510
UID:cfp353470-N@wikicfp.com
END:VEVENT
BEGIN:VEVENT
DTSTAMP:20260425T182733Z
DTSTART;VALUE=DATE:20130615
SUMMARY:ICIKM 2013 Final Version Due
DESCRIPTION:2013 2nd International Conference on Information and Knowledg
 e Management
URL:http://www.wikicfp.com/cfp/servlet/event.showcfp?eventid=28646&copyow
 nerid=49510
UID:cfp353470-N@wikicfp.com
END:VEVENT
BEGIN:VEVENT
DTSTAMP:20260425T182733Z
DTSTART;VALUE=DATE:20130827
DTEND;VALUE=DATE:20130831
SUMMARY:ASNA 2013
DESCRIPTION:Applications of Social Network Analysis
URL:http://www.wikicfp.com/cfp/servlet/event.showcfp?eventid=29318&copyow
 nerid=49510
UID:cfp353520-E@wikicfp.com
END:VEVENT
BEGIN:VEVENT
DTSTAMP:20260425T182733Z
DTSTART;VALUE=DATE:20130515
SUMMARY:ASNA 2013 Deadline
DESCRIPTION:Applications of Social Network Analysis
URL:http://www.wikicfp.com/cfp/servlet/event.showcfp?eventid=29318&copyow
 nerid=49510
UID:cfp353520-D@wikicfp.com
END:VEVENT
BEGIN:VEVENT
DTSTAMP:20260425T182733Z
DTSTART;VALUE=DATE:20130615
SUMMARY:ASNA 2013 Notification Due
DESCRIPTION:Applications of Social Network Analysis
URL:http://www.wikicfp.com/cfp/servlet/event.showcfp?eventid=29318&copyow
 nerid=49510
UID:cfp353520-N@wikicfp.com
END:VEVENT
BEGIN:VEVENT
DTSTAMP:20260425T182733Z
DTSTART;VALUE=DATE:20131027
DTEND;VALUE=DATE:20131102
SUMMARY:CIKM 2013
DESCRIPTION:ACM Conference of Information and Knowledge Management
URL:http://www.wikicfp.com/cfp/servlet/event.showcfp?eventid=25339&copyow
 nerid=49510
UID:cfp348901-E@wikicfp.com
END:VEVENT
BEGIN:VEVENT
DTSTAMP:20260425T182733Z
DTSTART;VALUE=DATE:20130510
SUMMARY:CIKM 2013 Abstract Due
DESCRIPTION:ACM Conference of Information and Knowledge Management
URL:http://www.wikicfp.com/cfp/servlet/event.showcfp?eventid=25339&copyow
 nerid=49510
UID:cfp348901-A@wikicfp.com
END:VEVENT
BEGIN:VEVENT
DTSTAMP:20260425T182733Z
DTSTART;VALUE=DATE:20130517
SUMMARY:CIKM 2013 Deadline
DESCRIPTION:ACM Conference of Information and Knowledge Management
URL:http://www.wikicfp.com/cfp/servlet/event.showcfp?eventid=25339&copyow
 nerid=49510
UID:cfp348901-D@wikicfp.com
END:VEVENT
BEGIN:VEVENT
DTSTAMP:20260425T182733Z
DTSTART;VALUE=DATE:20130715
SUMMARY:CIKM 2013 Notification Due
DESCRIPTION:ACM Conference of Information and Knowledge Management
URL:http://www.wikicfp.com/cfp/servlet/event.showcfp?eventid=25339&copyow
 nerid=49510
UID:cfp348901-N@wikicfp.com
END:VEVENT
BEGIN:VEVENT
DTSTAMP:20260425T182733Z
DTSTART;VALUE=DATE:20130811
SUMMARY:CIKM 2013 Final Version Due
DESCRIPTION:ACM Conference of Information and Knowledge Management
URL:http://www.wikicfp.com/cfp/servlet/event.showcfp?eventid=25339&copyow
 nerid=49510
UID:cfp348901-N@wikicfp.com
END:VEVENT
BEGIN:VEVENT
DTSTAMP:20260425T182733Z
DTSTART;VALUE=DATE:20131013
DTEND;VALUE=DATE:20131016
SUMMARY:WISE 2013
DESCRIPTION:The 14th International Conference on Web Information Systems 
 Engineering
URL:http://www.wikicfp.com/cfp/servlet/event.showcfp?eventid=27700&copyow
 nerid=49510
UID:cfp353472-E@wikicfp.com
END:VEVENT
BEGIN:VEVENT
DTSTAMP:20260425T182733Z
DTSTART;VALUE=DATE:20130522
SUMMARY:WISE 2013 Abstract Due
DESCRIPTION:The 14th International Conference on Web Information Systems 
 Engineering
URL:http://www.wikicfp.com/cfp/servlet/event.showcfp?eventid=27700&copyow
 nerid=49510
UID:cfp353472-A@wikicfp.com
END:VEVENT
BEGIN:VEVENT
DTSTAMP:20260425T182733Z
DTSTART;VALUE=DATE:20130522
SUMMARY:WISE 2013 Deadline
DESCRIPTION:The 14th International Conference on Web Information Systems 
 Engineering
URL:http://www.wikicfp.com/cfp/servlet/event.showcfp?eventid=27700&copyow
 nerid=49510
UID:cfp353472-D@wikicfp.com
END:VEVENT
BEGIN:VEVENT
DTSTAMP:20260425T182733Z
DTSTART;VALUE=DATE:20130811
DTEND;VALUE=DATE:20130812
SUMMARY:SNA-KDD 2013
DESCRIPTION:The 2013 SIGKDD Workshop on Social Network Mining and Analysi
 s
URL:http://www.wikicfp.com/cfp/servlet/event.showcfp?eventid=30337&copyow
 nerid=49510
UID:cfp353478-E@wikicfp.com
END:VEVENT
BEGIN:VEVENT
DTSTAMP:20260425T182733Z
DTSTART;VALUE=DATE:20130527
SUMMARY:SNA-KDD 2013 Deadline
DESCRIPTION:The 2013 SIGKDD Workshop on Social Network Mining and Analysi
 s
URL:http://www.wikicfp.com/cfp/servlet/event.showcfp?eventid=30337&copyow
 nerid=49510
UID:cfp353478-D@wikicfp.com
END:VEVENT
BEGIN:VEVENT
DTSTAMP:20260425T182733Z
DTSTART;VALUE=DATE:20130624
SUMMARY:SNA-KDD 2013 Notification Due
DESCRIPTION:The 2013 SIGKDD Workshop on Social Network Mining and Analysi
 s
URL:http://www.wikicfp.com/cfp/servlet/event.showcfp?eventid=30337&copyow
 nerid=49510
UID:cfp353478-N@wikicfp.com
END:VEVENT
BEGIN:VEVENT
DTSTAMP:20260425T182733Z
DTSTART;VALUE=DATE:20130708
SUMMARY:SNA-KDD 2013 Final Version Due
DESCRIPTION:The 2013 SIGKDD Workshop on Social Network Mining and Analysi
 s
URL:http://www.wikicfp.com/cfp/servlet/event.showcfp?eventid=30337&copyow
 nerid=49510
UID:cfp353478-N@wikicfp.com
END:VEVENT
BEGIN:VEVENT
DTSTAMP:20260425T182733Z
DTSTART;VALUE=DATE:20131205
DTEND;VALUE=DATE:20131211
SUMMARY:NIPS 2013
DESCRIPTION:Neural Information Processing Systems Conference
URL:http://www.wikicfp.com/cfp/servlet/event.showcfp?eventid=21361&copyow
 nerid=49510
UID:cfp351801-E@wikicfp.com
END:VEVENT
BEGIN:VEVENT
DTSTAMP:20260425T182733Z
DTSTART;VALUE=DATE:20130531
SUMMARY:NIPS 2013 Deadline
DESCRIPTION:Neural Information Processing Systems Conference
URL:http://www.wikicfp.com/cfp/servlet/event.showcfp?eventid=21361&copyow
 nerid=49510
UID:cfp351801-D@wikicfp.com
END:VEVENT
BEGIN:VEVENT
DTSTAMP:20260425T182733Z
DTSTART;VALUE=DATE:20130908
DTEND;VALUE=DATE:20130915
SUMMARY:SocialCom 2013
DESCRIPTION:International Conference on Social Computing
URL:http://www.wikicfp.com/cfp/servlet/event.showcfp?eventid=28024&copyow
 nerid=49510
UID:cfp353518-E@wikicfp.com
END:VEVENT
BEGIN:VEVENT
DTSTAMP:20260425T182733Z
DTSTART;VALUE=DATE:20130601
SUMMARY:SocialCom 2013 Deadline
DESCRIPTION:International Conference on Social Computing
URL:http://www.wikicfp.com/cfp/servlet/event.showcfp?eventid=28024&copyow
 nerid=49510
UID:cfp353518-D@wikicfp.com
END:VEVENT
BEGIN:VEVENT
DTSTAMP:20260425T182733Z
DTSTART;VALUE=DATE:20130715
SUMMARY:SocialCom 2013 Notification Due
DESCRIPTION:International Conference on Social Computing
URL:http://www.wikicfp.com/cfp/servlet/event.showcfp?eventid=28024&copyow
 nerid=49510
UID:cfp353518-N@wikicfp.com
END:VEVENT
BEGIN:VEVENT
DTSTAMP:20260425T182733Z
DTSTART;VALUE=DATE:20130815
SUMMARY:SocialCom 2013 Final Version Due
DESCRIPTION:International Conference on Social Computing
URL:http://www.wikicfp.com/cfp/servlet/event.showcfp?eventid=28024&copyow
 nerid=49510
UID:cfp353518-N@wikicfp.com
END:VEVENT
BEGIN:VEVENT
DTSTAMP:20260425T182733Z
DTSTART;VALUE=DATE:20131208
DTEND;VALUE=DATE:20131212
SUMMARY:ICDM 2013
DESCRIPTION:IEEE International Conference on Data Mining 
URL:http://www.wikicfp.com/cfp/servlet/event.showcfp?eventid=28503&copyow
 nerid=49510
UID:cfp353473-E@wikicfp.com
END:VEVENT
BEGIN:VEVENT
DTSTAMP:20260425T182733Z
DTSTART;VALUE=DATE:20130621
SUMMARY:ICDM 2013 Deadline
DESCRIPTION:IEEE International Conference on Data Mining 
URL:http://www.wikicfp.com/cfp/servlet/event.showcfp?eventid=28503&copyow
 nerid=49510
UID:cfp353473-D@wikicfp.com
END:VEVENT
BEGIN:VEVENT
DTSTAMP:20260425T182733Z
DTSTART;VALUE=DATE:20130920
SUMMARY:ICDM 2013 Notification Due
DESCRIPTION:IEEE International Conference on Data Mining 
URL:http://www.wikicfp.com/cfp/servlet/event.showcfp?eventid=28503&copyow
 nerid=49510
UID:cfp353473-N@wikicfp.com
END:VEVENT
BEGIN:VEVENT
DTSTAMP:20260425T182733Z
DTSTART;VALUE=DATE:20131007
DTEND;VALUE=DATE:20131009
SUMMARY:COSN 2013
DESCRIPTION:ACM Conference on Online Social Networks
URL:http://www.wikicfp.com/cfp/servlet/event.showcfp?eventid=29741&copyow
 nerid=49510
UID:cfp353519-E@wikicfp.com
END:VEVENT
BEGIN:VEVENT
DTSTAMP:20260425T182733Z
DTSTART;VALUE=DATE:20130621
SUMMARY:COSN 2013 Abstract Due
DESCRIPTION:ACM Conference on Online Social Networks
URL:http://www.wikicfp.com/cfp/servlet/event.showcfp?eventid=29741&copyow
 nerid=49510
UID:cfp353519-A@wikicfp.com
END:VEVENT
BEGIN:VEVENT
DTSTAMP:20260425T182733Z
DTSTART;VALUE=DATE:20130628
SUMMARY:COSN 2013 Deadline
DESCRIPTION:ACM Conference on Online Social Networks
URL:http://www.wikicfp.com/cfp/servlet/event.showcfp?eventid=29741&copyow
 nerid=49510
UID:cfp353519-D@wikicfp.com
END:VEVENT
BEGIN:VEVENT
DTSTAMP:20260425T182733Z
DTSTART;VALUE=DATE:20130731
SUMMARY:COSN 2013 Notification Due
DESCRIPTION:ACM Conference on Online Social Networks
URL:http://www.wikicfp.com/cfp/servlet/event.showcfp?eventid=29741&copyow
 nerid=49510
UID:cfp353519-N@wikicfp.com
END:VEVENT
BEGIN:VEVENT
DTSTAMP:20260425T182733Z
DTSTART;VALUE=DATE:20130902
SUMMARY:COSN 2013 Final Version Due
DESCRIPTION:ACM Conference on Online Social Networks
URL:http://www.wikicfp.com/cfp/servlet/event.showcfp?eventid=29741&copyow
 nerid=49510
UID:cfp353519-N@wikicfp.com
END:VEVENT
BEGIN:VEVENT
DTSTAMP:20260425T182733Z
DTSTART;VALUE=DATE:20131204
DTEND;VALUE=DATE:20131208
SUMMARY:ICMLA 2013
DESCRIPTION:IEEE International Conference on Machine Learning and Applica
 tions
URL:http://www.wikicfp.com/cfp/servlet/event.showcfp?eventid=28575&copyow
 nerid=49510
UID:cfp351800-E@wikicfp.com
END:VEVENT
BEGIN:VEVENT
DTSTAMP:20260425T182733Z
DTSTART;VALUE=DATE:20130722
SUMMARY:ICMLA 2013 Deadline
DESCRIPTION:IEEE International Conference on Machine Learning and Applica
 tions
URL:http://www.wikicfp.com/cfp/servlet/event.showcfp?eventid=28575&copyow
 nerid=49510
UID:cfp351800-D@wikicfp.com
END:VEVENT
BEGIN:VEVENT
DTSTAMP:20260425T182733Z
DTSTART;VALUE=DATE:20130910
SUMMARY:ICMLA 2013 Notification Due
DESCRIPTION:IEEE International Conference on Machine Learning and Applica
 tions
URL:http://www.wikicfp.com/cfp/servlet/event.showcfp?eventid=28575&copyow
 nerid=49510
UID:cfp351800-N@wikicfp.com
END:VEVENT
BEGIN:VEVENT
DTSTAMP:20260425T182733Z
DTSTART;VALUE=DATE:20131010
SUMMARY:ICMLA 2013 Final Version Due
DESCRIPTION:IEEE International Conference on Machine Learning and Applica
 tions
URL:http://www.wikicfp.com/cfp/servlet/event.showcfp?eventid=28575&copyow
 nerid=49510
UID:cfp351800-N@wikicfp.com
END:VEVENT
BEGIN:VEVENT
DTSTAMP:20260425T182733Z
DTSTART;VALUE=DATE:20131202
DTEND;VALUE=DATE:20131206
SUMMARY:Complex Networks 2013
DESCRIPTION:Complex Networks 2013 : International Workshop on Complex Net
 works and their Applications
URL:http://www.wikicfp.com/cfp/servlet/event.showcfp?eventid=30031&copyow
 nerid=49510
UID:cfp353477-E@wikicfp.com
END:VEVENT
BEGIN:VEVENT
DTSTAMP:20260425T182733Z
DTSTART;VALUE=DATE:20130923
SUMMARY:Complex Networks 2013 Deadline
DESCRIPTION:Complex Networks 2013 : International Workshop on Complex Net
 works and their Applications
URL:http://www.wikicfp.com/cfp/servlet/event.showcfp?eventid=30031&copyow
 nerid=49510
UID:cfp353477-D@wikicfp.com
END:VEVENT
BEGIN:VEVENT
DTSTAMP:20260425T182733Z
DTSTART;VALUE=DATE:20131019
SUMMARY:Complex Networks 2013 Notification Due
DESCRIPTION:Complex Networks 2013 : International Workshop on Complex Net
 works and their Applications
URL:http://www.wikicfp.com/cfp/servlet/event.showcfp?eventid=30031&copyow
 nerid=49510
UID:cfp353477-N@wikicfp.com
END:VEVENT
BEGIN:VEVENT
DTSTAMP:20260425T182733Z
DTSTART;VALUE=DATE:20131027
SUMMARY:Complex Networks 2013 Final Version Due
DESCRIPTION:Complex Networks 2013 : International Workshop on Complex Net
 works and their Applications
URL:http://www.wikicfp.com/cfp/servlet/event.showcfp?eventid=30031&copyow
 nerid=49510
UID:cfp353477-N@wikicfp.com
END:VEVENT
BEGIN:VEVENT
DTSTAMP:20260425T182733Z
DTSTART;VALUE=DATE:20140424
DTEND;VALUE=DATE:20140427
SUMMARY:SDM 2014
DESCRIPTION:SIAM International Conference on Data Mining
URL:http://www.wikicfp.com/cfp/servlet/event.showcfp?eventid=30997&copyow
 nerid=49510
UID:cfp372817-E@wikicfp.com
END:VEVENT
BEGIN:VEVENT
DTSTAMP:20260425T182733Z
DTSTART;VALUE=DATE:20131006
SUMMARY:SDM 2014 Abstract Due
DESCRIPTION:SIAM International Conference on Data Mining
URL:http://www.wikicfp.com/cfp/servlet/event.showcfp?eventid=30997&copyow
 nerid=49510
UID:cfp372817-A@wikicfp.com
END:VEVENT
BEGIN:VEVENT
DTSTAMP:20260425T182733Z
DTSTART;VALUE=DATE:20131013
SUMMARY:SDM 2014 Deadline
DESCRIPTION:SIAM International Conference on Data Mining
URL:http://www.wikicfp.com/cfp/servlet/event.showcfp?eventid=30997&copyow
 nerid=49510
UID:cfp372817-D@wikicfp.com
END:VEVENT
BEGIN:VEVENT
DTSTAMP:20260425T182733Z
DTSTART;VALUE=DATE:20130930
SUMMARY:New Generation Computing 2014 Abstract Due
DESCRIPTION: Special Issue on Propagation Phenomenon in Complex Networks:
  Theory and Practice
URL:http://www.wikicfp.com/cfp/servlet/event.showcfp?eventid=30330&copyow
 nerid=49510
UID:cfp353521-A@wikicfp.com
END:VEVENT
BEGIN:VEVENT
DTSTAMP:20260425T182733Z
DTSTART;VALUE=DATE:20131015
SUMMARY:New Generation Computing 2014 Deadline
DESCRIPTION: Special Issue on Propagation Phenomenon in Complex Networks:
  Theory and Practice
URL:http://www.wikicfp.com/cfp/servlet/event.showcfp?eventid=30330&copyow
 nerid=49510
UID:cfp353521-D@wikicfp.com
END:VEVENT
BEGIN:VEVENT
DTSTAMP:20260425T182733Z
DTSTART;VALUE=DATE:20131130
SUMMARY:New Generation Computing 2014 Notification Due
DESCRIPTION: Special Issue on Propagation Phenomenon in Complex Networks:
  Theory and Practice
URL:http://www.wikicfp.com/cfp/servlet/event.showcfp?eventid=30330&copyow
 nerid=49510
UID:cfp353521-N@wikicfp.com
END:VEVENT
BEGIN:VEVENT
DTSTAMP:20260425T182733Z
DTSTART;VALUE=DATE:20140331
SUMMARY:New Generation Computing 2014 Final Version Due
DESCRIPTION: Special Issue on Propagation Phenomenon in Complex Networks:
  Theory and Practice
URL:http://www.wikicfp.com/cfp/servlet/event.showcfp?eventid=30330&copyow
 nerid=49510
UID:cfp353521-N@wikicfp.com
END:VEVENT
BEGIN:VEVENT
DTSTAMP:20260425T182733Z
DTSTART;VALUE=DATE:20140710
DTEND;VALUE=DATE:20140712
SUMMARY:ECSM 2014
DESCRIPTION:The European Conference on Social Media
URL:http://www.wikicfp.com/cfp/servlet/event.showcfp?eventid=32937&copyow
 nerid=49510
UID:cfp400536-E@wikicfp.com
END:VEVENT
BEGIN:VEVENT
DTSTAMP:20260425T182733Z
DTSTART;VALUE=DATE:20131219
SUMMARY:ECSM 2014 Deadline
DESCRIPTION:The European Conference on Social Media
URL:http://www.wikicfp.com/cfp/servlet/event.showcfp?eventid=32937&copyow
 nerid=49510
UID:cfp400536-D@wikicfp.com
END:VEVENT
BEGIN:VEVENT
DTSTAMP:20260425T182733Z
DTSTART;VALUE=DATE:00140515
SUMMARY:ECSM 2014 Final Version Due
DESCRIPTION:The European Conference on Social Media
URL:http://www.wikicfp.com/cfp/servlet/event.showcfp?eventid=32937&copyow
 nerid=49510
UID:cfp400536-N@wikicfp.com
END:VEVENT
BEGIN:VEVENT
DTSTAMP:20260425T182733Z
DTSTART;VALUE=DATE:20140602
DTEND;VALUE=DATE:20140605
SUMMARY:ICWSM 2014
DESCRIPTION:The 8th International Conference on Weblogs and Social Media
URL:http://www.wikicfp.com/cfp/servlet/event.showcfp?eventid=33660&copyow
 nerid=49510
UID:cfp400531-E@wikicfp.com
END:VEVENT
BEGIN:VEVENT
DTSTAMP:20260425T182733Z
DTSTART;VALUE=DATE:20140115
SUMMARY:ICWSM 2014 Abstract Due
DESCRIPTION:The 8th International Conference on Weblogs and Social Media
URL:http://www.wikicfp.com/cfp/servlet/event.showcfp?eventid=33660&copyow
 nerid=49510
UID:cfp400531-A@wikicfp.com
END:VEVENT
BEGIN:VEVENT
DTSTAMP:20260425T182733Z
DTSTART;VALUE=DATE:20140122
SUMMARY:ICWSM 2014 Deadline
DESCRIPTION:The 8th International Conference on Weblogs and Social Media
URL:http://www.wikicfp.com/cfp/servlet/event.showcfp?eventid=33660&copyow
 nerid=49510
UID:cfp400531-D@wikicfp.com
END:VEVENT
BEGIN:VEVENT
DTSTAMP:20260425T182733Z
DTSTART;VALUE=DATE:20140310
SUMMARY:ICWSM 2014 Notification Due
DESCRIPTION:The 8th International Conference on Weblogs and Social Media
URL:http://www.wikicfp.com/cfp/servlet/event.showcfp?eventid=33660&copyow
 nerid=49510
UID:cfp400531-N@wikicfp.com
END:VEVENT
BEGIN:VEVENT
DTSTAMP:20260425T182733Z
DTSTART;VALUE=DATE:20140706
DTEND;VALUE=DATE:20140712
SUMMARY:SIGIR 2014
DESCRIPTION:The 37th Annual ACM SIGIR Conference
URL:http://www.wikicfp.com/cfp/servlet/event.showcfp?eventid=31804&copyow
 nerid=49510
UID:cfp400535-E@wikicfp.com
END:VEVENT
BEGIN:VEVENT
DTSTAMP:20260425T182733Z
DTSTART;VALUE=DATE:20140120
SUMMARY:SIGIR 2014 Abstract Due
DESCRIPTION:The 37th Annual ACM SIGIR Conference
URL:http://www.wikicfp.com/cfp/servlet/event.showcfp?eventid=31804&copyow
 nerid=49510
UID:cfp400535-A@wikicfp.com
END:VEVENT
BEGIN:VEVENT
DTSTAMP:20260425T182733Z
DTSTART;VALUE=DATE:20140127
SUMMARY:SIGIR 2014 Deadline
DESCRIPTION:The 37th Annual ACM SIGIR Conference
URL:http://www.wikicfp.com/cfp/servlet/event.showcfp?eventid=31804&copyow
 nerid=49510
UID:cfp400535-D@wikicfp.com
END:VEVENT
BEGIN:VEVENT
DTSTAMP:20260425T182733Z
DTSTART;VALUE=DATE:20140418
SUMMARY:SIGIR 2014 Notification Due
DESCRIPTION:The 37th Annual ACM SIGIR Conference
URL:http://www.wikicfp.com/cfp/servlet/event.showcfp?eventid=31804&copyow
 nerid=49510
UID:cfp400535-N@wikicfp.com
END:VEVENT
BEGIN:VEVENT
DTSTAMP:20260425T182733Z
DTSTART;VALUE=DATE:20140511
SUMMARY:SIGIR 2014 Final Version Due
DESCRIPTION:The 37th Annual ACM SIGIR Conference
URL:http://www.wikicfp.com/cfp/servlet/event.showcfp?eventid=31804&copyow
 nerid=49510
UID:cfp400535-N@wikicfp.com
END:VEVENT
BEGIN:VEVENT
DTSTAMP:20260425T182733Z
DTSTART;VALUE=DATE:20140621
DTEND;VALUE=DATE:20140627
SUMMARY:ICML 2014
DESCRIPTION:31st International Conference on Machine Learning 
URL:http://www.wikicfp.com/cfp/servlet/event.showcfp?eventid=31811&copyow
 nerid=49510
UID:cfp378222-E@wikicfp.com
END:VEVENT
BEGIN:VEVENT
DTSTAMP:20260425T182733Z
DTSTART;VALUE=DATE:20140131
SUMMARY:ICML 2014 Deadline
DESCRIPTION:31st International Conference on Machine Learning 
URL:http://www.wikicfp.com/cfp/servlet/event.showcfp?eventid=31811&copyow
 nerid=49510
UID:cfp378222-D@wikicfp.com
END:VEVENT
BEGIN:VEVENT
DTSTAMP:20260425T182733Z
DTSTART;VALUE=DATE:20140409
SUMMARY:ICML 2014 Notification Due
DESCRIPTION:31st International Conference on Machine Learning 
URL:http://www.wikicfp.com/cfp/servlet/event.showcfp?eventid=31811&copyow
 nerid=49510
UID:cfp378222-N@wikicfp.com
END:VEVENT
BEGIN:VEVENT
DTSTAMP:20260425T182733Z
DTSTART;VALUE=DATE:20140824
DTEND;VALUE=DATE:20140828
SUMMARY:KDD 2014
DESCRIPTION:20th ACM SIGKDD Conference on Knowledge Discovery and Data Mi
 ning
URL:http://www.wikicfp.com/cfp/servlet/event.showcfp?eventid=32283&copyow
 nerid=49510
UID:cfp400534-E@wikicfp.com
END:VEVENT
BEGIN:VEVENT
DTSTAMP:20260425T182733Z
DTSTART;VALUE=DATE:20140213
SUMMARY:KDD 2014 Abstract Due
DESCRIPTION:20th ACM SIGKDD Conference on Knowledge Discovery and Data Mi
 ning
URL:http://www.wikicfp.com/cfp/servlet/event.showcfp?eventid=32283&copyow
 nerid=49510
UID:cfp400534-A@wikicfp.com
END:VEVENT
BEGIN:VEVENT
DTSTAMP:20260425T182733Z
DTSTART;VALUE=DATE:20140221
SUMMARY:KDD 2014 Deadline
DESCRIPTION:20th ACM SIGKDD Conference on Knowledge Discovery and Data Mi
 ning
URL:http://www.wikicfp.com/cfp/servlet/event.showcfp?eventid=32283&copyow
 nerid=49510
UID:cfp400534-D@wikicfp.com
END:VEVENT
BEGIN:VEVENT
DTSTAMP:20260425T182733Z
DTSTART;VALUE=DATE:20140512
SUMMARY:KDD 2014 Notification Due
DESCRIPTION:20th ACM SIGKDD Conference on Knowledge Discovery and Data Mi
 ning
URL:http://www.wikicfp.com/cfp/servlet/event.showcfp?eventid=32283&copyow
 nerid=49510
UID:cfp400534-N@wikicfp.com
END:VEVENT
BEGIN:VEVENT
DTSTAMP:20260425T182733Z
DTSTART;VALUE=DATE:20140817
DTEND;VALUE=DATE:20140821
SUMMARY:ASONAM 2014
DESCRIPTION:Advances in Social Networks Analysis and Mining
URL:http://www.wikicfp.com/cfp/servlet/event.showcfp?eventid=33891&copyow
 nerid=49510
UID:cfp401664-E@wikicfp.com
END:VEVENT
BEGIN:VEVENT
DTSTAMP:20260425T182733Z
DTSTART;VALUE=DATE:20140409
SUMMARY:ASONAM 2014 Deadline
DESCRIPTION:Advances in Social Networks Analysis and Mining
URL:http://www.wikicfp.com/cfp/servlet/event.showcfp?eventid=33891&copyow
 nerid=49510
UID:cfp401664-D@wikicfp.com
END:VEVENT
BEGIN:VEVENT
DTSTAMP:20260425T182733Z
DTSTART;VALUE=DATE:20140609
SUMMARY:ASONAM 2014 Notification Due
DESCRIPTION:Advances in Social Networks Analysis and Mining
URL:http://www.wikicfp.com/cfp/servlet/event.showcfp?eventid=33891&copyow
 nerid=49510
UID:cfp401664-N@wikicfp.com
END:VEVENT
BEGIN:VEVENT
DTSTAMP:20260425T182733Z
DTSTART;VALUE=DATE:20140624
SUMMARY:ASONAM 2014 Final Version Due
DESCRIPTION:Advances in Social Networks Analysis and Mining
URL:http://www.wikicfp.com/cfp/servlet/event.showcfp?eventid=33891&copyow
 nerid=49510
UID:cfp401664-N@wikicfp.com
END:VEVENT
BEGIN:VEVENT
DTSTAMP:20260425T182733Z
DTSTART;VALUE=DATE:20141103
DTEND;VALUE=DATE:20141108
SUMMARY:CIKM 2014
DESCRIPTION:ACM International Conference on Information and Knowledge Man
 agement (CIKM 2014)
URL:http://www.wikicfp.com/cfp/servlet/event.showcfp?eventid=33708&copyow
 nerid=49510
UID:cfp400532-E@wikicfp.com
END:VEVENT
BEGIN:VEVENT
DTSTAMP:20260425T182733Z
DTSTART;VALUE=DATE:20140604
SUMMARY:CIKM 2014 Abstract Due
DESCRIPTION:ACM International Conference on Information and Knowledge Man
 agement (CIKM 2014)
URL:http://www.wikicfp.com/cfp/servlet/event.showcfp?eventid=33708&copyow
 nerid=49510
UID:cfp400532-A@wikicfp.com
END:VEVENT
BEGIN:VEVENT
DTSTAMP:20260425T182733Z
DTSTART;VALUE=DATE:20140611
SUMMARY:CIKM 2014 Deadline
DESCRIPTION:ACM International Conference on Information and Knowledge Man
 agement (CIKM 2014)
URL:http://www.wikicfp.com/cfp/servlet/event.showcfp?eventid=33708&copyow
 nerid=49510
UID:cfp400532-D@wikicfp.com
END:VEVENT
BEGIN:VEVENT
DTSTAMP:20260425T182733Z
DTSTART;VALUE=DATE:20140808
SUMMARY:CIKM 2014 Notification Due
DESCRIPTION:ACM International Conference on Information and Knowledge Man
 agement (CIKM 2014)
URL:http://www.wikicfp.com/cfp/servlet/event.showcfp?eventid=33708&copyow
 nerid=49510
UID:cfp400532-N@wikicfp.com
END:VEVENT
END:VCALENDAR
