BEGIN:VCALENDAR
PRODID:-//WikiCFP//wuzhongxiang 1.0//EN
VERSION:2.0
CALSCALE:GREGORIAN
BEGIN:VEVENT
DTSTAMP:20260423T190925Z
DTSTART;VALUE=DATE:20131112
DTEND;VALUE=DATE:20131115
SUMMARY:MilCIS 2013
DESCRIPTION:Military Communications and Information Systems Conference
URL:http://www.wikicfp.com/cfp/servlet/event.showcfp?eventid=28310&copyow
 nerid=49423
UID:cfp348094-E@wikicfp.com
END:VEVENT
BEGIN:VEVENT
DTSTAMP:20260423T190925Z
DTSTART;VALUE=DATE:20130604
SUMMARY:MilCIS 2013 Deadline
DESCRIPTION:Military Communications and Information Systems Conference
URL:http://www.wikicfp.com/cfp/servlet/event.showcfp?eventid=28310&copyow
 nerid=49423
UID:cfp348094-D@wikicfp.com
END:VEVENT
BEGIN:VEVENT
DTSTAMP:20260423T190925Z
DTSTART;VALUE=DATE:20130723
SUMMARY:MilCIS 2013 Notification Due
DESCRIPTION:Military Communications and Information Systems Conference
URL:http://www.wikicfp.com/cfp/servlet/event.showcfp?eventid=28310&copyow
 nerid=49423
UID:cfp348094-N@wikicfp.com
END:VEVENT
BEGIN:VEVENT
DTSTAMP:20260423T190925Z
DTSTART;VALUE=DATE:20130827
SUMMARY:MilCIS 2013 Final Version Due
DESCRIPTION:Military Communications and Information Systems Conference
URL:http://www.wikicfp.com/cfp/servlet/event.showcfp?eventid=28310&copyow
 nerid=49423
UID:cfp348094-N@wikicfp.com
END:VEVENT
BEGIN:VEVENT
DTSTAMP:20260423T190925Z
DTSTART;VALUE=DATE:20130907
DTEND;VALUE=DATE:20130909
SUMMARY:ICSAP 2013
DESCRIPTION:2013 5th International Conference on Signal Acquisition and P
 rocessing
URL:http://www.wikicfp.com/cfp/servlet/event.showcfp?eventid=29737&copyow
 nerid=49423
UID:cfp348096-E@wikicfp.com
END:VEVENT
BEGIN:VEVENT
DTSTAMP:20260423T190925Z
DTSTART;VALUE=DATE:20130615
SUMMARY:ICSAP 2013 Deadline
DESCRIPTION:2013 5th International Conference on Signal Acquisition and P
 rocessing
URL:http://www.wikicfp.com/cfp/servlet/event.showcfp?eventid=29737&copyow
 nerid=49423
UID:cfp348096-D@wikicfp.com
END:VEVENT
BEGIN:VEVENT
DTSTAMP:20260423T190925Z
DTSTART;VALUE=DATE:20130705
SUMMARY:ICSAP 2013 Notification Due
DESCRIPTION:2013 5th International Conference on Signal Acquisition and P
 rocessing
URL:http://www.wikicfp.com/cfp/servlet/event.showcfp?eventid=29737&copyow
 nerid=49423
UID:cfp348096-N@wikicfp.com
END:VEVENT
BEGIN:VEVENT
DTSTAMP:20260423T190925Z
DTSTART;VALUE=DATE:20130725
SUMMARY:ICSAP 2013 Final Version Due
DESCRIPTION:2013 5th International Conference on Signal Acquisition and P
 rocessing
URL:http://www.wikicfp.com/cfp/servlet/event.showcfp?eventid=29737&copyow
 nerid=49423
UID:cfp348096-N@wikicfp.com
END:VEVENT
BEGIN:VEVENT
DTSTAMP:20260423T190925Z
DTSTART;VALUE=DATE:20130912
DTEND;VALUE=DATE:20130915
SUMMARY:INCT 2013
DESCRIPTION:Innovations on Communication Theory
URL:http://www.wikicfp.com/cfp/servlet/event.showcfp?eventid=29255&copyow
 nerid=49423
UID:cfp348088-E@wikicfp.com
END:VEVENT
BEGIN:VEVENT
DTSTAMP:20260423T190925Z
DTSTART;VALUE=DATE:20130705
SUMMARY:INCT 2013 Deadline
DESCRIPTION:Innovations on Communication Theory
URL:http://www.wikicfp.com/cfp/servlet/event.showcfp?eventid=29255&copyow
 nerid=49423
UID:cfp348088-D@wikicfp.com
END:VEVENT
BEGIN:VEVENT
DTSTAMP:20260423T190925Z
DTSTART;VALUE=DATE:20130715
SUMMARY:INCT 2013 Notification Due
DESCRIPTION:Innovations on Communication Theory
URL:http://www.wikicfp.com/cfp/servlet/event.showcfp?eventid=29255&copyow
 nerid=49423
UID:cfp348088-N@wikicfp.com
END:VEVENT
BEGIN:VEVENT
DTSTAMP:20260423T190925Z
DTSTART;VALUE=DATE:20130725
SUMMARY:INCT 2013 Final Version Due
DESCRIPTION:Innovations on Communication Theory
URL:http://www.wikicfp.com/cfp/servlet/event.showcfp?eventid=29255&copyow
 nerid=49423
UID:cfp348088-N@wikicfp.com
END:VEVENT
BEGIN:VEVENT
DTSTAMP:20260423T190925Z
DTSTART;VALUE=DATE:20131107
DTEND;VALUE=DATE:20131109
SUMMARY:MobiCASE 2013
DESCRIPTION:Fifth International Conference on Mobile Computing\, Applicat
 ions and Services
URL:http://www.wikicfp.com/cfp/servlet/event.showcfp?eventid=28594&copyow
 nerid=49423
UID:cfp348087-E@wikicfp.com
END:VEVENT
BEGIN:VEVENT
DTSTAMP:20260423T190925Z
DTSTART;VALUE=DATE:20130715
SUMMARY:MobiCASE 2013 Deadline
DESCRIPTION:Fifth International Conference on Mobile Computing\, Applicat
 ions and Services
URL:http://www.wikicfp.com/cfp/servlet/event.showcfp?eventid=28594&copyow
 nerid=49423
UID:cfp348087-D@wikicfp.com
END:VEVENT
BEGIN:VEVENT
DTSTAMP:20260423T190925Z
DTSTART;VALUE=DATE:20130923
SUMMARY:MobiCASE 2013 Notification Due
DESCRIPTION:Fifth International Conference on Mobile Computing\, Applicat
 ions and Services
URL:http://www.wikicfp.com/cfp/servlet/event.showcfp?eventid=28594&copyow
 nerid=49423
UID:cfp348087-N@wikicfp.com
END:VEVENT
BEGIN:VEVENT
DTSTAMP:20260423T190925Z
DTSTART;VALUE=DATE:20131212
DTEND;VALUE=DATE:20131214
SUMMARY:ISED 2013
DESCRIPTION:4th International Symposium on Electronic System Design 
URL:http://www.wikicfp.com/cfp/servlet/event.showcfp?eventid=30428&copyow
 nerid=49423
UID:cfp356535-E@wikicfp.com
END:VEVENT
BEGIN:VEVENT
DTSTAMP:20260423T190925Z
DTSTART;VALUE=DATE:20130715
SUMMARY:ISED 2013 Deadline
DESCRIPTION:4th International Symposium on Electronic System Design 
URL:http://www.wikicfp.com/cfp/servlet/event.showcfp?eventid=30428&copyow
 nerid=49423
UID:cfp356535-D@wikicfp.com
END:VEVENT
BEGIN:VEVENT
DTSTAMP:20260423T190925Z
DTSTART;VALUE=DATE:20130910
SUMMARY:ISED 2013 Notification Due
DESCRIPTION:4th International Symposium on Electronic System Design 
URL:http://www.wikicfp.com/cfp/servlet/event.showcfp?eventid=30428&copyow
 nerid=49423
UID:cfp356535-N@wikicfp.com
END:VEVENT
BEGIN:VEVENT
DTSTAMP:20260423T190925Z
DTSTART;VALUE=DATE:20130920
SUMMARY:ISED 2013 Final Version Due
DESCRIPTION:4th International Symposium on Electronic System Design 
URL:http://www.wikicfp.com/cfp/servlet/event.showcfp?eventid=30428&copyow
 nerid=49423
UID:cfp356535-N@wikicfp.com
END:VEVENT
BEGIN:VEVENT
DTSTAMP:20260423T190925Z
DTSTART;VALUE=DATE:20130725
SUMMARY:SETScholars 2013 Deadline
DESCRIPTION:Journals for Science Engineering and Technology Scholars
URL:http://www.wikicfp.com/cfp/servlet/event.showcfp?eventid=28756&copyow
 nerid=49423
UID:cfp348095-D@wikicfp.com
END:VEVENT
BEGIN:VEVENT
DTSTAMP:20260423T190925Z
DTSTART;VALUE=DATE:20140427
DTEND;VALUE=DATE:20140503
SUMMARY:INFOCOM 2014
DESCRIPTION:The 33rd Annual IEEE International Conference on Computer Com
 munications
URL:http://www.wikicfp.com/cfp/servlet/event.showcfp?eventid=24373&copyow
 nerid=49423
UID:cfp361643-E@wikicfp.com
END:VEVENT
BEGIN:VEVENT
DTSTAMP:20260423T190925Z
DTSTART;VALUE=DATE:20130721
SUMMARY:INFOCOM 2014 Abstract Due
DESCRIPTION:The 33rd Annual IEEE International Conference on Computer Com
 munications
URL:http://www.wikicfp.com/cfp/servlet/event.showcfp?eventid=24373&copyow
 nerid=49423
UID:cfp361643-A@wikicfp.com
END:VEVENT
BEGIN:VEVENT
DTSTAMP:20260423T190925Z
DTSTART;VALUE=DATE:20130728
SUMMARY:INFOCOM 2014 Deadline
DESCRIPTION:The 33rd Annual IEEE International Conference on Computer Com
 munications
URL:http://www.wikicfp.com/cfp/servlet/event.showcfp?eventid=24373&copyow
 nerid=49423
UID:cfp361643-D@wikicfp.com
END:VEVENT
BEGIN:VEVENT
DTSTAMP:20260423T190925Z
DTSTART;VALUE=DATE:20131125
SUMMARY:INFOCOM 2014 Notification Due
DESCRIPTION:The 33rd Annual IEEE International Conference on Computer Com
 munications
URL:http://www.wikicfp.com/cfp/servlet/event.showcfp?eventid=24373&copyow
 nerid=49423
UID:cfp361643-N@wikicfp.com
END:VEVENT
BEGIN:VEVENT
DTSTAMP:20260423T190925Z
DTSTART;VALUE=DATE:20131117
DTEND;VALUE=DATE:20131120
SUMMARY:ICCT 2013
DESCRIPTION:2013 15th International Conference on Communication Technolog
 y
URL:http://www.wikicfp.com/cfp/servlet/event.showcfp?eventid=30588&copyow
 nerid=49423
UID:cfp356531-E@wikicfp.com
END:VEVENT
BEGIN:VEVENT
DTSTAMP:20260423T190925Z
DTSTART;VALUE=DATE:20130805
SUMMARY:ICCT 2013 Deadline
DESCRIPTION:2013 15th International Conference on Communication Technolog
 y
URL:http://www.wikicfp.com/cfp/servlet/event.showcfp?eventid=30588&copyow
 nerid=49423
UID:cfp356531-D@wikicfp.com
END:VEVENT
BEGIN:VEVENT
DTSTAMP:20260423T190925Z
DTSTART;VALUE=DATE:20130905
SUMMARY:ICCT 2013 Notification Due
DESCRIPTION:2013 15th International Conference on Communication Technolog
 y
URL:http://www.wikicfp.com/cfp/servlet/event.showcfp?eventid=30588&copyow
 nerid=49423
UID:cfp356531-N@wikicfp.com
END:VEVENT
BEGIN:VEVENT
DTSTAMP:20260423T190925Z
DTSTART;VALUE=DATE:20130915
SUMMARY:ICCT 2013 Final Version Due
DESCRIPTION:2013 15th International Conference on Communication Technolog
 y
URL:http://www.wikicfp.com/cfp/servlet/event.showcfp?eventid=30588&copyow
 nerid=49423
UID:cfp356531-N@wikicfp.com
END:VEVENT
BEGIN:VEVENT
DTSTAMP:20260423T190925Z
DTSTART;VALUE=DATE:20140610
DTEND;VALUE=DATE:20140615
SUMMARY:ICC 2014
DESCRIPTION:IEEE International Conference on Communications
URL:http://www.wikicfp.com/cfp/servlet/event.showcfp?eventid=29420&copyow
 nerid=49423
UID:cfp348089-E@wikicfp.com
END:VEVENT
BEGIN:VEVENT
DTSTAMP:20260423T190925Z
DTSTART;VALUE=DATE:20130930
SUMMARY:ICC 2014 Deadline
DESCRIPTION:IEEE International Conference on Communications
URL:http://www.wikicfp.com/cfp/servlet/event.showcfp?eventid=29420&copyow
 nerid=49423
UID:cfp348089-D@wikicfp.com
END:VEVENT
BEGIN:VEVENT
DTSTAMP:20260423T190925Z
DTSTART;VALUE=DATE:20140112
SUMMARY:ICC 2014 Notification Due
DESCRIPTION:IEEE International Conference on Communications
URL:http://www.wikicfp.com/cfp/servlet/event.showcfp?eventid=29420&copyow
 nerid=49423
UID:cfp348089-N@wikicfp.com
END:VEVENT
BEGIN:VEVENT
DTSTAMP:20260423T190925Z
DTSTART;VALUE=DATE:20140213
SUMMARY:ICC 2014 Final Version Due
DESCRIPTION:IEEE International Conference on Communications
URL:http://www.wikicfp.com/cfp/servlet/event.showcfp?eventid=29420&copyow
 nerid=49423
UID:cfp348089-N@wikicfp.com
END:VEVENT
BEGIN:VEVENT
DTSTAMP:20260423T190925Z
DTSTART;VALUE=DATE:20131229
DTEND;VALUE=DATE:20131231
SUMMARY:ICNCC 2013
DESCRIPTION:2013 The 2nd International Conference on Network\, Communicat
 ion and Computing 
URL:http://www.wikicfp.com/cfp/servlet/event.showcfp?eventid=29805&copyow
 nerid=49423
UID:cfp348090-E@wikicfp.com
END:VEVENT
BEGIN:VEVENT
DTSTAMP:20260423T190925Z
DTSTART;VALUE=DATE:20131010
SUMMARY:ICNCC 2013 Deadline
DESCRIPTION:2013 The 2nd International Conference on Network\, Communicat
 ion and Computing 
URL:http://www.wikicfp.com/cfp/servlet/event.showcfp?eventid=29805&copyow
 nerid=49423
UID:cfp348090-D@wikicfp.com
END:VEVENT
BEGIN:VEVENT
DTSTAMP:20260423T190925Z
DTSTART;VALUE=DATE:20131025
SUMMARY:ICNCC 2013 Notification Due
DESCRIPTION:2013 The 2nd International Conference on Network\, Communicat
 ion and Computing 
URL:http://www.wikicfp.com/cfp/servlet/event.showcfp?eventid=29805&copyow
 nerid=49423
UID:cfp348090-N@wikicfp.com
END:VEVENT
BEGIN:VEVENT
DTSTAMP:20260423T190925Z
DTSTART;VALUE=DATE:20131110
SUMMARY:ICNCC 2013 Final Version Due
DESCRIPTION:2013 The 2nd International Conference on Network\, Communicat
 ion and Computing 
URL:http://www.wikicfp.com/cfp/servlet/event.showcfp?eventid=29805&copyow
 nerid=49423
UID:cfp348090-N@wikicfp.com
END:VEVENT
BEGIN:VEVENT
DTSTAMP:20260423T190925Z
DTSTART;VALUE=DATE:20131215
SUMMARY:ETC call for reviewers 2013 Deadline
DESCRIPTION:Scientific Bulletin of the Politehnica University of Timisoar
 a - Transactions on Electronics and Communications
URL:http://www.wikicfp.com/cfp/servlet/event.showcfp?eventid=24346&copyow
 nerid=49423
UID:cfp348092-D@wikicfp.com
END:VEVENT
BEGIN:VEVENT
DTSTAMP:20260423T190925Z
DTSTART;VALUE=DATE:20131230
SUMMARY:COM 2013 Deadline
DESCRIPTION:Communications Journal
URL:http://www.wikicfp.com/cfp/servlet/event.showcfp?eventid=15943&copyow
 nerid=49423
UID:cfp348086-D@wikicfp.com
END:VEVENT
BEGIN:VEVENT
DTSTAMP:20260423T190925Z
DTSTART;VALUE=DATE:20140131
SUMMARY:IJERTCS 2014 Deadline
DESCRIPTION:Int. J. Embedded and Real-Time Communication Systems
URL:http://www.wikicfp.com/cfp/servlet/event.showcfp?eventid=4905&copyown
 erid=49423
UID:cfp348093-D@wikicfp.com
END:VEVENT
BEGIN:VEVENT
DTSTAMP:20260423T190925Z
DTSTART;VALUE=DATE:20140220
SUMMARY:IJERTCS 2014 Notification Due
DESCRIPTION:Int. J. Embedded and Real-Time Communication Systems
URL:http://www.wikicfp.com/cfp/servlet/event.showcfp?eventid=4905&copyown
 erid=49423
UID:cfp348093-N@wikicfp.com
END:VEVENT
BEGIN:VEVENT
DTSTAMP:20260423T190925Z
DTSTART;VALUE=DATE:20140315
SUMMARY:IJERTCS 2014 Final Version Due
DESCRIPTION:Int. J. Embedded and Real-Time Communication Systems
URL:http://www.wikicfp.com/cfp/servlet/event.showcfp?eventid=4905&copyown
 erid=49423
UID:cfp348093-N@wikicfp.com
END:VEVENT
END:VCALENDAR
