BEGIN:VCALENDAR
PRODID:-//WikiCFP//cmujoy 1.0//EN
VERSION:2.0
CALSCALE:GREGORIAN
BEGIN:VEVENT
DTSTAMP:20260422T074105Z
DTSTART;VALUE=DATE:20130625
DTEND;VALUE=DATE:20130629
SUMMARY:MobiSys 2013
DESCRIPTION:MobiSys 2013 Call for Demos
URL:http://www.wikicfp.com/cfp/servlet/event.showcfp?eventid=29931&copyow
 nerid=49392
UID:cfp347695-E@wikicfp.com
END:VEVENT
BEGIN:VEVENT
DTSTAMP:20260422T074105Z
DTSTART;VALUE=DATE:20130412
SUMMARY:MobiSys 2013 Deadline
DESCRIPTION:MobiSys 2013 Call for Demos
URL:http://www.wikicfp.com/cfp/servlet/event.showcfp?eventid=29931&copyow
 nerid=49392
UID:cfp347695-D@wikicfp.com
END:VEVENT
BEGIN:VEVENT
DTSTAMP:20260422T074105Z
DTSTART;VALUE=DATE:20130417
SUMMARY:MobiSys 2013 Notification Due
DESCRIPTION:MobiSys 2013 Call for Demos
URL:http://www.wikicfp.com/cfp/servlet/event.showcfp?eventid=29931&copyow
 nerid=49392
UID:cfp347695-N@wikicfp.com
END:VEVENT
BEGIN:VEVENT
DTSTAMP:20260422T074105Z
DTSTART;VALUE=DATE:20130421
SUMMARY:MobiSys 2013 Final Version Due
DESCRIPTION:MobiSys 2013 Call for Demos
URL:http://www.wikicfp.com/cfp/servlet/event.showcfp?eventid=29931&copyow
 nerid=49392
UID:cfp347695-N@wikicfp.com
END:VEVENT
BEGIN:VEVENT
DTSTAMP:20260422T074105Z
DTSTART;VALUE=DATE:20130625
DTEND;VALUE=DATE:20130629
SUMMARY:MobiSys 2013
DESCRIPTION:MobiSys 2013 Call for Posters
URL:http://www.wikicfp.com/cfp/servlet/event.showcfp?eventid=29932&copyow
 nerid=49392
UID:cfp347696-E@wikicfp.com
END:VEVENT
BEGIN:VEVENT
DTSTAMP:20260422T074105Z
DTSTART;VALUE=DATE:20130412
SUMMARY:MobiSys 2013 Deadline
DESCRIPTION:MobiSys 2013 Call for Posters
URL:http://www.wikicfp.com/cfp/servlet/event.showcfp?eventid=29932&copyow
 nerid=49392
UID:cfp347696-D@wikicfp.com
END:VEVENT
BEGIN:VEVENT
DTSTAMP:20260422T074105Z
DTSTART;VALUE=DATE:20130417
SUMMARY:MobiSys 2013 Notification Due
DESCRIPTION:MobiSys 2013 Call for Posters
URL:http://www.wikicfp.com/cfp/servlet/event.showcfp?eventid=29932&copyow
 nerid=49392
UID:cfp347696-N@wikicfp.com
END:VEVENT
BEGIN:VEVENT
DTSTAMP:20260422T074105Z
DTSTART;VALUE=DATE:20130421
SUMMARY:MobiSys 2013 Final Version Due
DESCRIPTION:MobiSys 2013 Call for Posters
URL:http://www.wikicfp.com/cfp/servlet/event.showcfp?eventid=29932&copyow
 nerid=49392
UID:cfp347696-N@wikicfp.com
END:VEVENT
END:VCALENDAR
