BEGIN:VCALENDAR
PRODID:-//WikiCFP//omar_elgazzar 1.0//EN
VERSION:2.0
CALSCALE:GREGORIAN
BEGIN:VEVENT
DTSTAMP:20260421T021607Z
DTSTART;VALUE=DATE:20110131
DTEND;VALUE=DATE:20110203
SUMMARY:e-Health 2011
DESCRIPTION:3rd e-Health Conference in the Middle East
URL:http://www.wikicfp.com/cfp/servlet/event.showcfp?eventid=11479&copyow
 nerid=49173
UID:cfp346441-E@wikicfp.com
END:VEVENT
BEGIN:VEVENT
DTSTAMP:20260421T021607Z
DTSTART;VALUE=DATE:20110101
SUMMARY:e-Health 2011 Abstract Due
DESCRIPTION:3rd e-Health Conference in the Middle East
URL:http://www.wikicfp.com/cfp/servlet/event.showcfp?eventid=11479&copyow
 nerid=49173
UID:cfp346441-A@wikicfp.com
END:VEVENT
BEGIN:VEVENT
DTSTAMP:20260421T021607Z
DTSTART;VALUE=DATE:20101030
SUMMARY:e-Health 2011 Deadline
DESCRIPTION:3rd e-Health Conference in the Middle East
URL:http://www.wikicfp.com/cfp/servlet/event.showcfp?eventid=11479&copyow
 nerid=49173
UID:cfp346441-D@wikicfp.com
END:VEVENT
BEGIN:VEVENT
DTSTAMP:20260421T021607Z
DTSTART;VALUE=DATE:20101220
SUMMARY:e-Health 2011 Notification Due
DESCRIPTION:3rd e-Health Conference in the Middle East
URL:http://www.wikicfp.com/cfp/servlet/event.showcfp?eventid=11479&copyow
 nerid=49173
UID:cfp346441-N@wikicfp.com
END:VEVENT
BEGIN:VEVENT
DTSTAMP:20260421T021607Z
DTSTART;VALUE=DATE:20101222
SUMMARY:e-Health 2011 Final Version Due
DESCRIPTION:3rd e-Health Conference in the Middle East
URL:http://www.wikicfp.com/cfp/servlet/event.showcfp?eventid=11479&copyow
 nerid=49173
UID:cfp346441-N@wikicfp.com
END:VEVENT
BEGIN:VEVENT
DTSTAMP:20260421T021607Z
DTSTART;VALUE=DATE:20130620
DTEND;VALUE=DATE:20130623
SUMMARY:CBMS 2013
DESCRIPTION:26th International Symposium on Computer-Based Medical System
 s 
URL:http://www.wikicfp.com/cfp/servlet/event.showcfp?eventid=26549&copyow
 nerid=49173
UID:cfp346442-E@wikicfp.com
END:VEVENT
BEGIN:VEVENT
DTSTAMP:20260421T021607Z
DTSTART;VALUE=DATE:20130221
SUMMARY:CBMS 2013 Deadline
DESCRIPTION:26th International Symposium on Computer-Based Medical System
 s 
URL:http://www.wikicfp.com/cfp/servlet/event.showcfp?eventid=26549&copyow
 nerid=49173
UID:cfp346442-D@wikicfp.com
END:VEVENT
BEGIN:VEVENT
DTSTAMP:20260421T021607Z
DTSTART;VALUE=DATE:20130331
SUMMARY:CBMS 2013 Notification Due
DESCRIPTION:26th International Symposium on Computer-Based Medical System
 s 
URL:http://www.wikicfp.com/cfp/servlet/event.showcfp?eventid=26549&copyow
 nerid=49173
UID:cfp346442-N@wikicfp.com
END:VEVENT
BEGIN:VEVENT
DTSTAMP:20260421T021607Z
DTSTART;VALUE=DATE:20130424
SUMMARY:CBMS 2013 Final Version Due
DESCRIPTION:26th International Symposium on Computer-Based Medical System
 s 
URL:http://www.wikicfp.com/cfp/servlet/event.showcfp?eventid=26549&copyow
 nerid=49173
UID:cfp346442-N@wikicfp.com
END:VEVENT
BEGIN:VEVENT
DTSTAMP:20260421T021607Z
DTSTART;VALUE=DATE:20130911
DTEND;VALUE=DATE:20130914
SUMMARY:ICIAP 2013
DESCRIPTION:The International Conference on Image Analysis and Processing
 
URL:http://www.wikicfp.com/cfp/servlet/event.showcfp?eventid=26129&copyow
 nerid=49173
UID:cfp346440-E@wikicfp.com
END:VEVENT
BEGIN:VEVENT
DTSTAMP:20260421T021607Z
DTSTART;VALUE=DATE:20130329
SUMMARY:ICIAP 2013 Deadline
DESCRIPTION:The International Conference on Image Analysis and Processing
 
URL:http://www.wikicfp.com/cfp/servlet/event.showcfp?eventid=26129&copyow
 nerid=49173
UID:cfp346440-D@wikicfp.com
END:VEVENT
BEGIN:VEVENT
DTSTAMP:20260421T021607Z
DTSTART;VALUE=DATE:20130510
SUMMARY:ICIAP 2013 Notification Due
DESCRIPTION:The International Conference on Image Analysis and Processing
 
URL:http://www.wikicfp.com/cfp/servlet/event.showcfp?eventid=26129&copyow
 nerid=49173
UID:cfp346440-N@wikicfp.com
END:VEVENT
BEGIN:VEVENT
DTSTAMP:20260421T021607Z
DTSTART;VALUE=DATE:20130610
SUMMARY:ICIAP 2013 Final Version Due
DESCRIPTION:The International Conference on Image Analysis and Processing
 
URL:http://www.wikicfp.com/cfp/servlet/event.showcfp?eventid=26129&copyow
 nerid=49173
UID:cfp346440-N@wikicfp.com
END:VEVENT
BEGIN:VEVENT
DTSTAMP:20260421T021607Z
DTSTART;VALUE=DATE:20130518
DTEND;VALUE=DATE:20130520
SUMMARY:CSE 2013
DESCRIPTION:First International Conference on Computational Science and E
 ngineering 
URL:http://www.wikicfp.com/cfp/servlet/event.showcfp?eventid=29272&copyow
 nerid=49173
UID:cfp346436-E@wikicfp.com
END:VEVENT
BEGIN:VEVENT
DTSTAMP:20260421T021607Z
DTSTART;VALUE=DATE:20130410
SUMMARY:CSE 2013 Deadline
DESCRIPTION:First International Conference on Computational Science and E
 ngineering 
URL:http://www.wikicfp.com/cfp/servlet/event.showcfp?eventid=29272&copyow
 nerid=49173
UID:cfp346436-D@wikicfp.com
END:VEVENT
BEGIN:VEVENT
DTSTAMP:20260421T021607Z
DTSTART;VALUE=DATE:20130430
SUMMARY:CSE 2013 Notification Due
DESCRIPTION:First International Conference on Computational Science and E
 ngineering 
URL:http://www.wikicfp.com/cfp/servlet/event.showcfp?eventid=29272&copyow
 nerid=49173
UID:cfp346436-N@wikicfp.com
END:VEVENT
BEGIN:VEVENT
DTSTAMP:20260421T021607Z
DTSTART;VALUE=DATE:20130503
SUMMARY:CSE 2013 Final Version Due
DESCRIPTION:First International Conference on Computational Science and E
 ngineering 
URL:http://www.wikicfp.com/cfp/servlet/event.showcfp?eventid=29272&copyow
 nerid=49173
UID:cfp346436-N@wikicfp.com
END:VEVENT
BEGIN:VEVENT
DTSTAMP:20260421T021607Z
DTSTART;VALUE=DATE:20130803
DTEND;VALUE=DATE:20130805
SUMMARY:ICCTS 2013
DESCRIPTION:2013 2nd International Conference on Computer Technology and 
 Science
URL:http://www.wikicfp.com/cfp/servlet/event.showcfp?eventid=28679&copyow
 nerid=49173
UID:cfp346438-E@wikicfp.com
END:VEVENT
BEGIN:VEVENT
DTSTAMP:20260421T021607Z
DTSTART;VALUE=DATE:20130515
SUMMARY:ICCTS 2013 Deadline
DESCRIPTION:2013 2nd International Conference on Computer Technology and 
 Science
URL:http://www.wikicfp.com/cfp/servlet/event.showcfp?eventid=28679&copyow
 nerid=49173
UID:cfp346438-D@wikicfp.com
END:VEVENT
BEGIN:VEVENT
DTSTAMP:20260421T021607Z
DTSTART;VALUE=DATE:20130605
SUMMARY:ICCTS 2013 Notification Due
DESCRIPTION:2013 2nd International Conference on Computer Technology and 
 Science
URL:http://www.wikicfp.com/cfp/servlet/event.showcfp?eventid=28679&copyow
 nerid=49173
UID:cfp346438-N@wikicfp.com
END:VEVENT
BEGIN:VEVENT
DTSTAMP:20260421T021607Z
DTSTART;VALUE=DATE:20130625
SUMMARY:ICCTS 2013 Final Version Due
DESCRIPTION:2013 2nd International Conference on Computer Technology and 
 Science
URL:http://www.wikicfp.com/cfp/servlet/event.showcfp?eventid=28679&copyow
 nerid=49173
UID:cfp346438-N@wikicfp.com
END:VEVENT
BEGIN:VEVENT
DTSTAMP:20260421T021607Z
DTSTART;VALUE=DATE:20130810
DTEND;VALUE=DATE:20130812
SUMMARY:ICSIA 2013
DESCRIPTION:2013 3rd International Conference on Signal\, Image Processin
 g and Applications
URL:http://www.wikicfp.com/cfp/servlet/event.showcfp?eventid=28688&copyow
 nerid=49173
UID:cfp346439-E@wikicfp.com
END:VEVENT
BEGIN:VEVENT
DTSTAMP:20260421T021607Z
DTSTART;VALUE=DATE:20130520
SUMMARY:ICSIA 2013 Deadline
DESCRIPTION:2013 3rd International Conference on Signal\, Image Processin
 g and Applications
URL:http://www.wikicfp.com/cfp/servlet/event.showcfp?eventid=28688&copyow
 nerid=49173
UID:cfp346439-D@wikicfp.com
END:VEVENT
BEGIN:VEVENT
DTSTAMP:20260421T021607Z
DTSTART;VALUE=DATE:20130615
SUMMARY:ICSIA 2013 Notification Due
DESCRIPTION:2013 3rd International Conference on Signal\, Image Processin
 g and Applications
URL:http://www.wikicfp.com/cfp/servlet/event.showcfp?eventid=28688&copyow
 nerid=49173
UID:cfp346439-N@wikicfp.com
END:VEVENT
BEGIN:VEVENT
DTSTAMP:20260421T021607Z
DTSTART;VALUE=DATE:20130630
SUMMARY:ICSIA 2013 Final Version Due
DESCRIPTION:2013 3rd International Conference on Signal\, Image Processin
 g and Applications
URL:http://www.wikicfp.com/cfp/servlet/event.showcfp?eventid=28688&copyow
 nerid=49173
UID:cfp346439-N@wikicfp.com
END:VEVENT
BEGIN:VEVENT
DTSTAMP:20260421T021607Z
DTSTART;VALUE=DATE:20140405
SUMMARY:HIIJ 2014 Deadline
DESCRIPTION:Health Informatics - An International Journal 
URL:http://www.wikicfp.com/cfp/servlet/event.showcfp?eventid=22981&copyow
 nerid=49173
UID:cfp346437-D@wikicfp.com
END:VEVENT
BEGIN:VEVENT
DTSTAMP:20260421T021607Z
DTSTART;VALUE=DATE:20140505
SUMMARY:HIIJ 2014 Notification Due
DESCRIPTION:Health Informatics - An International Journal 
URL:http://www.wikicfp.com/cfp/servlet/event.showcfp?eventid=22981&copyow
 nerid=49173
UID:cfp346437-N@wikicfp.com
END:VEVENT
BEGIN:VEVENT
DTSTAMP:20260421T021607Z
DTSTART;VALUE=DATE:20140510
SUMMARY:HIIJ 2014 Final Version Due
DESCRIPTION:Health Informatics - An International Journal 
URL:http://www.wikicfp.com/cfp/servlet/event.showcfp?eventid=22981&copyow
 nerid=49173
UID:cfp346437-N@wikicfp.com
END:VEVENT
END:VCALENDAR
