BEGIN:VCALENDAR
PRODID:-//WikiCFP//marwaamara 1.0//EN
VERSION:2.0
CALSCALE:GREGORIAN
BEGIN:VEVENT
DTSTAMP:20260422T125449Z
DTSTART;VALUE=DATE:20130825
DTEND;VALUE=DATE:20130829
SUMMARY:ICDAR 2013
DESCRIPTION:International Conference on Document Analysis and Recognition
 
URL:http://www.wikicfp.com/cfp/servlet/event.showcfp?eventid=25409&copyow
 nerid=49106
UID:cfp444487-E@wikicfp.com
END:VEVENT
BEGIN:VEVENT
DTSTAMP:20260422T125449Z
DTSTART;VALUE=DATE:20130201
SUMMARY:ICDAR 2013 Abstract Due
DESCRIPTION:International Conference on Document Analysis and Recognition
 
URL:http://www.wikicfp.com/cfp/servlet/event.showcfp?eventid=25409&copyow
 nerid=49106
UID:cfp444487-A@wikicfp.com
END:VEVENT
BEGIN:VEVENT
DTSTAMP:20260422T125449Z
DTSTART;VALUE=DATE:20130222
SUMMARY:ICDAR 2013 Deadline
DESCRIPTION:International Conference on Document Analysis and Recognition
 
URL:http://www.wikicfp.com/cfp/servlet/event.showcfp?eventid=25409&copyow
 nerid=49106
UID:cfp444487-D@wikicfp.com
END:VEVENT
BEGIN:VEVENT
DTSTAMP:20260422T125449Z
DTSTART;VALUE=DATE:20130501
SUMMARY:ICDAR 2013 Notification Due
DESCRIPTION:International Conference on Document Analysis and Recognition
 
URL:http://www.wikicfp.com/cfp/servlet/event.showcfp?eventid=25409&copyow
 nerid=49106
UID:cfp444487-N@wikicfp.com
END:VEVENT
BEGIN:VEVENT
DTSTAMP:20260422T125449Z
DTSTART;VALUE=DATE:20130601
SUMMARY:ICDAR 2013 Final Version Due
DESCRIPTION:International Conference on Document Analysis and Recognition
 
URL:http://www.wikicfp.com/cfp/servlet/event.showcfp?eventid=25409&copyow
 nerid=49106
UID:cfp444487-N@wikicfp.com
END:VEVENT
BEGIN:VEVENT
DTSTAMP:20260422T125449Z
DTSTART;VALUE=DATE:20130904
DTEND;VALUE=DATE:20130907
SUMMARY:ISISPA 2013
DESCRIPTION:8th international symposium on Image and Signal Processing an
 d Analysis
URL:http://www.wikicfp.com/cfp/servlet/event.showcfp?eventid=25510&copyow
 nerid=49106
UID:cfp346012-E@wikicfp.com
END:VEVENT
BEGIN:VEVENT
DTSTAMP:20260422T125449Z
DTSTART;VALUE=DATE:20130423
SUMMARY:ISISPA 2013 Deadline
DESCRIPTION:8th international symposium on Image and Signal Processing an
 d Analysis
URL:http://www.wikicfp.com/cfp/servlet/event.showcfp?eventid=25510&copyow
 nerid=49106
UID:cfp346012-D@wikicfp.com
END:VEVENT
BEGIN:VEVENT
DTSTAMP:20260422T125449Z
DTSTART;VALUE=DATE:20130523
SUMMARY:ISISPA 2013 Notification Due
DESCRIPTION:8th international symposium on Image and Signal Processing an
 d Analysis
URL:http://www.wikicfp.com/cfp/servlet/event.showcfp?eventid=25510&copyow
 nerid=49106
UID:cfp346012-N@wikicfp.com
END:VEVENT
BEGIN:VEVENT
DTSTAMP:20260422T125449Z
DTSTART;VALUE=DATE:20130607
SUMMARY:ISISPA 2013 Final Version Due
DESCRIPTION:8th international symposium on Image and Signal Processing an
 d Analysis
URL:http://www.wikicfp.com/cfp/servlet/event.showcfp?eventid=25510&copyow
 nerid=49106
UID:cfp346012-N@wikicfp.com
END:VEVENT
BEGIN:VEVENT
DTSTAMP:20260422T125449Z
DTSTART;VALUE=DATE:20130707
DTEND;VALUE=DATE:20130710
SUMMARY:IWSSIP 2013
DESCRIPTION:INTERNATIONAL CONFERENCE ON SYSTEMS\, SIGNALS AND IMAGE PROCE
 SSING
URL:http://www.wikicfp.com/cfp/servlet/event.showcfp?eventid=25061&copyow
 nerid=49106
UID:cfp346013-E@wikicfp.com
END:VEVENT
BEGIN:VEVENT
DTSTAMP:20260422T125449Z
DTSTART;VALUE=DATE:20130430
SUMMARY:IWSSIP 2013 Deadline
DESCRIPTION:INTERNATIONAL CONFERENCE ON SYSTEMS\, SIGNALS AND IMAGE PROCE
 SSING
URL:http://www.wikicfp.com/cfp/servlet/event.showcfp?eventid=25061&copyow
 nerid=49106
UID:cfp346013-D@wikicfp.com
END:VEVENT
BEGIN:VEVENT
DTSTAMP:20260422T125449Z
DTSTART;VALUE=DATE:20130517
SUMMARY:IWSSIP 2013 Notification Due
DESCRIPTION:INTERNATIONAL CONFERENCE ON SYSTEMS\, SIGNALS AND IMAGE PROCE
 SSING
URL:http://www.wikicfp.com/cfp/servlet/event.showcfp?eventid=25061&copyow
 nerid=49106
UID:cfp346013-N@wikicfp.com
END:VEVENT
BEGIN:VEVENT
DTSTAMP:20260422T125449Z
DTSTART;VALUE=DATE:20130614
SUMMARY:IWSSIP 2013 Final Version Due
DESCRIPTION:INTERNATIONAL CONFERENCE ON SYSTEMS\, SIGNALS AND IMAGE PROCE
 SSING
URL:http://www.wikicfp.com/cfp/servlet/event.showcfp?eventid=25061&copyow
 nerid=49106
UID:cfp346013-N@wikicfp.com
END:VEVENT
BEGIN:VEVENT
DTSTAMP:20260422T125449Z
DTSTART;VALUE=DATE:20130901
DTEND;VALUE=DATE:20130903
SUMMARY:ICIVC 2013
DESCRIPTION:2013 2nd International Conference on Image\, Vision and Compu
 ting
URL:http://www.wikicfp.com/cfp/servlet/event.showcfp?eventid=29606&copyow
 nerid=49106
UID:cfp346014-E@wikicfp.com
END:VEVENT
BEGIN:VEVENT
DTSTAMP:20260422T125449Z
DTSTART;VALUE=DATE:20130615
SUMMARY:ICIVC 2013 Deadline
DESCRIPTION:2013 2nd International Conference on Image\, Vision and Compu
 ting
URL:http://www.wikicfp.com/cfp/servlet/event.showcfp?eventid=29606&copyow
 nerid=49106
UID:cfp346014-D@wikicfp.com
END:VEVENT
BEGIN:VEVENT
DTSTAMP:20260422T125449Z
DTSTART;VALUE=DATE:20130710
SUMMARY:ICIVC 2013 Notification Due
DESCRIPTION:2013 2nd International Conference on Image\, Vision and Compu
 ting
URL:http://www.wikicfp.com/cfp/servlet/event.showcfp?eventid=29606&copyow
 nerid=49106
UID:cfp346014-N@wikicfp.com
END:VEVENT
BEGIN:VEVENT
DTSTAMP:20260422T125449Z
DTSTART;VALUE=DATE:20130725
SUMMARY:ICIVC 2013 Final Version Due
DESCRIPTION:2013 2nd International Conference on Image\, Vision and Compu
 ting
URL:http://www.wikicfp.com/cfp/servlet/event.showcfp?eventid=29606&copyow
 nerid=49106
UID:cfp346014-N@wikicfp.com
END:VEVENT
BEGIN:VEVENT
DTSTAMP:20260422T125449Z
DTSTART;VALUE=DATE:20140504
DTEND;VALUE=DATE:20140510
SUMMARY:ICASSP 2014
DESCRIPTION:IEEE International Conference on Acoustics\, Speech and Signa
 l Processing
URL:http://www.wikicfp.com/cfp/servlet/event.showcfp?eventid=14048&copyow
 nerid=49106
UID:cfp348371-E@wikicfp.com
END:VEVENT
BEGIN:VEVENT
DTSTAMP:20260422T125449Z
DTSTART;VALUE=DATE:20131104
SUMMARY:ICASSP 2014 Deadline
DESCRIPTION:IEEE International Conference on Acoustics\, Speech and Signa
 l Processing
URL:http://www.wikicfp.com/cfp/servlet/event.showcfp?eventid=14048&copyow
 nerid=49106
UID:cfp348371-D@wikicfp.com
END:VEVENT
BEGIN:VEVENT
DTSTAMP:20260422T125449Z
DTSTART;VALUE=DATE:20140127
SUMMARY:ICASSP 2014 Notification Due
DESCRIPTION:IEEE International Conference on Acoustics\, Speech and Signa
 l Processing
URL:http://www.wikicfp.com/cfp/servlet/event.showcfp?eventid=14048&copyow
 nerid=49106
UID:cfp348371-N@wikicfp.com
END:VEVENT
BEGIN:VEVENT
DTSTAMP:20260422T125449Z
DTSTART;VALUE=DATE:20140307
SUMMARY:ICASSP 2014 Final Version Due
DESCRIPTION:IEEE International Conference on Acoustics\, Speech and Signa
 l Processing
URL:http://www.wikicfp.com/cfp/servlet/event.showcfp?eventid=14048&copyow
 nerid=49106
UID:cfp348371-N@wikicfp.com
END:VEVENT
BEGIN:VEVENT
DTSTAMP:20260422T125449Z
DTSTART;VALUE=DATE:20140315
SUMMARY:IJCSIT 2014 Deadline
DESCRIPTION:International Journal of Computer Science & Information Techn
 ology 
URL:http://www.wikicfp.com/cfp/servlet/event.showcfp?eventid=29052&copyow
 nerid=49106
UID:cfp346015-D@wikicfp.com
END:VEVENT
BEGIN:VEVENT
DTSTAMP:20260422T125449Z
DTSTART;VALUE=DATE:20140415
SUMMARY:IJCSIT 2014 Notification Due
DESCRIPTION:International Journal of Computer Science & Information Techn
 ology 
URL:http://www.wikicfp.com/cfp/servlet/event.showcfp?eventid=29052&copyow
 nerid=49106
UID:cfp346015-N@wikicfp.com
END:VEVENT
BEGIN:VEVENT
DTSTAMP:20260422T125449Z
DTSTART;VALUE=DATE:20140422
SUMMARY:IJCSIT 2014 Final Version Due
DESCRIPTION:International Journal of Computer Science & Information Techn
 ology 
URL:http://www.wikicfp.com/cfp/servlet/event.showcfp?eventid=29052&copyow
 nerid=49106
UID:cfp346015-N@wikicfp.com
END:VEVENT
END:VCALENDAR
