BEGIN:VCALENDAR
PRODID:-//WikiCFP//Blevrat 1.0//EN
VERSION:2.0
CALSCALE:GREGORIAN
BEGIN:VEVENT
DTSTAMP:20260422T110648Z
DTSTART;VALUE=DATE:20130804
DTEND;VALUE=DATE:20130810
SUMMARY:ACL (Short) 2013
DESCRIPTION:The 51st Annual Meeting of the Association for Computational 
 Linguistics (Short Papers)
URL:http://www.wikicfp.com/cfp/servlet/event.showcfp?eventid=26763&copyow
 nerid=48853
UID:cfp344680-E@wikicfp.com
END:VEVENT
BEGIN:VEVENT
DTSTAMP:20260422T110648Z
DTSTART;VALUE=DATE:20130414
SUMMARY:ACL (Short) 2013 Deadline
DESCRIPTION:The 51st Annual Meeting of the Association for Computational 
 Linguistics (Short Papers)
URL:http://www.wikicfp.com/cfp/servlet/event.showcfp?eventid=26763&copyow
 nerid=48853
UID:cfp344680-D@wikicfp.com
END:VEVENT
BEGIN:VEVENT
DTSTAMP:20260422T110648Z
DTSTART;VALUE=DATE:20130512
SUMMARY:ACL (Short) 2013 Notification Due
DESCRIPTION:The 51st Annual Meeting of the Association for Computational 
 Linguistics (Short Papers)
URL:http://www.wikicfp.com/cfp/servlet/event.showcfp?eventid=26763&copyow
 nerid=48853
UID:cfp344680-N@wikicfp.com
END:VEVENT
BEGIN:VEVENT
DTSTAMP:20260422T110648Z
DTSTART;VALUE=DATE:20130522
SUMMARY:ACL (Short) 2013 Final Version Due
DESCRIPTION:The 51st Annual Meeting of the Association for Computational 
 Linguistics (Short Papers)
URL:http://www.wikicfp.com/cfp/servlet/event.showcfp?eventid=26763&copyow
 nerid=48853
UID:cfp344680-N@wikicfp.com
END:VEVENT
BEGIN:VEVENT
DTSTAMP:20260422T110648Z
DTSTART;VALUE=DATE:20130827
DTEND;VALUE=DATE:20130831
SUMMARY:DepLing 2013
DESCRIPTION: Second International Conference on Dependency Linguistics
URL:http://www.wikicfp.com/cfp/servlet/event.showcfp?eventid=29235&copyow
 nerid=48853
UID:cfp344681-E@wikicfp.com
END:VEVENT
BEGIN:VEVENT
DTSTAMP:20260422T110648Z
DTSTART;VALUE=DATE:20130415
SUMMARY:DepLing 2013 Deadline
DESCRIPTION: Second International Conference on Dependency Linguistics
URL:http://www.wikicfp.com/cfp/servlet/event.showcfp?eventid=29235&copyow
 nerid=48853
UID:cfp344681-D@wikicfp.com
END:VEVENT
BEGIN:VEVENT
DTSTAMP:20260422T110648Z
DTSTART;VALUE=DATE:20130531
SUMMARY:DepLing 2013 Notification Due
DESCRIPTION: Second International Conference on Dependency Linguistics
URL:http://www.wikicfp.com/cfp/servlet/event.showcfp?eventid=29235&copyow
 nerid=48853
UID:cfp344681-N@wikicfp.com
END:VEVENT
BEGIN:VEVENT
DTSTAMP:20260422T110648Z
DTSTART;VALUE=DATE:20130617
SUMMARY:DepLing 2013 Final Version Due
DESCRIPTION: Second International Conference on Dependency Linguistics
URL:http://www.wikicfp.com/cfp/servlet/event.showcfp?eventid=29235&copyow
 nerid=48853
UID:cfp344681-N@wikicfp.com
END:VEVENT
BEGIN:VEVENT
DTSTAMP:20260422T110648Z
DTSTART;VALUE=DATE:20130929
DTEND;VALUE=DATE:20131003
SUMMARY:ICTIR 2013
DESCRIPTION:4th  International Conference on  the Theory  of Information 
 Retrieval
URL:http://www.wikicfp.com/cfp/servlet/event.showcfp?eventid=27404&copyow
 nerid=48853
UID:cfp344679-E@wikicfp.com
END:VEVENT
BEGIN:VEVENT
DTSTAMP:20260422T110648Z
DTSTART;VALUE=DATE:20130422
SUMMARY:ICTIR 2013 Deadline
DESCRIPTION:4th  International Conference on  the Theory  of Information 
 Retrieval
URL:http://www.wikicfp.com/cfp/servlet/event.showcfp?eventid=27404&copyow
 nerid=48853
UID:cfp344679-D@wikicfp.com
END:VEVENT
BEGIN:VEVENT
DTSTAMP:20260422T110648Z
DTSTART;VALUE=DATE:20130607
SUMMARY:ICTIR 2013 Notification Due
DESCRIPTION:4th  International Conference on  the Theory  of Information 
 Retrieval
URL:http://www.wikicfp.com/cfp/servlet/event.showcfp?eventid=27404&copyow
 nerid=48853
UID:cfp344679-N@wikicfp.com
END:VEVENT
BEGIN:VEVENT
DTSTAMP:20260422T110648Z
DTSTART;VALUE=DATE:20130628
SUMMARY:ICTIR 2013 Final Version Due
DESCRIPTION:4th  International Conference on  the Theory  of Information 
 Retrieval
URL:http://www.wikicfp.com/cfp/servlet/event.showcfp?eventid=27404&copyow
 nerid=48853
UID:cfp344679-N@wikicfp.com
END:VEVENT
BEGIN:VEVENT
DTSTAMP:20260422T110648Z
DTSTART;VALUE=DATE:20131023
DTEND;VALUE=DATE:20131024
SUMMARY:RST 2013
DESCRIPTION:4th MEETING RST AND DISCOURSE STUDIES
URL:http://www.wikicfp.com/cfp/servlet/event.showcfp?eventid=29532&copyow
 nerid=48853
UID:cfp344683-E@wikicfp.com
END:VEVENT
BEGIN:VEVENT
DTSTAMP:20260422T110648Z
DTSTART;VALUE=DATE:20130503
SUMMARY:RST 2013 Deadline
DESCRIPTION:4th MEETING RST AND DISCOURSE STUDIES
URL:http://www.wikicfp.com/cfp/servlet/event.showcfp?eventid=29532&copyow
 nerid=48853
UID:cfp344683-D@wikicfp.com
END:VEVENT
BEGIN:VEVENT
DTSTAMP:20260422T110648Z
DTSTART;VALUE=DATE:20130531
SUMMARY:RST 2013 Notification Due
DESCRIPTION:4th MEETING RST AND DISCOURSE STUDIES
URL:http://www.wikicfp.com/cfp/servlet/event.showcfp?eventid=29532&copyow
 nerid=48853
UID:cfp344683-N@wikicfp.com
END:VEVENT
BEGIN:VEVENT
DTSTAMP:20260422T110648Z
DTSTART;VALUE=DATE:20130623
SUMMARY:RST 2013 Final Version Due
DESCRIPTION:4th MEETING RST AND DISCOURSE STUDIES
URL:http://www.wikicfp.com/cfp/servlet/event.showcfp?eventid=29532&copyow
 nerid=48853
UID:cfp344683-N@wikicfp.com
END:VEVENT
BEGIN:VEVENT
DTSTAMP:20260422T110648Z
DTSTART;VALUE=DATE:20130919
DTEND;VALUE=DATE:20130923
SUMMARY:KDIR 2013
DESCRIPTION:INSTICC International Conference on Knowledge Discovery and I
 nformation Retrieval
URL:http://www.wikicfp.com/cfp/servlet/event.showcfp?eventid=27907&copyow
 nerid=48853
UID:cfp344678-E@wikicfp.com
END:VEVENT
BEGIN:VEVENT
DTSTAMP:20260422T110648Z
DTSTART;VALUE=DATE:20130516
SUMMARY:KDIR 2013 Deadline
DESCRIPTION:INSTICC International Conference on Knowledge Discovery and I
 nformation Retrieval
URL:http://www.wikicfp.com/cfp/servlet/event.showcfp?eventid=27907&copyow
 nerid=48853
UID:cfp344678-D@wikicfp.com
END:VEVENT
BEGIN:VEVENT
DTSTAMP:20260422T110648Z
DTSTART;VALUE=DATE:20130624
SUMMARY:KDIR 2013 Notification Due
DESCRIPTION:INSTICC International Conference on Knowledge Discovery and I
 nformation Retrieval
URL:http://www.wikicfp.com/cfp/servlet/event.showcfp?eventid=27907&copyow
 nerid=48853
UID:cfp344678-N@wikicfp.com
END:VEVENT
BEGIN:VEVENT
DTSTAMP:20260422T110648Z
DTSTART;VALUE=DATE:20130705
SUMMARY:KDIR 2013 Final Version Due
DESCRIPTION:INSTICC International Conference on Knowledge Discovery and I
 nformation Retrieval
URL:http://www.wikicfp.com/cfp/servlet/event.showcfp?eventid=27907&copyow
 nerid=48853
UID:cfp344678-N@wikicfp.com
END:VEVENT
BEGIN:VEVENT
DTSTAMP:20260422T110648Z
DTSTART;VALUE=DATE:20130907
DTEND;VALUE=DATE:20130914
SUMMARY:RANLP 2013
DESCRIPTION:RECENT ADVANCES IN NATURAL LANGUAGE PROCESSING
URL:http://www.wikicfp.com/cfp/servlet/event.showcfp?eventid=27963&copyow
 nerid=48853
UID:cfp344674-E@wikicfp.com
END:VEVENT
BEGIN:VEVENT
DTSTAMP:20260422T110648Z
DTSTART;VALUE=DATE:20130513
SUMMARY:RANLP 2013 Abstract Due
DESCRIPTION:RECENT ADVANCES IN NATURAL LANGUAGE PROCESSING
URL:http://www.wikicfp.com/cfp/servlet/event.showcfp?eventid=27963&copyow
 nerid=48853
UID:cfp344674-A@wikicfp.com
END:VEVENT
BEGIN:VEVENT
DTSTAMP:20260422T110648Z
DTSTART;VALUE=DATE:20130517
SUMMARY:RANLP 2013 Deadline
DESCRIPTION:RECENT ADVANCES IN NATURAL LANGUAGE PROCESSING
URL:http://www.wikicfp.com/cfp/servlet/event.showcfp?eventid=27963&copyow
 nerid=48853
UID:cfp344674-D@wikicfp.com
END:VEVENT
BEGIN:VEVENT
DTSTAMP:20260422T110648Z
DTSTART;VALUE=DATE:20130701
SUMMARY:RANLP 2013 Notification Due
DESCRIPTION:RECENT ADVANCES IN NATURAL LANGUAGE PROCESSING
URL:http://www.wikicfp.com/cfp/servlet/event.showcfp?eventid=27963&copyow
 nerid=48853
UID:cfp344674-N@wikicfp.com
END:VEVENT
BEGIN:VEVENT
DTSTAMP:20260422T110648Z
DTSTART;VALUE=DATE:20130731
SUMMARY:RANLP 2013 Final Version Due
DESCRIPTION:RECENT ADVANCES IN NATURAL LANGUAGE PROCESSING
URL:http://www.wikicfp.com/cfp/servlet/event.showcfp?eventid=27963&copyow
 nerid=48853
UID:cfp344674-N@wikicfp.com
END:VEVENT
BEGIN:VEVENT
DTSTAMP:20260422T110648Z
DTSTART;VALUE=DATE:20131014
DTEND;VALUE=DATE:20131020
SUMMARY:IJCNLP 2013
DESCRIPTION:The 6th International Joint Conference on Natural Language Pr
 ocessing
URL:http://www.wikicfp.com/cfp/servlet/event.showcfp?eventid=28928&copyow
 nerid=48853
UID:cfp344684-E@wikicfp.com
END:VEVENT
BEGIN:VEVENT
DTSTAMP:20260422T110648Z
DTSTART;VALUE=DATE:20130517
SUMMARY:IJCNLP 2013 Deadline
DESCRIPTION:The 6th International Joint Conference on Natural Language Pr
 ocessing
URL:http://www.wikicfp.com/cfp/servlet/event.showcfp?eventid=28928&copyow
 nerid=48853
UID:cfp344684-D@wikicfp.com
END:VEVENT
BEGIN:VEVENT
DTSTAMP:20260422T110648Z
DTSTART;VALUE=DATE:20130708
SUMMARY:IJCNLP 2013 Notification Due
DESCRIPTION:The 6th International Joint Conference on Natural Language Pr
 ocessing
URL:http://www.wikicfp.com/cfp/servlet/event.showcfp?eventid=28928&copyow
 nerid=48853
UID:cfp344684-N@wikicfp.com
END:VEVENT
BEGIN:VEVENT
DTSTAMP:20260422T110648Z
DTSTART;VALUE=DATE:20130809
SUMMARY:IJCNLP 2013 Final Version Due
DESCRIPTION:The 6th International Joint Conference on Natural Language Pr
 ocessing
URL:http://www.wikicfp.com/cfp/servlet/event.showcfp?eventid=28928&copyow
 nerid=48853
UID:cfp344684-N@wikicfp.com
END:VEVENT
BEGIN:VEVENT
DTSTAMP:20260422T110648Z
DTSTART;VALUE=DATE:20131113
DTEND;VALUE=DATE:20131116
SUMMARY:SLOVKO 2013
DESCRIPTION:The Seventh International Conference NLP\, Corpus Linguistics
 \, E-Learning
URL:http://www.wikicfp.com/cfp/servlet/event.showcfp?eventid=28463&copyow
 nerid=48853
UID:cfp344685-E@wikicfp.com
END:VEVENT
BEGIN:VEVENT
DTSTAMP:20260422T110648Z
DTSTART;VALUE=DATE:20130520
SUMMARY:SLOVKO 2013 Deadline
DESCRIPTION:The Seventh International Conference NLP\, Corpus Linguistics
 \, E-Learning
URL:http://www.wikicfp.com/cfp/servlet/event.showcfp?eventid=28463&copyow
 nerid=48853
UID:cfp344685-D@wikicfp.com
END:VEVENT
BEGIN:VEVENT
DTSTAMP:20260422T110648Z
DTSTART;VALUE=DATE:20131121
DTEND;VALUE=DATE:20131125
SUMMARY:PACLIC  2013
DESCRIPTION:27th Pacific Asia Conference on Language\, Information\, and 
 Computation
URL:http://www.wikicfp.com/cfp/servlet/event.showcfp?eventid=23886&copyow
 nerid=48853
UID:cfp344677-E@wikicfp.com
END:VEVENT
BEGIN:VEVENT
DTSTAMP:20260422T110648Z
DTSTART;VALUE=DATE:20130624
SUMMARY:PACLIC  2013 Deadline
DESCRIPTION:27th Pacific Asia Conference on Language\, Information\, and 
 Computation
URL:http://www.wikicfp.com/cfp/servlet/event.showcfp?eventid=23886&copyow
 nerid=48853
UID:cfp344677-D@wikicfp.com
END:VEVENT
BEGIN:VEVENT
DTSTAMP:20260422T110648Z
DTSTART;VALUE=DATE:20130807
SUMMARY:PACLIC  2013 Notification Due
DESCRIPTION:27th Pacific Asia Conference on Language\, Information\, and 
 Computation
URL:http://www.wikicfp.com/cfp/servlet/event.showcfp?eventid=23886&copyow
 nerid=48853
UID:cfp344677-N@wikicfp.com
END:VEVENT
BEGIN:VEVENT
DTSTAMP:20260422T110648Z
DTSTART;VALUE=DATE:20130902
SUMMARY:PACLIC  2013 Final Version Due
DESCRIPTION:27th Pacific Asia Conference on Language\, Information\, and 
 Computation
URL:http://www.wikicfp.com/cfp/servlet/event.showcfp?eventid=23886&copyow
 nerid=48853
UID:cfp344677-N@wikicfp.com
END:VEVENT
BEGIN:VEVENT
DTSTAMP:20260422T110648Z
DTSTART;VALUE=DATE:20131206
DTEND;VALUE=DATE:20131209
SUMMARY:TAAI 2013
DESCRIPTION:2013 Conference on Technologies and Applications of Artificia
 l Intelligence
URL:http://www.wikicfp.com/cfp/servlet/event.showcfp?eventid=26844&copyow
 nerid=48853
UID:cfp344675-E@wikicfp.com
END:VEVENT
BEGIN:VEVENT
DTSTAMP:20260422T110648Z
DTSTART;VALUE=DATE:20130830
SUMMARY:TAAI 2013 Deadline
DESCRIPTION:2013 Conference on Technologies and Applications of Artificia
 l Intelligence
URL:http://www.wikicfp.com/cfp/servlet/event.showcfp?eventid=26844&copyow
 nerid=48853
UID:cfp344675-D@wikicfp.com
END:VEVENT
BEGIN:VEVENT
DTSTAMP:20260422T110648Z
DTSTART;VALUE=DATE:20130922
SUMMARY:TAAI 2013 Notification Due
DESCRIPTION:2013 Conference on Technologies and Applications of Artificia
 l Intelligence
URL:http://www.wikicfp.com/cfp/servlet/event.showcfp?eventid=26844&copyow
 nerid=48853
UID:cfp344675-N@wikicfp.com
END:VEVENT
BEGIN:VEVENT
DTSTAMP:20260422T110648Z
DTSTART;VALUE=DATE:20130929
SUMMARY:TAAI 2013 Final Version Due
DESCRIPTION:2013 Conference on Technologies and Applications of Artificia
 l Intelligence
URL:http://www.wikicfp.com/cfp/servlet/event.showcfp?eventid=26844&copyow
 nerid=48853
UID:cfp344675-N@wikicfp.com
END:VEVENT
BEGIN:VEVENT
DTSTAMP:20260422T110648Z
DTSTART;VALUE=DATE:20131216
DTEND;VALUE=DATE:20131219
SUMMARY:SemDial 2013
DESCRIPTION:17th Workshop on the Semantics and Pragmatics of Dialogue
URL:http://www.wikicfp.com/cfp/servlet/event.showcfp?eventid=29469&copyow
 nerid=48853
UID:cfp344687-E@wikicfp.com
END:VEVENT
BEGIN:VEVENT
DTSTAMP:20260422T110648Z
DTSTART;VALUE=DATE:20130917
SUMMARY:SemDial 2013 Deadline
DESCRIPTION:17th Workshop on the Semantics and Pragmatics of Dialogue
URL:http://www.wikicfp.com/cfp/servlet/event.showcfp?eventid=29469&copyow
 nerid=48853
UID:cfp344687-D@wikicfp.com
END:VEVENT
BEGIN:VEVENT
DTSTAMP:20260422T110648Z
DTSTART;VALUE=DATE:20131027
SUMMARY:SemDial 2013 Notification Due
DESCRIPTION:17th Workshop on the Semantics and Pragmatics of Dialogue
URL:http://www.wikicfp.com/cfp/servlet/event.showcfp?eventid=29469&copyow
 nerid=48853
UID:cfp344687-N@wikicfp.com
END:VEVENT
BEGIN:VEVENT
DTSTAMP:20260422T110648Z
DTSTART;VALUE=DATE:20131120
SUMMARY:SemDial 2013 Final Version Due
DESCRIPTION:17th Workshop on the Semantics and Pragmatics of Dialogue
URL:http://www.wikicfp.com/cfp/servlet/event.showcfp?eventid=29469&copyow
 nerid=48853
UID:cfp344687-N@wikicfp.com
END:VEVENT
BEGIN:VEVENT
DTSTAMP:20260422T110648Z
DTSTART;VALUE=DATE:20131120
DTEND;VALUE=DATE:20131123
SUMMARY:DICTAP 2013
DESCRIPTION:The Third International Conference on Digital Information and
  Communication Technology and its Applications
URL:http://www.wikicfp.com/cfp/servlet/event.showcfp?eventid=25462&copyow
 nerid=48853
UID:cfp344673-E@wikicfp.com
END:VEVENT
BEGIN:VEVENT
DTSTAMP:20260422T110648Z
DTSTART;VALUE=DATE:20131001
SUMMARY:DICTAP 2013 Deadline
DESCRIPTION:The Third International Conference on Digital Information and
  Communication Technology and its Applications
URL:http://www.wikicfp.com/cfp/servlet/event.showcfp?eventid=25462&copyow
 nerid=48853
UID:cfp344673-D@wikicfp.com
END:VEVENT
BEGIN:VEVENT
DTSTAMP:20260422T110648Z
DTSTART;VALUE=DATE:20131015
SUMMARY:DICTAP 2013 Notification Due
DESCRIPTION:The Third International Conference on Digital Information and
  Communication Technology and its Applications
URL:http://www.wikicfp.com/cfp/servlet/event.showcfp?eventid=25462&copyow
 nerid=48853
UID:cfp344673-N@wikicfp.com
END:VEVENT
BEGIN:VEVENT
DTSTAMP:20260422T110648Z
DTSTART;VALUE=DATE:20131101
SUMMARY:DICTAP 2013 Final Version Due
DESCRIPTION:The Third International Conference on Digital Information and
  Communication Technology and its Applications
URL:http://www.wikicfp.com/cfp/servlet/event.showcfp?eventid=25462&copyow
 nerid=48853
UID:cfp344673-N@wikicfp.com
END:VEVENT
END:VCALENDAR
