BEGIN:VCALENDAR
PRODID:-//WikiCFP//justinorwell 1.0//EN
VERSION:2.0
CALSCALE:GREGORIAN
BEGIN:VEVENT
DTSTAMP:20260419T191243Z
DTSTART;VALUE=DATE:20130920
DTEND;VALUE=DATE:20130923
SUMMARY:IJCCI 2013
DESCRIPTION:INSTICC International Joint Conference on Computational Intel
 ligence
URL:http://www.wikicfp.com/cfp/servlet/event.showcfp?eventid=27914&copyow
 nerid=48823
UID:cfp344504-E@wikicfp.com
END:VEVENT
BEGIN:VEVENT
DTSTAMP:20260419T191243Z
DTSTART;VALUE=DATE:20130313
SUMMARY:IJCCI 2013 Deadline
DESCRIPTION:INSTICC International Joint Conference on Computational Intel
 ligence
URL:http://www.wikicfp.com/cfp/servlet/event.showcfp?eventid=27914&copyow
 nerid=48823
UID:cfp344504-D@wikicfp.com
END:VEVENT
BEGIN:VEVENT
DTSTAMP:20260419T191243Z
DTSTART;VALUE=DATE:20130515
SUMMARY:IJCCI 2013 Notification Due
DESCRIPTION:INSTICC International Joint Conference on Computational Intel
 ligence
URL:http://www.wikicfp.com/cfp/servlet/event.showcfp?eventid=27914&copyow
 nerid=48823
UID:cfp344504-N@wikicfp.com
END:VEVENT
BEGIN:VEVENT
DTSTAMP:20260419T191243Z
DTSTART;VALUE=DATE:20130605
SUMMARY:IJCCI 2013 Final Version Due
DESCRIPTION:INSTICC International Joint Conference on Computational Intel
 ligence
URL:http://www.wikicfp.com/cfp/servlet/event.showcfp?eventid=27914&copyow
 nerid=48823
UID:cfp344504-N@wikicfp.com
END:VEVENT
BEGIN:VEVENT
DTSTAMP:20260419T191243Z
DTSTART;VALUE=DATE:20130920
DTEND;VALUE=DATE:20130923
SUMMARY:ECTA 2013
DESCRIPTION:INSTICC International Conference on Evolutionary Computation 
 Theory and Applications 
URL:http://www.wikicfp.com/cfp/servlet/event.showcfp?eventid=27946&copyow
 nerid=48823
UID:cfp344506-E@wikicfp.com
END:VEVENT
BEGIN:VEVENT
DTSTAMP:20260419T191243Z
DTSTART;VALUE=DATE:20130313
SUMMARY:ECTA 2013 Deadline
DESCRIPTION:INSTICC International Conference on Evolutionary Computation 
 Theory and Applications 
URL:http://www.wikicfp.com/cfp/servlet/event.showcfp?eventid=27946&copyow
 nerid=48823
UID:cfp344506-D@wikicfp.com
END:VEVENT
BEGIN:VEVENT
DTSTAMP:20260419T191243Z
DTSTART;VALUE=DATE:20130515
SUMMARY:ECTA 2013 Notification Due
DESCRIPTION:INSTICC International Conference on Evolutionary Computation 
 Theory and Applications 
URL:http://www.wikicfp.com/cfp/servlet/event.showcfp?eventid=27946&copyow
 nerid=48823
UID:cfp344506-N@wikicfp.com
END:VEVENT
BEGIN:VEVENT
DTSTAMP:20260419T191243Z
DTSTART;VALUE=DATE:20130605
SUMMARY:ECTA 2013 Final Version Due
DESCRIPTION:INSTICC International Conference on Evolutionary Computation 
 Theory and Applications 
URL:http://www.wikicfp.com/cfp/servlet/event.showcfp?eventid=27946&copyow
 nerid=48823
UID:cfp344506-N@wikicfp.com
END:VEVENT
BEGIN:VEVENT
DTSTAMP:20260419T191243Z
DTSTART;VALUE=DATE:20130620
DTEND;VALUE=DATE:20130624
SUMMARY:CEC 2013
DESCRIPTION:IEEE Congress on Evolutionary Computation
URL:http://www.wikicfp.com/cfp/servlet/event.showcfp?eventid=24382&copyow
 nerid=48823
UID:cfp344505-E@wikicfp.com
END:VEVENT
BEGIN:VEVENT
DTSTAMP:20260419T191243Z
DTSTART;VALUE=DATE:20130315
SUMMARY:CEC 2013 Deadline
DESCRIPTION:IEEE Congress on Evolutionary Computation
URL:http://www.wikicfp.com/cfp/servlet/event.showcfp?eventid=24382&copyow
 nerid=48823
UID:cfp344505-D@wikicfp.com
END:VEVENT
BEGIN:VEVENT
DTSTAMP:20260419T191243Z
DTSTART;VALUE=DATE:20130422
SUMMARY:CEC 2013 Notification Due
DESCRIPTION:IEEE Congress on Evolutionary Computation
URL:http://www.wikicfp.com/cfp/servlet/event.showcfp?eventid=24382&copyow
 nerid=48823
UID:cfp344505-N@wikicfp.com
END:VEVENT
BEGIN:VEVENT
DTSTAMP:20260419T191243Z
DTSTART;VALUE=DATE:20130506
SUMMARY:CEC 2013 Final Version Due
DESCRIPTION:IEEE Congress on Evolutionary Computation
URL:http://www.wikicfp.com/cfp/servlet/event.showcfp?eventid=24382&copyow
 nerid=48823
UID:cfp344505-N@wikicfp.com
END:VEVENT
BEGIN:VEVENT
DTSTAMP:20260419T191243Z
DTSTART;VALUE=DATE:20130713
DTEND;VALUE=DATE:20130714
SUMMARY:IWCIA 2013
DESCRIPTION:The 6th International Workshop on Computational Intelligence 
 and Applications 2013
URL:http://www.wikicfp.com/cfp/servlet/event.showcfp?eventid=28265&copyow
 nerid=48823
UID:cfp344507-E@wikicfp.com
END:VEVENT
BEGIN:VEVENT
DTSTAMP:20260419T191243Z
DTSTART;VALUE=DATE:20130329
SUMMARY:IWCIA 2013 Deadline
DESCRIPTION:The 6th International Workshop on Computational Intelligence 
 and Applications 2013
URL:http://www.wikicfp.com/cfp/servlet/event.showcfp?eventid=28265&copyow
 nerid=48823
UID:cfp344507-D@wikicfp.com
END:VEVENT
BEGIN:VEVENT
DTSTAMP:20260419T191243Z
DTSTART;VALUE=DATE:20130426
SUMMARY:IWCIA 2013 Notification Due
DESCRIPTION:The 6th International Workshop on Computational Intelligence 
 and Applications 2013
URL:http://www.wikicfp.com/cfp/servlet/event.showcfp?eventid=28265&copyow
 nerid=48823
UID:cfp344507-N@wikicfp.com
END:VEVENT
BEGIN:VEVENT
DTSTAMP:20260419T191243Z
DTSTART;VALUE=DATE:20130607
SUMMARY:IWCIA 2013 Final Version Due
DESCRIPTION:The 6th International Workshop on Computational Intelligence 
 and Applications 2013
URL:http://www.wikicfp.com/cfp/servlet/event.showcfp?eventid=28265&copyow
 nerid=48823
UID:cfp344507-N@wikicfp.com
END:VEVENT
BEGIN:VEVENT
DTSTAMP:20260419T191243Z
DTSTART;VALUE=DATE:20131012
DTEND;VALUE=DATE:20131017
SUMMARY:RecSys 2013
DESCRIPTION:ACM International Conference on Recommender Systems
URL:http://www.wikicfp.com/cfp/servlet/event.showcfp?eventid=26365&copyow
 nerid=48823
UID:cfp344501-E@wikicfp.com
END:VEVENT
BEGIN:VEVENT
DTSTAMP:20260419T191243Z
DTSTART;VALUE=DATE:20130506
SUMMARY:RecSys 2013 Abstract Due
DESCRIPTION:ACM International Conference on Recommender Systems
URL:http://www.wikicfp.com/cfp/servlet/event.showcfp?eventid=26365&copyow
 nerid=48823
UID:cfp344501-A@wikicfp.com
END:VEVENT
BEGIN:VEVENT
DTSTAMP:20260419T191243Z
DTSTART;VALUE=DATE:20130513
SUMMARY:RecSys 2013 Deadline
DESCRIPTION:ACM International Conference on Recommender Systems
URL:http://www.wikicfp.com/cfp/servlet/event.showcfp?eventid=26365&copyow
 nerid=48823
UID:cfp344501-D@wikicfp.com
END:VEVENT
BEGIN:VEVENT
DTSTAMP:20260419T191243Z
DTSTART;VALUE=DATE:20130708
SUMMARY:RecSys 2013 Notification Due
DESCRIPTION:ACM International Conference on Recommender Systems
URL:http://www.wikicfp.com/cfp/servlet/event.showcfp?eventid=26365&copyow
 nerid=48823
UID:cfp344501-N@wikicfp.com
END:VEVENT
BEGIN:VEVENT
DTSTAMP:20260419T191243Z
DTSTART;VALUE=DATE:20130722
SUMMARY:RecSys 2013 Final Version Due
DESCRIPTION:ACM International Conference on Recommender Systems
URL:http://www.wikicfp.com/cfp/servlet/event.showcfp?eventid=26365&copyow
 nerid=48823
UID:cfp344501-N@wikicfp.com
END:VEVENT
BEGIN:VEVENT
DTSTAMP:20260419T191243Z
DTSTART;VALUE=DATE:20131027
DTEND;VALUE=DATE:20131102
SUMMARY:CIKM 2013
DESCRIPTION:ACM Conference of Information and Knowledge Management
URL:http://www.wikicfp.com/cfp/servlet/event.showcfp?eventid=25339&copyow
 nerid=48823
UID:cfp344502-E@wikicfp.com
END:VEVENT
BEGIN:VEVENT
DTSTAMP:20260419T191243Z
DTSTART;VALUE=DATE:20130510
SUMMARY:CIKM 2013 Abstract Due
DESCRIPTION:ACM Conference of Information and Knowledge Management
URL:http://www.wikicfp.com/cfp/servlet/event.showcfp?eventid=25339&copyow
 nerid=48823
UID:cfp344502-A@wikicfp.com
END:VEVENT
BEGIN:VEVENT
DTSTAMP:20260419T191243Z
DTSTART;VALUE=DATE:20130517
SUMMARY:CIKM 2013 Deadline
DESCRIPTION:ACM Conference of Information and Knowledge Management
URL:http://www.wikicfp.com/cfp/servlet/event.showcfp?eventid=25339&copyow
 nerid=48823
UID:cfp344502-D@wikicfp.com
END:VEVENT
BEGIN:VEVENT
DTSTAMP:20260419T191243Z
DTSTART;VALUE=DATE:20130715
SUMMARY:CIKM 2013 Notification Due
DESCRIPTION:ACM Conference of Information and Knowledge Management
URL:http://www.wikicfp.com/cfp/servlet/event.showcfp?eventid=25339&copyow
 nerid=48823
UID:cfp344502-N@wikicfp.com
END:VEVENT
BEGIN:VEVENT
DTSTAMP:20260419T191243Z
DTSTART;VALUE=DATE:20130811
SUMMARY:CIKM 2013 Final Version Due
DESCRIPTION:ACM Conference of Information and Knowledge Management
URL:http://www.wikicfp.com/cfp/servlet/event.showcfp?eventid=25339&copyow
 nerid=48823
UID:cfp344502-N@wikicfp.com
END:VEVENT
BEGIN:VEVENT
DTSTAMP:20260419T191243Z
DTSTART;VALUE=DATE:20131020
DTEND;VALUE=DATE:20131024
SUMMARY:IDEAL 2013
DESCRIPTION:The International Conference on Intelligent Data Engineering 
 and Automated Learning
URL:http://www.wikicfp.com/cfp/servlet/event.showcfp?eventid=27347&copyow
 nerid=48823
UID:cfp344503-E@wikicfp.com
END:VEVENT
BEGIN:VEVENT
DTSTAMP:20260419T191243Z
DTSTART;VALUE=DATE:20130610
SUMMARY:IDEAL 2013 Deadline
DESCRIPTION:The International Conference on Intelligent Data Engineering 
 and Automated Learning
URL:http://www.wikicfp.com/cfp/servlet/event.showcfp?eventid=27347&copyow
 nerid=48823
UID:cfp344503-D@wikicfp.com
END:VEVENT
BEGIN:VEVENT
DTSTAMP:20260419T191243Z
DTSTART;VALUE=DATE:20130705
SUMMARY:IDEAL 2013 Notification Due
DESCRIPTION:The International Conference on Intelligent Data Engineering 
 and Automated Learning
URL:http://www.wikicfp.com/cfp/servlet/event.showcfp?eventid=27347&copyow
 nerid=48823
UID:cfp344503-N@wikicfp.com
END:VEVENT
BEGIN:VEVENT
DTSTAMP:20260419T191243Z
DTSTART;VALUE=DATE:20130726
SUMMARY:IDEAL 2013 Final Version Due
DESCRIPTION:The International Conference on Intelligent Data Engineering 
 and Automated Learning
URL:http://www.wikicfp.com/cfp/servlet/event.showcfp?eventid=27347&copyow
 nerid=48823
UID:cfp344503-N@wikicfp.com
END:VEVENT
BEGIN:VEVENT
DTSTAMP:20260419T191243Z
DTSTART;VALUE=DATE:20131204
DTEND;VALUE=DATE:20131208
SUMMARY:ICMLA 2013
DESCRIPTION:IEEE International Conference on Machine Learning and Applica
 tions
URL:http://www.wikicfp.com/cfp/servlet/event.showcfp?eventid=28575&copyow
 nerid=48823
UID:cfp344508-E@wikicfp.com
END:VEVENT
BEGIN:VEVENT
DTSTAMP:20260419T191243Z
DTSTART;VALUE=DATE:20130722
SUMMARY:ICMLA 2013 Deadline
DESCRIPTION:IEEE International Conference on Machine Learning and Applica
 tions
URL:http://www.wikicfp.com/cfp/servlet/event.showcfp?eventid=28575&copyow
 nerid=48823
UID:cfp344508-D@wikicfp.com
END:VEVENT
BEGIN:VEVENT
DTSTAMP:20260419T191243Z
DTSTART;VALUE=DATE:20130910
SUMMARY:ICMLA 2013 Notification Due
DESCRIPTION:IEEE International Conference on Machine Learning and Applica
 tions
URL:http://www.wikicfp.com/cfp/servlet/event.showcfp?eventid=28575&copyow
 nerid=48823
UID:cfp344508-N@wikicfp.com
END:VEVENT
BEGIN:VEVENT
DTSTAMP:20260419T191243Z
DTSTART;VALUE=DATE:20131010
SUMMARY:ICMLA 2013 Final Version Due
DESCRIPTION:IEEE International Conference on Machine Learning and Applica
 tions
URL:http://www.wikicfp.com/cfp/servlet/event.showcfp?eventid=28575&copyow
 nerid=48823
UID:cfp344508-N@wikicfp.com
END:VEVENT
BEGIN:VEVENT
DTSTAMP:20260419T191243Z
DTSTART;VALUE=DATE:20150330
DTEND;VALUE=DATE:20150403
SUMMARY:IEEE BigDataService  2015
DESCRIPTION:The First IEEE International Conference on Big Data Computing
  Service and Applications
URL:http://www.wikicfp.com/cfp/servlet/event.showcfp?eventid=40237&copyow
 nerid=48823
UID:cfp541628-E@wikicfp.com
END:VEVENT
BEGIN:VEVENT
DTSTAMP:20260419T191243Z
DTSTART;VALUE=DATE:20141115
SUMMARY:IEEE BigDataService  2015 Abstract Due
DESCRIPTION:The First IEEE International Conference on Big Data Computing
  Service and Applications
URL:http://www.wikicfp.com/cfp/servlet/event.showcfp?eventid=40237&copyow
 nerid=48823
UID:cfp541628-A@wikicfp.com
END:VEVENT
BEGIN:VEVENT
DTSTAMP:20260419T191243Z
DTSTART;VALUE=DATE:20141130
SUMMARY:IEEE BigDataService  2015 Deadline
DESCRIPTION:The First IEEE International Conference on Big Data Computing
  Service and Applications
URL:http://www.wikicfp.com/cfp/servlet/event.showcfp?eventid=40237&copyow
 nerid=48823
UID:cfp541628-D@wikicfp.com
END:VEVENT
BEGIN:VEVENT
DTSTAMP:20260419T191243Z
DTSTART;VALUE=DATE:20141230
SUMMARY:IEEE BigDataService  2015 Notification Due
DESCRIPTION:The First IEEE International Conference on Big Data Computing
  Service and Applications
URL:http://www.wikicfp.com/cfp/servlet/event.showcfp?eventid=40237&copyow
 nerid=48823
UID:cfp541628-N@wikicfp.com
END:VEVENT
BEGIN:VEVENT
DTSTAMP:20260419T191243Z
DTSTART;VALUE=DATE:20150115
SUMMARY:IEEE BigDataService  2015 Final Version Due
DESCRIPTION:The First IEEE International Conference on Big Data Computing
  Service and Applications
URL:http://www.wikicfp.com/cfp/servlet/event.showcfp?eventid=40237&copyow
 nerid=48823
UID:cfp541628-N@wikicfp.com
END:VEVENT
BEGIN:VEVENT
DTSTAMP:20260419T191243Z
DTSTART;VALUE=DATE:20151025
DTEND;VALUE=DATE:20151029
SUMMARY:Bigdata 2015
DESCRIPTION:The International Workshop on Big Data and Smart Sustainable 
 Society 
URL:http://www.wikicfp.com/cfp/servlet/event.showcfp?eventid=46706&copyow
 nerid=48823
UID:cfp541630-E@wikicfp.com
END:VEVENT
BEGIN:VEVENT
DTSTAMP:20260419T191243Z
DTSTART;VALUE=DATE:20150731
SUMMARY:Bigdata 2015 Deadline
DESCRIPTION:The International Workshop on Big Data and Smart Sustainable 
 Society 
URL:http://www.wikicfp.com/cfp/servlet/event.showcfp?eventid=46706&copyow
 nerid=48823
UID:cfp541630-D@wikicfp.com
END:VEVENT
BEGIN:VEVENT
DTSTAMP:20260419T191243Z
DTSTART;VALUE=DATE:20150815
SUMMARY:Bigdata 2015 Notification Due
DESCRIPTION:The International Workshop on Big Data and Smart Sustainable 
 Society 
URL:http://www.wikicfp.com/cfp/servlet/event.showcfp?eventid=46706&copyow
 nerid=48823
UID:cfp541630-N@wikicfp.com
END:VEVENT
BEGIN:VEVENT
DTSTAMP:20260419T191243Z
DTSTART;VALUE=DATE:20150915
SUMMARY:Bigdata 2015 Final Version Due
DESCRIPTION:The International Workshop on Big Data and Smart Sustainable 
 Society 
URL:http://www.wikicfp.com/cfp/servlet/event.showcfp?eventid=46706&copyow
 nerid=48823
UID:cfp541630-N@wikicfp.com
END:VEVENT
BEGIN:VEVENT
DTSTAMP:20260419T191243Z
DTSTART;VALUE=DATE:20151216
DTEND;VALUE=DATE:20151217
SUMMARY:IWFBDC 2015
DESCRIPTION:IEEE International Workshop on Foundations of Big Data Comput
 ing
URL:http://www.wikicfp.com/cfp/servlet/event.showcfp?eventid=47554&copyow
 nerid=48823
UID:cfp541602-E@wikicfp.com
END:VEVENT
BEGIN:VEVENT
DTSTAMP:20260419T191243Z
DTSTART;VALUE=DATE:20150724
SUMMARY:IWFBDC 2015 Abstract Due
DESCRIPTION:IEEE International Workshop on Foundations of Big Data Comput
 ing
URL:http://www.wikicfp.com/cfp/servlet/event.showcfp?eventid=47554&copyow
 nerid=48823
UID:cfp541602-A@wikicfp.com
END:VEVENT
BEGIN:VEVENT
DTSTAMP:20260419T191243Z
DTSTART;VALUE=DATE:20150801
SUMMARY:IWFBDC 2015 Deadline
DESCRIPTION:IEEE International Workshop on Foundations of Big Data Comput
 ing
URL:http://www.wikicfp.com/cfp/servlet/event.showcfp?eventid=47554&copyow
 nerid=48823
UID:cfp541602-D@wikicfp.com
END:VEVENT
BEGIN:VEVENT
DTSTAMP:20260419T191243Z
DTSTART;VALUE=DATE:20150915
SUMMARY:IWFBDC 2015 Notification Due
DESCRIPTION:IEEE International Workshop on Foundations of Big Data Comput
 ing
URL:http://www.wikicfp.com/cfp/servlet/event.showcfp?eventid=47554&copyow
 nerid=48823
UID:cfp541602-N@wikicfp.com
END:VEVENT
BEGIN:VEVENT
DTSTAMP:20260419T191243Z
DTSTART;VALUE=DATE:20150930
SUMMARY:IWFBDC 2015 Final Version Due
DESCRIPTION:IEEE International Workshop on Foundations of Big Data Comput
 ing
URL:http://www.wikicfp.com/cfp/servlet/event.showcfp?eventid=47554&copyow
 nerid=48823
UID:cfp541602-N@wikicfp.com
END:VEVENT
BEGIN:VEVENT
DTSTAMP:20260419T191243Z
DTSTART;VALUE=DATE:20151029
DTEND;VALUE=DATE:20151102
SUMMARY:BIGDATA-ASH 2015
DESCRIPTION:2nd WORKSHOP ON ADVANCES IN SOFTWARE AND HARDWARE FOR BIG DAT
 A TO KNOWLEDGE DISCOVERY (ASH)
URL:http://www.wikicfp.com/cfp/servlet/event.showcfp?eventid=47346&copyow
 nerid=48823
UID:cfp541603-E@wikicfp.com
END:VEVENT
BEGIN:VEVENT
DTSTAMP:20260419T191243Z
DTSTART;VALUE=DATE:20150831
SUMMARY:BIGDATA-ASH 2015 Deadline
DESCRIPTION:2nd WORKSHOP ON ADVANCES IN SOFTWARE AND HARDWARE FOR BIG DAT
 A TO KNOWLEDGE DISCOVERY (ASH)
URL:http://www.wikicfp.com/cfp/servlet/event.showcfp?eventid=47346&copyow
 nerid=48823
UID:cfp541603-D@wikicfp.com
END:VEVENT
BEGIN:VEVENT
DTSTAMP:20260419T191243Z
DTSTART;VALUE=DATE:20150920
SUMMARY:BIGDATA-ASH 2015 Notification Due
DESCRIPTION:2nd WORKSHOP ON ADVANCES IN SOFTWARE AND HARDWARE FOR BIG DAT
 A TO KNOWLEDGE DISCOVERY (ASH)
URL:http://www.wikicfp.com/cfp/servlet/event.showcfp?eventid=47346&copyow
 nerid=48823
UID:cfp541603-N@wikicfp.com
END:VEVENT
BEGIN:VEVENT
DTSTAMP:20260419T191243Z
DTSTART;VALUE=DATE:20151005
SUMMARY:BIGDATA-ASH 2015 Final Version Due
DESCRIPTION:2nd WORKSHOP ON ADVANCES IN SOFTWARE AND HARDWARE FOR BIG DAT
 A TO KNOWLEDGE DISCOVERY (ASH)
URL:http://www.wikicfp.com/cfp/servlet/event.showcfp?eventid=47346&copyow
 nerid=48823
UID:cfp541603-N@wikicfp.com
END:VEVENT
BEGIN:VEVENT
DTSTAMP:20260419T191243Z
DTSTART;VALUE=DATE:20160411
DTEND;VALUE=DATE:20160416
SUMMARY:WWW 2016
DESCRIPTION:25th International World Wide Web Conference
URL:http://www.wikicfp.com/cfp/servlet/event.showcfp?eventid=47342&copyow
 nerid=48823
UID:cfp552654-E@wikicfp.com
END:VEVENT
BEGIN:VEVENT
DTSTAMP:20260419T191243Z
DTSTART;VALUE=DATE:20151010
SUMMARY:WWW 2016 Abstract Due
DESCRIPTION:25th International World Wide Web Conference
URL:http://www.wikicfp.com/cfp/servlet/event.showcfp?eventid=47342&copyow
 nerid=48823
UID:cfp552654-A@wikicfp.com
END:VEVENT
BEGIN:VEVENT
DTSTAMP:20260419T191243Z
DTSTART;VALUE=DATE:20151017
SUMMARY:WWW 2016 Deadline
DESCRIPTION:25th International World Wide Web Conference
URL:http://www.wikicfp.com/cfp/servlet/event.showcfp?eventid=47342&copyow
 nerid=48823
UID:cfp552654-D@wikicfp.com
END:VEVENT
BEGIN:VEVENT
DTSTAMP:20260419T191243Z
DTSTART;VALUE=DATE:20151215
SUMMARY:WWW 2016 Notification Due
DESCRIPTION:25th International World Wide Web Conference
URL:http://www.wikicfp.com/cfp/servlet/event.showcfp?eventid=47342&copyow
 nerid=48823
UID:cfp552654-N@wikicfp.com
END:VEVENT
BEGIN:VEVENT
DTSTAMP:20260419T191243Z
DTSTART;VALUE=DATE:20160207
SUMMARY:WWW 2016 Final Version Due
DESCRIPTION:25th International World Wide Web Conference
URL:http://www.wikicfp.com/cfp/servlet/event.showcfp?eventid=47342&copyow
 nerid=48823
UID:cfp552654-N@wikicfp.com
END:VEVENT
END:VCALENDAR
