BEGIN:VCALENDAR
PRODID:-//WikiCFP//mfrincu 1.0//EN
VERSION:2.0
CALSCALE:GREGORIAN
BEGIN:VEVENT
DTSTAMP:20260419T141249Z
DTSTART;VALUE=DATE:20130524
SUMMARY:SCPE SI June 2013 Deadline
DESCRIPTION:Scalable Computing: Practice and Experience SI on Multi-agent
  Systems: Methodologies\, Tools and Applications
URL:http://www.wikicfp.com/cfp/servlet/event.showcfp?eventid=30052&copyow
 nerid=48429
UID:cfp349480-D@wikicfp.com
END:VEVENT
BEGIN:VEVENT
DTSTAMP:20260419T141249Z
DTSTART;VALUE=DATE:20130614
SUMMARY:SCPE SI June 2013 Notification Due
DESCRIPTION:Scalable Computing: Practice and Experience SI on Multi-agent
  Systems: Methodologies\, Tools and Applications
URL:http://www.wikicfp.com/cfp/servlet/event.showcfp?eventid=30052&copyow
 nerid=48429
UID:cfp349480-N@wikicfp.com
END:VEVENT
BEGIN:VEVENT
DTSTAMP:20260419T141249Z
DTSTART;VALUE=DATE:20130628
SUMMARY:SCPE SI June 2013 Final Version Due
DESCRIPTION:Scalable Computing: Practice and Experience SI on Multi-agent
  Systems: Methodologies\, Tools and Applications
URL:http://www.wikicfp.com/cfp/servlet/event.showcfp?eventid=30052&copyow
 nerid=48429
UID:cfp349480-N@wikicfp.com
END:VEVENT
BEGIN:VEVENT
DTSTAMP:20260419T141249Z
DTSTART;VALUE=DATE:20130923
DTEND;VALUE=DATE:20130927
SUMMARY:SYNASC - Distributed Track 2013
DESCRIPTION:15th International Symposium on Symbolic and Numeric Algorith
 ms for Scientific Computing - Distributed Computing Track
URL:http://www.wikicfp.com/cfp/servlet/event.showcfp?eventid=29389&copyow
 nerid=48429
UID:cfp341454-E@wikicfp.com
END:VEVENT
BEGIN:VEVENT
DTSTAMP:20260419T141249Z
DTSTART;VALUE=DATE:20130623
SUMMARY:SYNASC - Distributed Track 2013 Abstract Due
DESCRIPTION:15th International Symposium on Symbolic and Numeric Algorith
 ms for Scientific Computing - Distributed Computing Track
URL:http://www.wikicfp.com/cfp/servlet/event.showcfp?eventid=29389&copyow
 nerid=48429
UID:cfp341454-A@wikicfp.com
END:VEVENT
BEGIN:VEVENT
DTSTAMP:20260419T141249Z
DTSTART;VALUE=DATE:20130630
SUMMARY:SYNASC - Distributed Track 2013 Deadline
DESCRIPTION:15th International Symposium on Symbolic and Numeric Algorith
 ms for Scientific Computing - Distributed Computing Track
URL:http://www.wikicfp.com/cfp/servlet/event.showcfp?eventid=29389&copyow
 nerid=48429
UID:cfp341454-D@wikicfp.com
END:VEVENT
BEGIN:VEVENT
DTSTAMP:20260419T141249Z
DTSTART;VALUE=DATE:20130804
SUMMARY:SYNASC - Distributed Track 2013 Notification Due
DESCRIPTION:15th International Symposium on Symbolic and Numeric Algorith
 ms for Scientific Computing - Distributed Computing Track
URL:http://www.wikicfp.com/cfp/servlet/event.showcfp?eventid=29389&copyow
 nerid=48429
UID:cfp341454-N@wikicfp.com
END:VEVENT
BEGIN:VEVENT
DTSTAMP:20260419T141249Z
DTSTART;VALUE=DATE:20130908
SUMMARY:SYNASC - Distributed Track 2013 Final Version Due
DESCRIPTION:15th International Symposium on Symbolic and Numeric Algorith
 ms for Scientific Computing - Distributed Computing Track
URL:http://www.wikicfp.com/cfp/servlet/event.showcfp?eventid=29389&copyow
 nerid=48429
UID:cfp341454-N@wikicfp.com
END:VEVENT
BEGIN:VEVENT
DTSTAMP:20260419T141249Z
DTSTART;VALUE=DATE:20130715
SUMMARY:SCPE SI September 2013 Deadline
DESCRIPTION:Scalable Computing: Practice and Experience SI on: Context-aw
 are Architectures and Services on Emerging Infrastructures
URL:http://www.wikicfp.com/cfp/servlet/event.showcfp?eventid=29390&copyow
 nerid=48429
UID:cfp341455-D@wikicfp.com
END:VEVENT
BEGIN:VEVENT
DTSTAMP:20260419T141249Z
DTSTART;VALUE=DATE:20130831
SUMMARY:SCPE SI September 2013 Notification Due
DESCRIPTION:Scalable Computing: Practice and Experience SI on: Context-aw
 are Architectures and Services on Emerging Infrastructures
URL:http://www.wikicfp.com/cfp/servlet/event.showcfp?eventid=29390&copyow
 nerid=48429
UID:cfp341455-N@wikicfp.com
END:VEVENT
BEGIN:VEVENT
DTSTAMP:20260419T141249Z
DTSTART;VALUE=DATE:20130920
SUMMARY:SCPE SI September 2013 Final Version Due
DESCRIPTION:Scalable Computing: Practice and Experience SI on: Context-aw
 are Architectures and Services on Emerging Infrastructures
URL:http://www.wikicfp.com/cfp/servlet/event.showcfp?eventid=29390&copyow
 nerid=48429
UID:cfp341455-N@wikicfp.com
END:VEVENT
BEGIN:VEVENT
DTSTAMP:20260419T141249Z
DTSTART;VALUE=DATE:20140526
DTEND;VALUE=DATE:20140527
SUMMARY:SCRAMBL 2014
DESCRIPTION:1st International Workshop on Scalable Computing For Real-Tim
 e Big Data Applications
URL:http://www.wikicfp.com/cfp/servlet/event.showcfp?eventid=34239&copyow
 nerid=48429
UID:cfp405733-E@wikicfp.com
END:VEVENT
BEGIN:VEVENT
DTSTAMP:20260419T141249Z
DTSTART;VALUE=DATE:20140210
SUMMARY:SCRAMBL 2014 Deadline
DESCRIPTION:1st International Workshop on Scalable Computing For Real-Tim
 e Big Data Applications
URL:http://www.wikicfp.com/cfp/servlet/event.showcfp?eventid=34239&copyow
 nerid=48429
UID:cfp405733-D@wikicfp.com
END:VEVENT
BEGIN:VEVENT
DTSTAMP:20260419T141249Z
DTSTART;VALUE=DATE:20140228
SUMMARY:SCRAMBL 2014 Notification Due
DESCRIPTION:1st International Workshop on Scalable Computing For Real-Tim
 e Big Data Applications
URL:http://www.wikicfp.com/cfp/servlet/event.showcfp?eventid=34239&copyow
 nerid=48429
UID:cfp405733-N@wikicfp.com
END:VEVENT
BEGIN:VEVENT
DTSTAMP:20260419T141249Z
DTSTART;VALUE=DATE:20140314
SUMMARY:SCRAMBL 2014 Final Version Due
DESCRIPTION:1st International Workshop on Scalable Computing For Real-Tim
 e Big Data Applications
URL:http://www.wikicfp.com/cfp/servlet/event.showcfp?eventid=34239&copyow
 nerid=48429
UID:cfp405733-N@wikicfp.com
END:VEVENT
BEGIN:VEVENT
DTSTAMP:20260419T141249Z
DTSTART;VALUE=DATE:20140217
SUMMARY:SCPE SI March 2014 Deadline
DESCRIPTION:Scalable Computing: Practice and Experience -- SI on Recent T
 opics in HPC and Clouds
URL:http://www.wikicfp.com/cfp/servlet/event.showcfp?eventid=35357&copyow
 nerid=48429
UID:cfp416523-D@wikicfp.com
END:VEVENT
BEGIN:VEVENT
DTSTAMP:20260419T141249Z
DTSTART;VALUE=DATE:20140303
SUMMARY:SCPE SI March 2014 Notification Due
DESCRIPTION:Scalable Computing: Practice and Experience -- SI on Recent T
 opics in HPC and Clouds
URL:http://www.wikicfp.com/cfp/servlet/event.showcfp?eventid=35357&copyow
 nerid=48429
UID:cfp416523-N@wikicfp.com
END:VEVENT
BEGIN:VEVENT
DTSTAMP:20260419T141249Z
DTSTART;VALUE=DATE:20140320
SUMMARY:SCPE SI March 2014 Final Version Due
DESCRIPTION:Scalable Computing: Practice and Experience -- SI on Recent T
 opics in HPC and Clouds
URL:http://www.wikicfp.com/cfp/servlet/event.showcfp?eventid=35357&copyow
 nerid=48429
UID:cfp416523-N@wikicfp.com
END:VEVENT
BEGIN:VEVENT
DTSTAMP:20260419T141249Z
DTSTART;VALUE=DATE:20140425
SUMMARY:SCPE SI September 2014 Deadline
DESCRIPTION:Scalable Computing: Practice and Experience -- SI on Differen
 t Faces of Agents
URL:http://www.wikicfp.com/cfp/servlet/event.showcfp?eventid=35359&copyow
 nerid=48429
UID:cfp416527-D@wikicfp.com
END:VEVENT
BEGIN:VEVENT
DTSTAMP:20260419T141249Z
DTSTART;VALUE=DATE:20140520
SUMMARY:SCPE SI September 2014 Notification Due
DESCRIPTION:Scalable Computing: Practice and Experience -- SI on Differen
 t Faces of Agents
URL:http://www.wikicfp.com/cfp/servlet/event.showcfp?eventid=35359&copyow
 nerid=48429
UID:cfp416527-N@wikicfp.com
END:VEVENT
BEGIN:VEVENT
DTSTAMP:20260419T141249Z
DTSTART;VALUE=DATE:20140618
SUMMARY:SCPE SI September 2014 Final Version Due
DESCRIPTION:Scalable Computing: Practice and Experience -- SI on Differen
 t Faces of Agents
URL:http://www.wikicfp.com/cfp/servlet/event.showcfp?eventid=35359&copyow
 nerid=48429
UID:cfp416527-N@wikicfp.com
END:VEVENT
BEGIN:VEVENT
DTSTAMP:20260419T141249Z
DTSTART;VALUE=DATE:20140430
SUMMARY:SCPE SI July 2014 Deadline
DESCRIPTION:Scalable Computing: Practice and Experience -- SI on Security
  Transparency in Cloud based Services
URL:http://www.wikicfp.com/cfp/servlet/event.showcfp?eventid=35358&copyow
 nerid=48429
UID:cfp416524-D@wikicfp.com
END:VEVENT
BEGIN:VEVENT
DTSTAMP:20260419T141249Z
DTSTART;VALUE=DATE:20140530
SUMMARY:SCPE SI July 2014 Notification Due
DESCRIPTION:Scalable Computing: Practice and Experience -- SI on Security
  Transparency in Cloud based Services
URL:http://www.wikicfp.com/cfp/servlet/event.showcfp?eventid=35358&copyow
 nerid=48429
UID:cfp416524-N@wikicfp.com
END:VEVENT
BEGIN:VEVENT
DTSTAMP:20260419T141249Z
DTSTART;VALUE=DATE:20140616
SUMMARY:SCPE SI July 2014 Final Version Due
DESCRIPTION:Scalable Computing: Practice and Experience -- SI on Security
  Transparency in Cloud based Services
URL:http://www.wikicfp.com/cfp/servlet/event.showcfp?eventid=35358&copyow
 nerid=48429
UID:cfp416524-N@wikicfp.com
END:VEVENT
END:VCALENDAR
