BEGIN:VCALENDAR
PRODID:-//WikiCFP//Almaadeed 1.0//EN
VERSION:2.0
CALSCALE:GREGORIAN
BEGIN:VEVENT
DTSTAMP:20260421T100138Z
DTSTART;VALUE=DATE:20091118
DTEND;VALUE=DATE:20091120
SUMMARY:ICSIPA 2009
DESCRIPTION:IEEE International Conference on Signal & Image Processing Ap
 plications (ICSIPA09)
URL:http://www.wikicfp.com/cfp/servlet/event.showcfp?eventid=5182&copyown
 erid=4805
UID:cfp37704-E@wikicfp.com
END:VEVENT
BEGIN:VEVENT
DTSTAMP:20260421T100138Z
DTSTART;VALUE=DATE:20090615
SUMMARY:ICSIPA 2009 Deadline
DESCRIPTION:IEEE International Conference on Signal & Image Processing Ap
 plications (ICSIPA09)
URL:http://www.wikicfp.com/cfp/servlet/event.showcfp?eventid=5182&copyown
 erid=4805
UID:cfp37704-D@wikicfp.com
END:VEVENT
BEGIN:VEVENT
DTSTAMP:20260421T100138Z
DTSTART;VALUE=DATE:20090901
SUMMARY:ICSIPA 2009 Notification Due
DESCRIPTION:IEEE International Conference on Signal & Image Processing Ap
 plications (ICSIPA09)
URL:http://www.wikicfp.com/cfp/servlet/event.showcfp?eventid=5182&copyown
 erid=4805
UID:cfp37704-N@wikicfp.com
END:VEVENT
BEGIN:VEVENT
DTSTAMP:20260421T100138Z
DTSTART;VALUE=DATE:20090928
SUMMARY:ICSIPA 2009 Final Version Due
DESCRIPTION:IEEE International Conference on Signal & Image Processing Ap
 plications (ICSIPA09)
URL:http://www.wikicfp.com/cfp/servlet/event.showcfp?eventid=5182&copyown
 erid=4805
UID:cfp37704-N@wikicfp.com
END:VEVENT
BEGIN:VEVENT
DTSTAMP:20260421T100138Z
DTSTART;VALUE=DATE:20091106
DTEND;VALUE=DATE:20091109
SUMMARY:SCS 2009
DESCRIPTION:International Conference on Signals\, Circuits and Systems
URL:http://www.wikicfp.com/cfp/servlet/event.showcfp?eventid=5097&copyown
 erid=4805
UID:cfp37703-E@wikicfp.com
END:VEVENT
BEGIN:VEVENT
DTSTAMP:20260421T100138Z
DTSTART;VALUE=DATE:20090630
SUMMARY:SCS 2009 Deadline
DESCRIPTION:International Conference on Signals\, Circuits and Systems
URL:http://www.wikicfp.com/cfp/servlet/event.showcfp?eventid=5097&copyown
 erid=4805
UID:cfp37703-D@wikicfp.com
END:VEVENT
BEGIN:VEVENT
DTSTAMP:20260421T100138Z
DTSTART;VALUE=DATE:20090830
SUMMARY:SCS 2009 Notification Due
DESCRIPTION:International Conference on Signals\, Circuits and Systems
URL:http://www.wikicfp.com/cfp/servlet/event.showcfp?eventid=5097&copyown
 erid=4805
UID:cfp37703-N@wikicfp.com
END:VEVENT
BEGIN:VEVENT
DTSTAMP:20260421T100138Z
DTSTART;VALUE=DATE:20090930
SUMMARY:SCS 2009 Final Version Due
DESCRIPTION:International Conference on Signals\, Circuits and Systems
URL:http://www.wikicfp.com/cfp/servlet/event.showcfp?eventid=5097&copyown
 erid=4805
UID:cfp37703-N@wikicfp.com
END:VEVENT
BEGIN:VEVENT
DTSTAMP:20260421T100138Z
DTSTART;VALUE=DATE:20091107
DTEND;VALUE=DATE:20091109
SUMMARY:HAVE 2009
DESCRIPTION:IEEE International Workshop on Haptic Audio-Visual Environmen
 ts and Games
URL:http://www.wikicfp.com/cfp/servlet/event.showcfp?eventid=5548&copyown
 erid=4805
UID:cfp37706-E@wikicfp.com
END:VEVENT
BEGIN:VEVENT
DTSTAMP:20260421T100138Z
DTSTART;VALUE=DATE:20090710
SUMMARY:HAVE 2009 Deadline
DESCRIPTION:IEEE International Workshop on Haptic Audio-Visual Environmen
 ts and Games
URL:http://www.wikicfp.com/cfp/servlet/event.showcfp?eventid=5548&copyown
 erid=4805
UID:cfp37706-D@wikicfp.com
END:VEVENT
BEGIN:VEVENT
DTSTAMP:20260421T100138Z
DTSTART;VALUE=DATE:20090901
SUMMARY:HAVE 2009 Notification Due
DESCRIPTION:IEEE International Workshop on Haptic Audio-Visual Environmen
 ts and Games
URL:http://www.wikicfp.com/cfp/servlet/event.showcfp?eventid=5548&copyown
 erid=4805
UID:cfp37706-N@wikicfp.com
END:VEVENT
BEGIN:VEVENT
DTSTAMP:20260421T100138Z
DTSTART;VALUE=DATE:20090915
SUMMARY:HAVE 2009 Final Version Due
DESCRIPTION:IEEE International Workshop on Haptic Audio-Visual Environmen
 ts and Games
URL:http://www.wikicfp.com/cfp/servlet/event.showcfp?eventid=5548&copyown
 erid=4805
UID:cfp37706-N@wikicfp.com
END:VEVENT
BEGIN:VEVENT
DTSTAMP:20260421T100138Z
DTSTART;VALUE=DATE:20091213
DTEND;VALUE=DATE:20091218
SUMMARY:ASRU 2009
DESCRIPTION:IEEE Workshop on Automatic Speech Recognition & Understanding
 
URL:http://www.wikicfp.com/cfp/servlet/event.showcfp?eventid=4033&copyown
 erid=4805
UID:cfp37701-E@wikicfp.com
END:VEVENT
BEGIN:VEVENT
DTSTAMP:20260421T100138Z
DTSTART;VALUE=DATE:20090715
SUMMARY:ASRU 2009 Deadline
DESCRIPTION:IEEE Workshop on Automatic Speech Recognition & Understanding
 
URL:http://www.wikicfp.com/cfp/servlet/event.showcfp?eventid=4033&copyown
 erid=4805
UID:cfp37701-D@wikicfp.com
END:VEVENT
BEGIN:VEVENT
DTSTAMP:20260421T100138Z
DTSTART;VALUE=DATE:20090903
SUMMARY:ASRU 2009 Notification Due
DESCRIPTION:IEEE Workshop on Automatic Speech Recognition & Understanding
 
URL:http://www.wikicfp.com/cfp/servlet/event.showcfp?eventid=4033&copyown
 erid=4805
UID:cfp37701-N@wikicfp.com
END:VEVENT
BEGIN:VEVENT
DTSTAMP:20260421T100138Z
DTSTART;VALUE=DATE:20100303
DTEND;VALUE=DATE:20100306
SUMMARY:ISCCSP 2010
DESCRIPTION:International Symposium on Communications\, Control and Signa
 l Processing
URL:http://www.wikicfp.com/cfp/servlet/event.showcfp?eventid=5512&copyown
 erid=4805
UID:cfp37705-E@wikicfp.com
END:VEVENT
BEGIN:VEVENT
DTSTAMP:20260421T100138Z
DTSTART;VALUE=DATE:20090724
SUMMARY:ISCCSP 2010 Deadline
DESCRIPTION:International Symposium on Communications\, Control and Signa
 l Processing
URL:http://www.wikicfp.com/cfp/servlet/event.showcfp?eventid=5512&copyown
 erid=4805
UID:cfp37705-D@wikicfp.com
END:VEVENT
BEGIN:VEVENT
DTSTAMP:20260421T100138Z
DTSTART;VALUE=DATE:20091210
DTEND;VALUE=DATE:20091213
SUMMARY:SIP 2009
DESCRIPTION:2009 International Symposium on Signal Processing\, Image Pro
 cessing and Pattern Recognition
URL:http://www.wikicfp.com/cfp/servlet/event.showcfp?eventid=4130&copyown
 erid=4805
UID:cfp37702-E@wikicfp.com
END:VEVENT
BEGIN:VEVENT
DTSTAMP:20260421T100138Z
DTSTART;VALUE=DATE:20090810
SUMMARY:SIP 2009 Deadline
DESCRIPTION:2009 International Symposium on Signal Processing\, Image Pro
 cessing and Pattern Recognition
URL:http://www.wikicfp.com/cfp/servlet/event.showcfp?eventid=4130&copyown
 erid=4805
UID:cfp37702-D@wikicfp.com
END:VEVENT
BEGIN:VEVENT
DTSTAMP:20260421T100138Z
DTSTART;VALUE=DATE:20090820
SUMMARY:SIP 2009 Notification Due
DESCRIPTION:2009 International Symposium on Signal Processing\, Image Pro
 cessing and Pattern Recognition
URL:http://www.wikicfp.com/cfp/servlet/event.showcfp?eventid=4130&copyown
 erid=4805
UID:cfp37702-N@wikicfp.com
END:VEVENT
BEGIN:VEVENT
DTSTAMP:20260421T100138Z
DTSTART;VALUE=DATE:20090830
SUMMARY:SIP 2009 Final Version Due
DESCRIPTION:2009 International Symposium on Signal Processing\, Image Pro
 cessing and Pattern Recognition
URL:http://www.wikicfp.com/cfp/servlet/event.showcfp?eventid=4130&copyown
 erid=4805
UID:cfp37702-N@wikicfp.com
END:VEVENT
BEGIN:VEVENT
DTSTAMP:20260421T100138Z
DTSTART;VALUE=DATE:20100315
DTEND;VALUE=DATE:20100320
SUMMARY:ICASSP 2010
DESCRIPTION:IEEE International Conference on Acoustics\, Speech and Signa
 l Processing
URL:http://www.wikicfp.com/cfp/servlet/event.showcfp?eventid=3874&copyown
 erid=4805
UID:cfp37700-E@wikicfp.com
END:VEVENT
BEGIN:VEVENT
DTSTAMP:20260421T100138Z
DTSTART;VALUE=DATE:20090914
SUMMARY:ICASSP 2010 Deadline
DESCRIPTION:IEEE International Conference on Acoustics\, Speech and Signa
 l Processing
URL:http://www.wikicfp.com/cfp/servlet/event.showcfp?eventid=3874&copyown
 erid=4805
UID:cfp37700-D@wikicfp.com
END:VEVENT
BEGIN:VEVENT
DTSTAMP:20260421T100138Z
DTSTART;VALUE=DATE:20091211
SUMMARY:ICASSP 2010 Notification Due
DESCRIPTION:IEEE International Conference on Acoustics\, Speech and Signa
 l Processing
URL:http://www.wikicfp.com/cfp/servlet/event.showcfp?eventid=3874&copyown
 erid=4805
UID:cfp37700-N@wikicfp.com
END:VEVENT
BEGIN:VEVENT
DTSTAMP:20260421T100138Z
DTSTART;VALUE=DATE:20100108
SUMMARY:ICASSP 2010 Final Version Due
DESCRIPTION:IEEE International Conference on Acoustics\, Speech and Signa
 l Processing
URL:http://www.wikicfp.com/cfp/servlet/event.showcfp?eventid=3874&copyown
 erid=4805
UID:cfp37700-N@wikicfp.com
END:VEVENT
BEGIN:VEVENT
DTSTAMP:20260421T100138Z
DTSTART;VALUE=DATE:20100912
DTEND;VALUE=DATE:20100916
SUMMARY:ICIP 2010
DESCRIPTION:IEEE International Conference on Image Processing
URL:http://www.wikicfp.com/cfp/servlet/event.showcfp?eventid=1086&copyown
 erid=4805
UID:cfp37699-E@wikicfp.com
END:VEVENT
BEGIN:VEVENT
DTSTAMP:20260421T100138Z
DTSTART;VALUE=DATE:20100125
SUMMARY:ICIP 2010 Deadline
DESCRIPTION:IEEE International Conference on Image Processing
URL:http://www.wikicfp.com/cfp/servlet/event.showcfp?eventid=1086&copyown
 erid=4805
UID:cfp37699-D@wikicfp.com
END:VEVENT
BEGIN:VEVENT
DTSTAMP:20260421T100138Z
DTSTART;VALUE=DATE:20100426
SUMMARY:ICIP 2010 Notification Due
DESCRIPTION:IEEE International Conference on Image Processing
URL:http://www.wikicfp.com/cfp/servlet/event.showcfp?eventid=1086&copyown
 erid=4805
UID:cfp37699-N@wikicfp.com
END:VEVENT
BEGIN:VEVENT
DTSTAMP:20260421T100138Z
DTSTART;VALUE=DATE:20100524
SUMMARY:ICIP 2010 Final Version Due
DESCRIPTION:IEEE International Conference on Image Processing
URL:http://www.wikicfp.com/cfp/servlet/event.showcfp?eventid=1086&copyown
 erid=4805
UID:cfp37699-N@wikicfp.com
END:VEVENT
END:VCALENDAR
