BEGIN:VCALENDAR
PRODID:-//WikiCFP//riaor 1.0//EN
VERSION:2.0
CALSCALE:GREGORIAN
BEGIN:VEVENT
DTSTAMP:20260422T053639Z
DTSTART;VALUE=DATE:20130730
DTEND;VALUE=DATE:20130804
SUMMARY:SMC 2013
DESCRIPTION:Sound and Music Computing Conference 2013
URL:http://www.wikicfp.com/cfp/servlet/event.showcfp?eventid=27338&copyow
 nerid=47677
UID:cfp336094-E@wikicfp.com
END:VEVENT
BEGIN:VEVENT
DTSTAMP:20260422T053639Z
DTSTART;VALUE=DATE:20130407
SUMMARY:SMC 2013 Deadline
DESCRIPTION:Sound and Music Computing Conference 2013
URL:http://www.wikicfp.com/cfp/servlet/event.showcfp?eventid=27338&copyow
 nerid=47677
UID:cfp336094-D@wikicfp.com
END:VEVENT
BEGIN:VEVENT
DTSTAMP:20260422T053639Z
DTSTART;VALUE=DATE:20130522
SUMMARY:SMC 2013 Notification Due
DESCRIPTION:Sound and Music Computing Conference 2013
URL:http://www.wikicfp.com/cfp/servlet/event.showcfp?eventid=27338&copyow
 nerid=47677
UID:cfp336094-N@wikicfp.com
END:VEVENT
BEGIN:VEVENT
DTSTAMP:20260422T053639Z
DTSTART;VALUE=DATE:20130603
SUMMARY:SMC 2013 Final Version Due
DESCRIPTION:Sound and Music Computing Conference 2013
URL:http://www.wikicfp.com/cfp/servlet/event.showcfp?eventid=27338&copyow
 nerid=47677
UID:cfp336094-N@wikicfp.com
END:VEVENT
BEGIN:VEVENT
DTSTAMP:20260422T053639Z
DTSTART;VALUE=DATE:20131104
DTEND;VALUE=DATE:20131109
SUMMARY:ISMIR 2013
DESCRIPTION:14th International Society for Music Information Retrieval Co
 nference
URL:http://www.wikicfp.com/cfp/servlet/event.showcfp?eventid=28871&copyow
 nerid=47677
UID:cfp336093-E@wikicfp.com
END:VEVENT
BEGIN:VEVENT
DTSTAMP:20260422T053639Z
DTSTART;VALUE=DATE:20130510
SUMMARY:ISMIR 2013 Deadline
DESCRIPTION:14th International Society for Music Information Retrieval Co
 nference
URL:http://www.wikicfp.com/cfp/servlet/event.showcfp?eventid=28871&copyow
 nerid=47677
UID:cfp336093-D@wikicfp.com
END:VEVENT
BEGIN:VEVENT
DTSTAMP:20260422T053639Z
DTSTART;VALUE=DATE:20130705
SUMMARY:ISMIR 2013 Notification Due
DESCRIPTION:14th International Society for Music Information Retrieval Co
 nference
URL:http://www.wikicfp.com/cfp/servlet/event.showcfp?eventid=28871&copyow
 nerid=47677
UID:cfp336093-N@wikicfp.com
END:VEVENT
BEGIN:VEVENT
DTSTAMP:20260422T053639Z
DTSTART;VALUE=DATE:20130725
SUMMARY:ISMIR 2013 Final Version Due
DESCRIPTION:14th International Society for Music Information Retrieval Co
 nference
URL:http://www.wikicfp.com/cfp/servlet/event.showcfp?eventid=28871&copyow
 nerid=47677
UID:cfp336093-N@wikicfp.com
END:VEVENT
END:VCALENDAR
