BEGIN:VCALENDAR
PRODID:-//WikiCFP//tlanglois 1.0//EN
VERSION:2.0
CALSCALE:GREGORIAN
BEGIN:VEVENT
DTSTAMP:20260423T101132Z
DTSTART;VALUE=DATE:20110722
DTEND;VALUE=DATE:20110725
SUMMARY:AES 2011
DESCRIPTION:AES 42nd Conference on Semantic Audio
URL:http://www.wikicfp.com/cfp/servlet/event.showcfp?eventid=14414&copyow
 nerid=47225
UID:cfp332743-E@wikicfp.com
END:VEVENT
BEGIN:VEVENT
DTSTAMP:20260423T101132Z
DTSTART;VALUE=DATE:20110313
SUMMARY:AES 2011 Deadline
DESCRIPTION:AES 42nd Conference on Semantic Audio
URL:http://www.wikicfp.com/cfp/servlet/event.showcfp?eventid=14414&copyow
 nerid=47225
UID:cfp332743-D@wikicfp.com
END:VEVENT
BEGIN:VEVENT
DTSTAMP:20260423T101132Z
DTSTART;VALUE=DATE:20110415
SUMMARY:AES 2011 Notification Due
DESCRIPTION:AES 42nd Conference on Semantic Audio
URL:http://www.wikicfp.com/cfp/servlet/event.showcfp?eventid=14414&copyow
 nerid=47225
UID:cfp332743-N@wikicfp.com
END:VEVENT
BEGIN:VEVENT
DTSTAMP:20260423T101132Z
DTSTART;VALUE=DATE:20110515
SUMMARY:AES 2011 Final Version Due
DESCRIPTION:AES 42nd Conference on Semantic Audio
URL:http://www.wikicfp.com/cfp/servlet/event.showcfp?eventid=14414&copyow
 nerid=47225
UID:cfp332743-N@wikicfp.com
END:VEVENT
BEGIN:VEVENT
DTSTAMP:20260423T101132Z
DTSTART;VALUE=DATE:20120401
DTEND;VALUE=DATE:20120406
SUMMARY:ECIR 2012
DESCRIPTION:European Conference on Information Retrieval
URL:http://www.wikicfp.com/cfp/servlet/event.showcfp?eventid=17037&copyow
 nerid=47225
UID:cfp332741-E@wikicfp.com
END:VEVENT
BEGIN:VEVENT
DTSTAMP:20260423T101132Z
DTSTART;VALUE=DATE:20111002
SUMMARY:ECIR 2012 Deadline
DESCRIPTION:European Conference on Information Retrieval
URL:http://www.wikicfp.com/cfp/servlet/event.showcfp?eventid=17037&copyow
 nerid=47225
UID:cfp332741-D@wikicfp.com
END:VEVENT
BEGIN:VEVENT
DTSTAMP:20260423T101132Z
DTSTART;VALUE=DATE:20120417
DTEND;VALUE=DATE:20120418
SUMMARY:AdMIRe 2012
DESCRIPTION:4th International Workshop on Advances in Music Information R
 esearch
URL:http://www.wikicfp.com/cfp/servlet/event.showcfp?eventid=19866&copyow
 nerid=47225
UID:cfp332744-E@wikicfp.com
END:VEVENT
BEGIN:VEVENT
DTSTAMP:20260423T101132Z
DTSTART;VALUE=DATE:20120122
SUMMARY:AdMIRe 2012 Abstract Due
DESCRIPTION:4th International Workshop on Advances in Music Information R
 esearch
URL:http://www.wikicfp.com/cfp/servlet/event.showcfp?eventid=19866&copyow
 nerid=47225
UID:cfp332744-A@wikicfp.com
END:VEVENT
BEGIN:VEVENT
DTSTAMP:20260423T101132Z
DTSTART;VALUE=DATE:20120129
SUMMARY:AdMIRe 2012 Deadline
DESCRIPTION:4th International Workshop on Advances in Music Information R
 esearch
URL:http://www.wikicfp.com/cfp/servlet/event.showcfp?eventid=19866&copyow
 nerid=47225
UID:cfp332744-D@wikicfp.com
END:VEVENT
BEGIN:VEVENT
DTSTAMP:20260423T101132Z
DTSTART;VALUE=DATE:20120229
SUMMARY:AdMIRe 2012 Notification Due
DESCRIPTION:4th International Workshop on Advances in Music Information R
 esearch
URL:http://www.wikicfp.com/cfp/servlet/event.showcfp?eventid=19866&copyow
 nerid=47225
UID:cfp332744-N@wikicfp.com
END:VEVENT
BEGIN:VEVENT
DTSTAMP:20260423T101132Z
DTSTART;VALUE=DATE:20120315
SUMMARY:AdMIRe 2012 Final Version Due
DESCRIPTION:4th International Workshop on Advances in Music Information R
 esearch
URL:http://www.wikicfp.com/cfp/servlet/event.showcfp?eventid=19866&copyow
 nerid=47225
UID:cfp332744-N@wikicfp.com
END:VEVENT
BEGIN:VEVENT
DTSTAMP:20260423T101132Z
DTSTART;VALUE=DATE:20120712
DTEND;VALUE=DATE:20120715
SUMMARY:SMC 2012
DESCRIPTION:9th Sound and Music Computing Conference
URL:http://www.wikicfp.com/cfp/servlet/event.showcfp?eventid=20136&copyow
 nerid=47225
UID:cfp332745-E@wikicfp.com
END:VEVENT
BEGIN:VEVENT
DTSTAMP:20260423T101132Z
DTSTART;VALUE=DATE:20120409
SUMMARY:SMC 2012 Deadline
DESCRIPTION:9th Sound and Music Computing Conference
URL:http://www.wikicfp.com/cfp/servlet/event.showcfp?eventid=20136&copyow
 nerid=47225
UID:cfp332745-D@wikicfp.com
END:VEVENT
BEGIN:VEVENT
DTSTAMP:20260423T101132Z
DTSTART;VALUE=DATE:20120502
SUMMARY:SMC 2012 Notification Due
DESCRIPTION:9th Sound and Music Computing Conference
URL:http://www.wikicfp.com/cfp/servlet/event.showcfp?eventid=20136&copyow
 nerid=47225
UID:cfp332745-N@wikicfp.com
END:VEVENT
BEGIN:VEVENT
DTSTAMP:20260423T101132Z
DTSTART;VALUE=DATE:20120604
SUMMARY:SMC 2012 Final Version Due
DESCRIPTION:9th Sound and Music Computing Conference
URL:http://www.wikicfp.com/cfp/servlet/event.showcfp?eventid=20136&copyow
 nerid=47225
UID:cfp332745-N@wikicfp.com
END:VEVENT
BEGIN:VEVENT
DTSTAMP:20260423T101132Z
DTSTART;VALUE=DATE:20121212
DTEND;VALUE=DATE:20121216
SUMMARY:MLMD@ICMLA 2012
DESCRIPTION:Machine Learning with Multimedia Data - Special session at IC
 MLA 2012
URL:http://www.wikicfp.com/cfp/servlet/event.showcfp?eventid=24504&copyow
 nerid=47225
UID:cfp332746-E@wikicfp.com
END:VEVENT
BEGIN:VEVENT
DTSTAMP:20260423T101132Z
DTSTART;VALUE=DATE:20120820
SUMMARY:MLMD@ICMLA 2012 Deadline
DESCRIPTION:Machine Learning with Multimedia Data - Special session at IC
 MLA 2012
URL:http://www.wikicfp.com/cfp/servlet/event.showcfp?eventid=24504&copyow
 nerid=47225
UID:cfp332746-D@wikicfp.com
END:VEVENT
BEGIN:VEVENT
DTSTAMP:20260423T101132Z
DTSTART;VALUE=DATE:20120917
SUMMARY:MLMD@ICMLA 2012 Notification Due
DESCRIPTION:Machine Learning with Multimedia Data - Special session at IC
 MLA 2012
URL:http://www.wikicfp.com/cfp/servlet/event.showcfp?eventid=24504&copyow
 nerid=47225
UID:cfp332746-N@wikicfp.com
END:VEVENT
BEGIN:VEVENT
DTSTAMP:20260423T101132Z
DTSTART;VALUE=DATE:20121001
SUMMARY:MLMD@ICMLA 2012 Final Version Due
DESCRIPTION:Machine Learning with Multimedia Data - Special session at IC
 MLA 2012
URL:http://www.wikicfp.com/cfp/servlet/event.showcfp?eventid=24504&copyow
 nerid=47225
UID:cfp332746-N@wikicfp.com
END:VEVENT
BEGIN:VEVENT
DTSTAMP:20260423T101132Z
DTSTART;VALUE=DATE:20130416
DTEND;VALUE=DATE:20130420
SUMMARY:ICMR 2013
DESCRIPTION:ACM International Conference on Multimedia Retrieval
URL:http://www.wikicfp.com/cfp/servlet/event.showcfp?eventid=24165&copyow
 nerid=47225
UID:cfp332742-E@wikicfp.com
END:VEVENT
BEGIN:VEVENT
DTSTAMP:20260423T101132Z
DTSTART;VALUE=DATE:20121205
SUMMARY:ICMR 2013 Abstract Due
DESCRIPTION:ACM International Conference on Multimedia Retrieval
URL:http://www.wikicfp.com/cfp/servlet/event.showcfp?eventid=24165&copyow
 nerid=47225
UID:cfp332742-A@wikicfp.com
END:VEVENT
BEGIN:VEVENT
DTSTAMP:20260423T101132Z
DTSTART;VALUE=DATE:20121212
SUMMARY:ICMR 2013 Deadline
DESCRIPTION:ACM International Conference on Multimedia Retrieval
URL:http://www.wikicfp.com/cfp/servlet/event.showcfp?eventid=24165&copyow
 nerid=47225
UID:cfp332742-D@wikicfp.com
END:VEVENT
BEGIN:VEVENT
DTSTAMP:20260423T101132Z
DTSTART;VALUE=DATE:20130201
SUMMARY:ICMR 2013 Notification Due
DESCRIPTION:ACM International Conference on Multimedia Retrieval
URL:http://www.wikicfp.com/cfp/servlet/event.showcfp?eventid=24165&copyow
 nerid=47225
UID:cfp332742-N@wikicfp.com
END:VEVENT
BEGIN:VEVENT
DTSTAMP:20260423T101132Z
DTSTART;VALUE=DATE:20130301
SUMMARY:ICMR 2013 Final Version Due
DESCRIPTION:ACM International Conference on Multimedia Retrieval
URL:http://www.wikicfp.com/cfp/servlet/event.showcfp?eventid=24165&copyow
 nerid=47225
UID:cfp332742-N@wikicfp.com
END:VEVENT
BEGIN:VEVENT
DTSTAMP:20260423T101132Z
DTSTART;VALUE=DATE:20130715
DTEND;VALUE=DATE:20130720
SUMMARY:ICME 2013
DESCRIPTION:IEEE International Conference on Multimedia and Expo
URL:http://www.wikicfp.com/cfp/servlet/event.showcfp?eventid=24164&copyow
 nerid=47225
UID:cfp332740-E@wikicfp.com
END:VEVENT
BEGIN:VEVENT
DTSTAMP:20260423T101132Z
DTSTART;VALUE=DATE:20121221
SUMMARY:ICME 2013 Abstract Due
DESCRIPTION:IEEE International Conference on Multimedia and Expo
URL:http://www.wikicfp.com/cfp/servlet/event.showcfp?eventid=24164&copyow
 nerid=47225
UID:cfp332740-A@wikicfp.com
END:VEVENT
BEGIN:VEVENT
DTSTAMP:20260423T101132Z
DTSTART;VALUE=DATE:20130101
SUMMARY:ICME 2013 Deadline
DESCRIPTION:IEEE International Conference on Multimedia and Expo
URL:http://www.wikicfp.com/cfp/servlet/event.showcfp?eventid=24164&copyow
 nerid=47225
UID:cfp332740-D@wikicfp.com
END:VEVENT
BEGIN:VEVENT
DTSTAMP:20260423T101132Z
DTSTART;VALUE=DATE:20130301
SUMMARY:ICME 2013 Notification Due
DESCRIPTION:IEEE International Conference on Multimedia and Expo
URL:http://www.wikicfp.com/cfp/servlet/event.showcfp?eventid=24164&copyow
 nerid=47225
UID:cfp332740-N@wikicfp.com
END:VEVENT
BEGIN:VEVENT
DTSTAMP:20260423T101132Z
DTSTART;VALUE=DATE:20130430
SUMMARY:ICME 2013 Final Version Due
DESCRIPTION:IEEE International Conference on Multimedia and Expo
URL:http://www.wikicfp.com/cfp/servlet/event.showcfp?eventid=24164&copyow
 nerid=47225
UID:cfp332740-N@wikicfp.com
END:VEVENT
BEGIN:VEVENT
DTSTAMP:20260423T101132Z
DTSTART;VALUE=DATE:20130701
DTEND;VALUE=DATE:20130704
SUMMARY:DSP 2013
DESCRIPTION:18th International Conference on Digital Signal Processing
URL:http://www.wikicfp.com/cfp/servlet/event.showcfp?eventid=25839&copyow
 nerid=47225
UID:cfp332734-E@wikicfp.com
END:VEVENT
BEGIN:VEVENT
DTSTAMP:20260423T101132Z
DTSTART;VALUE=DATE:20130201
SUMMARY:DSP 2013 Deadline
DESCRIPTION:18th International Conference on Digital Signal Processing
URL:http://www.wikicfp.com/cfp/servlet/event.showcfp?eventid=25839&copyow
 nerid=47225
UID:cfp332734-D@wikicfp.com
END:VEVENT
BEGIN:VEVENT
DTSTAMP:20260423T101132Z
DTSTART;VALUE=DATE:20130401
SUMMARY:DSP 2013 Notification Due
DESCRIPTION:18th International Conference on Digital Signal Processing
URL:http://www.wikicfp.com/cfp/servlet/event.showcfp?eventid=25839&copyow
 nerid=47225
UID:cfp332734-N@wikicfp.com
END:VEVENT
BEGIN:VEVENT
DTSTAMP:20260423T101132Z
DTSTART;VALUE=DATE:20130501
SUMMARY:DSP 2013 Final Version Due
DESCRIPTION:18th International Conference on Digital Signal Processing
URL:http://www.wikicfp.com/cfp/servlet/event.showcfp?eventid=25839&copyow
 nerid=47225
UID:cfp332734-N@wikicfp.com
END:VEVENT
BEGIN:VEVENT
DTSTAMP:20260423T101132Z
DTSTART;VALUE=DATE:20130729
DTEND;VALUE=DATE:20130801
SUMMARY:SIGMAP 2013
DESCRIPTION:International Conference on Signal Processing and Multimedia 
 Applications
URL:http://www.wikicfp.com/cfp/servlet/event.showcfp?eventid=26147&copyow
 nerid=47225
UID:cfp332735-E@wikicfp.com
END:VEVENT
BEGIN:VEVENT
DTSTAMP:20260423T101132Z
DTSTART;VALUE=DATE:20130222
SUMMARY:SIGMAP 2013 Deadline
DESCRIPTION:International Conference on Signal Processing and Multimedia 
 Applications
URL:http://www.wikicfp.com/cfp/servlet/event.showcfp?eventid=26147&copyow
 nerid=47225
UID:cfp332735-D@wikicfp.com
END:VEVENT
BEGIN:VEVENT
DTSTAMP:20260423T101132Z
DTSTART;VALUE=DATE:20130506
SUMMARY:SIGMAP 2013 Notification Due
DESCRIPTION:International Conference on Signal Processing and Multimedia 
 Applications
URL:http://www.wikicfp.com/cfp/servlet/event.showcfp?eventid=26147&copyow
 nerid=47225
UID:cfp332735-N@wikicfp.com
END:VEVENT
BEGIN:VEVENT
DTSTAMP:20260423T101132Z
DTSTART;VALUE=DATE:20130520
SUMMARY:SIGMAP 2013 Final Version Due
DESCRIPTION:International Conference on Signal Processing and Multimedia 
 Applications
URL:http://www.wikicfp.com/cfp/servlet/event.showcfp?eventid=26147&copyow
 nerid=47225
UID:cfp332735-N@wikicfp.com
END:VEVENT
BEGIN:VEVENT
DTSTAMP:20260423T101132Z
DTSTART;VALUE=DATE:20131021
DTEND;VALUE=DATE:20131026
SUMMARY:MM 2013
DESCRIPTION:21st ACM International Conference on Multimedia
URL:http://www.wikicfp.com/cfp/servlet/event.showcfp?eventid=28018&copyow
 nerid=47225
UID:cfp332738-E@wikicfp.com
END:VEVENT
BEGIN:VEVENT
DTSTAMP:20260423T101132Z
DTSTART;VALUE=DATE:20130301
SUMMARY:MM 2013 Abstract Due
DESCRIPTION:21st ACM International Conference on Multimedia
URL:http://www.wikicfp.com/cfp/servlet/event.showcfp?eventid=28018&copyow
 nerid=47225
UID:cfp332738-A@wikicfp.com
END:VEVENT
BEGIN:VEVENT
DTSTAMP:20260423T101132Z
DTSTART;VALUE=DATE:20130308
SUMMARY:MM 2013 Deadline
DESCRIPTION:21st ACM International Conference on Multimedia
URL:http://www.wikicfp.com/cfp/servlet/event.showcfp?eventid=28018&copyow
 nerid=47225
UID:cfp332738-D@wikicfp.com
END:VEVENT
BEGIN:VEVENT
DTSTAMP:20260423T101132Z
DTSTART;VALUE=DATE:20130625
SUMMARY:MM 2013 Notification Due
DESCRIPTION:21st ACM International Conference on Multimedia
URL:http://www.wikicfp.com/cfp/servlet/event.showcfp?eventid=28018&copyow
 nerid=47225
UID:cfp332738-N@wikicfp.com
END:VEVENT
BEGIN:VEVENT
DTSTAMP:20260423T101132Z
DTSTART;VALUE=DATE:20130730
SUMMARY:MM 2013 Final Version Due
DESCRIPTION:21st ACM International Conference on Multimedia
URL:http://www.wikicfp.com/cfp/servlet/event.showcfp?eventid=28018&copyow
 nerid=47225
UID:cfp332738-N@wikicfp.com
END:VEVENT
BEGIN:VEVENT
DTSTAMP:20260423T101132Z
DTSTART;VALUE=DATE:20130526
DTEND;VALUE=DATE:20130528
SUMMARY:ICVM 2013
DESCRIPTION:2013 2nd International Conference on Video and Media
URL:http://www.wikicfp.com/cfp/servlet/event.showcfp?eventid=27235&copyow
 nerid=47225
UID:cfp332737-E@wikicfp.com
END:VEVENT
BEGIN:VEVENT
DTSTAMP:20260423T101132Z
DTSTART;VALUE=DATE:20130315
SUMMARY:ICVM 2013 Deadline
DESCRIPTION:2013 2nd International Conference on Video and Media
URL:http://www.wikicfp.com/cfp/servlet/event.showcfp?eventid=27235&copyow
 nerid=47225
UID:cfp332737-D@wikicfp.com
END:VEVENT
BEGIN:VEVENT
DTSTAMP:20260423T101132Z
DTSTART;VALUE=DATE:20130331
SUMMARY:ICVM 2013 Notification Due
DESCRIPTION:2013 2nd International Conference on Video and Media
URL:http://www.wikicfp.com/cfp/servlet/event.showcfp?eventid=27235&copyow
 nerid=47225
UID:cfp332737-N@wikicfp.com
END:VEVENT
BEGIN:VEVENT
DTSTAMP:20260423T101132Z
DTSTART;VALUE=DATE:20130415
SUMMARY:ICVM 2013 Final Version Due
DESCRIPTION:2013 2nd International Conference on Video and Media
URL:http://www.wikicfp.com/cfp/servlet/event.showcfp?eventid=27235&copyow
 nerid=47225
UID:cfp332737-N@wikicfp.com
END:VEVENT
BEGIN:VEVENT
DTSTAMP:20260423T101132Z
DTSTART;VALUE=DATE:20130826
DTEND;VALUE=DATE:20131001
SUMMARY:MDMM 2013
DESCRIPTION:4th International Workshop on Multimedia Data Mining and Mana
 gement
URL:http://www.wikicfp.com/cfp/servlet/event.showcfp?eventid=28554&copyow
 nerid=47225
UID:cfp332739-E@wikicfp.com
END:VEVENT
BEGIN:VEVENT
DTSTAMP:20260423T101132Z
DTSTART;VALUE=DATE:20130323
SUMMARY:MDMM 2013 Abstract Due
DESCRIPTION:4th International Workshop on Multimedia Data Mining and Mana
 gement
URL:http://www.wikicfp.com/cfp/servlet/event.showcfp?eventid=28554&copyow
 nerid=47225
UID:cfp332739-A@wikicfp.com
END:VEVENT
BEGIN:VEVENT
DTSTAMP:20260423T101132Z
DTSTART;VALUE=DATE:20130330
SUMMARY:MDMM 2013 Deadline
DESCRIPTION:4th International Workshop on Multimedia Data Mining and Mana
 gement
URL:http://www.wikicfp.com/cfp/servlet/event.showcfp?eventid=28554&copyow
 nerid=47225
UID:cfp332739-D@wikicfp.com
END:VEVENT
BEGIN:VEVENT
DTSTAMP:20260423T101132Z
DTSTART;VALUE=DATE:20130930
DTEND;VALUE=DATE:20131003
SUMMARY:MMSP 2013
DESCRIPTION:2013 IEEE International Workshop on Multimedia Signal Process
 ing
URL:http://www.wikicfp.com/cfp/servlet/event.showcfp?eventid=26920&copyow
 nerid=47225
UID:cfp332736-E@wikicfp.com
END:VEVENT
BEGIN:VEVENT
DTSTAMP:20260423T101132Z
DTSTART;VALUE=DATE:20130215
SUMMARY:MMSP 2013 Abstract Due
DESCRIPTION:2013 IEEE International Workshop on Multimedia Signal Process
 ing
URL:http://www.wikicfp.com/cfp/servlet/event.showcfp?eventid=26920&copyow
 nerid=47225
UID:cfp332736-A@wikicfp.com
END:VEVENT
BEGIN:VEVENT
DTSTAMP:20260423T101132Z
DTSTART;VALUE=DATE:20130401
SUMMARY:MMSP 2013 Deadline
DESCRIPTION:2013 IEEE International Workshop on Multimedia Signal Process
 ing
URL:http://www.wikicfp.com/cfp/servlet/event.showcfp?eventid=26920&copyow
 nerid=47225
UID:cfp332736-D@wikicfp.com
END:VEVENT
BEGIN:VEVENT
DTSTAMP:20260423T101132Z
DTSTART;VALUE=DATE:20130520
SUMMARY:MMSP 2013 Notification Due
DESCRIPTION:2013 IEEE International Workshop on Multimedia Signal Process
 ing
URL:http://www.wikicfp.com/cfp/servlet/event.showcfp?eventid=26920&copyow
 nerid=47225
UID:cfp332736-N@wikicfp.com
END:VEVENT
BEGIN:VEVENT
DTSTAMP:20260423T101132Z
DTSTART;VALUE=DATE:20130610
SUMMARY:MMSP 2013 Final Version Due
DESCRIPTION:2013 IEEE International Workshop on Multimedia Signal Process
 ing
URL:http://www.wikicfp.com/cfp/servlet/event.showcfp?eventid=26920&copyow
 nerid=47225
UID:cfp332736-N@wikicfp.com
END:VEVENT
END:VCALENDAR
