BEGIN:VCALENDAR
PRODID:-//WikiCFP//jrak 1.0//EN
VERSION:2.0
CALSCALE:GREGORIAN
BEGIN:VEVENT
DTSTAMP:20260424T055921Z
DTSTART;VALUE=DATE:20091012
DTEND;VALUE=DATE:20091015
SUMMARY:RNDM 2009
DESCRIPTION:International Workshop on Reliable Networks Design and Modeli
 ng
URL:http://www.wikicfp.com/cfp/servlet/event.showcfp?eventid=5496&copyown
 erid=4708
UID:cfp37081-E@wikicfp.com
END:VEVENT
BEGIN:VEVENT
DTSTAMP:20260424T055921Z
DTSTART;VALUE=DATE:20090615
SUMMARY:RNDM 2009 Deadline
DESCRIPTION:International Workshop on Reliable Networks Design and Modeli
 ng
URL:http://www.wikicfp.com/cfp/servlet/event.showcfp?eventid=5496&copyown
 erid=4708
UID:cfp37081-D@wikicfp.com
END:VEVENT
BEGIN:VEVENT
DTSTAMP:20260424T055921Z
DTSTART;VALUE=DATE:20090715
SUMMARY:RNDM 2009 Notification Due
DESCRIPTION:International Workshop on Reliable Networks Design and Modeli
 ng
URL:http://www.wikicfp.com/cfp/servlet/event.showcfp?eventid=5496&copyown
 erid=4708
UID:cfp37081-N@wikicfp.com
END:VEVENT
BEGIN:VEVENT
DTSTAMP:20260424T055921Z
DTSTART;VALUE=DATE:20090815
SUMMARY:RNDM 2009 Final Version Due
DESCRIPTION:International Workshop on Reliable Networks Design and Modeli
 ng
URL:http://www.wikicfp.com/cfp/servlet/event.showcfp?eventid=5496&copyown
 erid=4708
UID:cfp37081-N@wikicfp.com
END:VEVENT
BEGIN:VEVENT
DTSTAMP:20260424T055921Z
DTSTART;VALUE=DATE:20111005
DTEND;VALUE=DATE:20111008
SUMMARY:RNDM 2011
DESCRIPTION:3rd International Workshop on Reliable Networks Design and Mo
 deling
URL:http://www.wikicfp.com/cfp/servlet/event.showcfp?eventid=14760&copyow
 nerid=4708
UID:cfp149856-E@wikicfp.com
END:VEVENT
BEGIN:VEVENT
DTSTAMP:20260424T055921Z
DTSTART;VALUE=DATE:20110510
SUMMARY:RNDM 2011 Deadline
DESCRIPTION:3rd International Workshop on Reliable Networks Design and Mo
 deling
URL:http://www.wikicfp.com/cfp/servlet/event.showcfp?eventid=14760&copyow
 nerid=4708
UID:cfp149856-D@wikicfp.com
END:VEVENT
BEGIN:VEVENT
DTSTAMP:20260424T055921Z
DTSTART;VALUE=DATE:20110625
SUMMARY:RNDM 2011 Notification Due
DESCRIPTION:3rd International Workshop on Reliable Networks Design and Mo
 deling
URL:http://www.wikicfp.com/cfp/servlet/event.showcfp?eventid=14760&copyow
 nerid=4708
UID:cfp149856-N@wikicfp.com
END:VEVENT
BEGIN:VEVENT
DTSTAMP:20260424T055921Z
DTSTART;VALUE=DATE:20110710
SUMMARY:RNDM 2011 Final Version Due
DESCRIPTION:3rd International Workshop on Reliable Networks Design and Mo
 deling
URL:http://www.wikicfp.com/cfp/servlet/event.showcfp?eventid=14760&copyow
 nerid=4708
UID:cfp149856-N@wikicfp.com
END:VEVENT
BEGIN:VEVENT
DTSTAMP:20260424T055921Z
DTSTART;VALUE=DATE:20121015
DTEND;VALUE=DATE:20121019
SUMMARY:NETWORKS 2012
DESCRIPTION:15th International Telecommunications Network Strategy and Pl
 anning Symposium
URL:http://www.wikicfp.com/cfp/servlet/event.showcfp?eventid=21713&copyow
 nerid=4708
UID:cfp248002-E@wikicfp.com
END:VEVENT
BEGIN:VEVENT
DTSTAMP:20260424T055921Z
DTSTART;VALUE=DATE:20120315
SUMMARY:NETWORKS 2012 Deadline
DESCRIPTION:15th International Telecommunications Network Strategy and Pl
 anning Symposium
URL:http://www.wikicfp.com/cfp/servlet/event.showcfp?eventid=21713&copyow
 nerid=4708
UID:cfp248002-D@wikicfp.com
END:VEVENT
BEGIN:VEVENT
DTSTAMP:20260424T055921Z
DTSTART;VALUE=DATE:20120515
SUMMARY:NETWORKS 2012 Notification Due
DESCRIPTION:15th International Telecommunications Network Strategy and Pl
 anning Symposium
URL:http://www.wikicfp.com/cfp/servlet/event.showcfp?eventid=21713&copyow
 nerid=4708
UID:cfp248002-N@wikicfp.com
END:VEVENT
BEGIN:VEVENT
DTSTAMP:20260424T055921Z
DTSTART;VALUE=DATE:20120615
SUMMARY:NETWORKS 2012 Final Version Due
DESCRIPTION:15th International Telecommunications Network Strategy and Pl
 anning Symposium
URL:http://www.wikicfp.com/cfp/servlet/event.showcfp?eventid=21713&copyow
 nerid=4708
UID:cfp248002-N@wikicfp.com
END:VEVENT
BEGIN:VEVENT
DTSTAMP:20260424T055921Z
DTSTART;VALUE=DATE:20121003
DTEND;VALUE=DATE:20121006
SUMMARY:RNDM 2012
DESCRIPTION:4th International Workshop on Reliable Networks Design and Mo
 deling
URL:http://www.wikicfp.com/cfp/servlet/event.showcfp?eventid=21711&copyow
 nerid=4708
UID:cfp248000-E@wikicfp.com
END:VEVENT
BEGIN:VEVENT
DTSTAMP:20260424T055921Z
DTSTART;VALUE=DATE:20120510
SUMMARY:RNDM 2012 Deadline
DESCRIPTION:4th International Workshop on Reliable Networks Design and Mo
 deling
URL:http://www.wikicfp.com/cfp/servlet/event.showcfp?eventid=21711&copyow
 nerid=4708
UID:cfp248000-D@wikicfp.com
END:VEVENT
BEGIN:VEVENT
DTSTAMP:20260424T055921Z
DTSTART;VALUE=DATE:20120710
SUMMARY:RNDM 2012 Notification Due
DESCRIPTION:4th International Workshop on Reliable Networks Design and Mo
 deling
URL:http://www.wikicfp.com/cfp/servlet/event.showcfp?eventid=21711&copyow
 nerid=4708
UID:cfp248000-N@wikicfp.com
END:VEVENT
BEGIN:VEVENT
DTSTAMP:20260424T055921Z
DTSTART;VALUE=DATE:20120725
SUMMARY:RNDM 2012 Final Version Due
DESCRIPTION:4th International Workshop on Reliable Networks Design and Mo
 deling
URL:http://www.wikicfp.com/cfp/servlet/event.showcfp?eventid=21711&copyow
 nerid=4708
UID:cfp248000-N@wikicfp.com
END:VEVENT
BEGIN:VEVENT
DTSTAMP:20260424T055921Z
DTSTART;VALUE=DATE:20130910
DTEND;VALUE=DATE:20130914
SUMMARY:RNDM 2013
DESCRIPTION:5th International Workshop on Reliable Networks Design and Mo
 deling
URL:http://www.wikicfp.com/cfp/servlet/event.showcfp?eventid=30097&copyow
 nerid=4708
UID:cfp349972-E@wikicfp.com
END:VEVENT
BEGIN:VEVENT
DTSTAMP:20260424T055921Z
DTSTART;VALUE=DATE:20130425
SUMMARY:RNDM 2013 Deadline
DESCRIPTION:5th International Workshop on Reliable Networks Design and Mo
 deling
URL:http://www.wikicfp.com/cfp/servlet/event.showcfp?eventid=30097&copyow
 nerid=4708
UID:cfp349972-D@wikicfp.com
END:VEVENT
BEGIN:VEVENT
DTSTAMP:20260424T055921Z
DTSTART;VALUE=DATE:20130615
SUMMARY:RNDM 2013 Notification Due
DESCRIPTION:5th International Workshop on Reliable Networks Design and Mo
 deling
URL:http://www.wikicfp.com/cfp/servlet/event.showcfp?eventid=30097&copyow
 nerid=4708
UID:cfp349972-N@wikicfp.com
END:VEVENT
BEGIN:VEVENT
DTSTAMP:20260424T055921Z
DTSTART;VALUE=DATE:20130701
SUMMARY:RNDM 2013 Final Version Due
DESCRIPTION:5th International Workshop on Reliable Networks Design and Mo
 deling
URL:http://www.wikicfp.com/cfp/servlet/event.showcfp?eventid=30097&copyow
 nerid=4708
UID:cfp349972-N@wikicfp.com
END:VEVENT
BEGIN:VEVENT
DTSTAMP:20260424T055921Z
DTSTART;VALUE=DATE:20141117
DTEND;VALUE=DATE:20141120
SUMMARY:RNDM 2014
DESCRIPTION:RNDM 2014 : 6th International Workshop on Reliable Networks D
 esign and Modeling
URL:http://www.wikicfp.com/cfp/servlet/event.showcfp?eventid=37154&copyow
 nerid=4708
UID:cfp437842-E@wikicfp.com
END:VEVENT
BEGIN:VEVENT
DTSTAMP:20260424T055921Z
DTSTART;VALUE=DATE:20140720
SUMMARY:RNDM 2014 Deadline
DESCRIPTION:RNDM 2014 : 6th International Workshop on Reliable Networks D
 esign and Modeling
URL:http://www.wikicfp.com/cfp/servlet/event.showcfp?eventid=37154&copyow
 nerid=4708
UID:cfp437842-D@wikicfp.com
END:VEVENT
BEGIN:VEVENT
DTSTAMP:20260424T055921Z
DTSTART;VALUE=DATE:20140915
SUMMARY:RNDM 2014 Notification Due
DESCRIPTION:RNDM 2014 : 6th International Workshop on Reliable Networks D
 esign and Modeling
URL:http://www.wikicfp.com/cfp/servlet/event.showcfp?eventid=37154&copyow
 nerid=4708
UID:cfp437842-N@wikicfp.com
END:VEVENT
BEGIN:VEVENT
DTSTAMP:20260424T055921Z
DTSTART;VALUE=DATE:20140930
SUMMARY:RNDM 2014 Final Version Due
DESCRIPTION:RNDM 2014 : 6th International Workshop on Reliable Networks D
 esign and Modeling
URL:http://www.wikicfp.com/cfp/servlet/event.showcfp?eventid=37154&copyow
 nerid=4708
UID:cfp437842-N@wikicfp.com
END:VEVENT
BEGIN:VEVENT
DTSTAMP:20260424T055921Z
DTSTART;VALUE=DATE:20151005
DTEND;VALUE=DATE:20151008
SUMMARY:RNDM 2015
DESCRIPTION:RNDM 2015 - 7th International Workshop on Reliable Networks D
 esign and Modeling
URL:http://www.wikicfp.com/cfp/servlet/event.showcfp?eventid=45614&copyow
 nerid=4708
UID:cfp524096-E@wikicfp.com
END:VEVENT
BEGIN:VEVENT
DTSTAMP:20260424T055921Z
DTSTART;VALUE=DATE:20150527
SUMMARY:RNDM 2015 Deadline
DESCRIPTION:RNDM 2015 - 7th International Workshop on Reliable Networks D
 esign and Modeling
URL:http://www.wikicfp.com/cfp/servlet/event.showcfp?eventid=45614&copyow
 nerid=4708
UID:cfp524096-D@wikicfp.com
END:VEVENT
BEGIN:VEVENT
DTSTAMP:20260424T055921Z
DTSTART;VALUE=DATE:20150625
SUMMARY:RNDM 2015 Notification Due
DESCRIPTION:RNDM 2015 - 7th International Workshop on Reliable Networks D
 esign and Modeling
URL:http://www.wikicfp.com/cfp/servlet/event.showcfp?eventid=45614&copyow
 nerid=4708
UID:cfp524096-N@wikicfp.com
END:VEVENT
BEGIN:VEVENT
DTSTAMP:20260424T055921Z
DTSTART;VALUE=DATE:20150710
SUMMARY:RNDM 2015 Final Version Due
DESCRIPTION:RNDM 2015 - 7th International Workshop on Reliable Networks D
 esign and Modeling
URL:http://www.wikicfp.com/cfp/servlet/event.showcfp?eventid=45614&copyow
 nerid=4708
UID:cfp524096-N@wikicfp.com
END:VEVENT
BEGIN:VEVENT
DTSTAMP:20260424T055921Z
DTSTART;VALUE=DATE:20151007
DTEND;VALUE=DATE:20151008
SUMMARY:USRR 2015
DESCRIPTION:3rd International Workshop on Understanding the inter-play be
 tween Sustainability\, Resilience\, and Robustness in networks
URL:http://www.wikicfp.com/cfp/servlet/event.showcfp?eventid=45752&copyow
 nerid=4708
UID:cfp525414-E@wikicfp.com
END:VEVENT
BEGIN:VEVENT
DTSTAMP:20260424T055921Z
DTSTART;VALUE=DATE:20150527
SUMMARY:USRR 2015 Deadline
DESCRIPTION:3rd International Workshop on Understanding the inter-play be
 tween Sustainability\, Resilience\, and Robustness in networks
URL:http://www.wikicfp.com/cfp/servlet/event.showcfp?eventid=45752&copyow
 nerid=4708
UID:cfp525414-D@wikicfp.com
END:VEVENT
BEGIN:VEVENT
DTSTAMP:20260424T055921Z
DTSTART;VALUE=DATE:20150625
SUMMARY:USRR 2015 Notification Due
DESCRIPTION:3rd International Workshop on Understanding the inter-play be
 tween Sustainability\, Resilience\, and Robustness in networks
URL:http://www.wikicfp.com/cfp/servlet/event.showcfp?eventid=45752&copyow
 nerid=4708
UID:cfp525414-N@wikicfp.com
END:VEVENT
BEGIN:VEVENT
DTSTAMP:20260424T055921Z
DTSTART;VALUE=DATE:20150710
SUMMARY:USRR 2015 Final Version Due
DESCRIPTION:3rd International Workshop on Understanding the inter-play be
 tween Sustainability\, Resilience\, and Robustness in networks
URL:http://www.wikicfp.com/cfp/servlet/event.showcfp?eventid=45752&copyow
 nerid=4708
UID:cfp525414-N@wikicfp.com
END:VEVENT
BEGIN:VEVENT
DTSTAMP:20260424T055921Z
DTSTART;VALUE=DATE:20151006
DTEND;VALUE=DATE:20151007
SUMMARY:S2CN 2015
DESCRIPTION:2nd International Workshop on Survivable Content-Oriented and
  Cloud-Ready Networking
URL:http://www.wikicfp.com/cfp/servlet/event.showcfp?eventid=45984&copyow
 nerid=4708
UID:cfp527046-E@wikicfp.com
END:VEVENT
BEGIN:VEVENT
DTSTAMP:20260424T055921Z
DTSTART;VALUE=DATE:20150527
SUMMARY:S2CN 2015 Deadline
DESCRIPTION:2nd International Workshop on Survivable Content-Oriented and
  Cloud-Ready Networking
URL:http://www.wikicfp.com/cfp/servlet/event.showcfp?eventid=45984&copyow
 nerid=4708
UID:cfp527046-D@wikicfp.com
END:VEVENT
BEGIN:VEVENT
DTSTAMP:20260424T055921Z
DTSTART;VALUE=DATE:20150625
SUMMARY:S2CN 2015 Notification Due
DESCRIPTION:2nd International Workshop on Survivable Content-Oriented and
  Cloud-Ready Networking
URL:http://www.wikicfp.com/cfp/servlet/event.showcfp?eventid=45984&copyow
 nerid=4708
UID:cfp527046-N@wikicfp.com
END:VEVENT
BEGIN:VEVENT
DTSTAMP:20260424T055921Z
DTSTART;VALUE=DATE:20150710
SUMMARY:S2CN 2015 Final Version Due
DESCRIPTION:2nd International Workshop on Survivable Content-Oriented and
  Cloud-Ready Networking
URL:http://www.wikicfp.com/cfp/servlet/event.showcfp?eventid=45984&copyow
 nerid=4708
UID:cfp527046-N@wikicfp.com
END:VEVENT
BEGIN:VEVENT
DTSTAMP:20260424T055921Z
DTSTART;VALUE=DATE:20160115
SUMMARY:OSN-RNDM 2016 Abstract Due
DESCRIPTION:Special Issue of Optical Switching and Networking\, Elsevier\
 , for selected RNDM 2015 papers
URL:http://www.wikicfp.com/cfp/servlet/event.showcfp?eventid=45615&copyow
 nerid=4708
UID:cfp524099-A@wikicfp.com
END:VEVENT
BEGIN:VEVENT
DTSTAMP:20260424T055921Z
DTSTART;VALUE=DATE:20160310
SUMMARY:OSN-RNDM 2016 Deadline
DESCRIPTION:Special Issue of Optical Switching and Networking\, Elsevier\
 , for selected RNDM 2015 papers
URL:http://www.wikicfp.com/cfp/servlet/event.showcfp?eventid=45615&copyow
 nerid=4708
UID:cfp524099-D@wikicfp.com
END:VEVENT
BEGIN:VEVENT
DTSTAMP:20260424T055921Z
DTSTART;VALUE=DATE:20160401
SUMMARY:OSN-RNDM 2016 Notification Due
DESCRIPTION:Special Issue of Optical Switching and Networking\, Elsevier\
 , for selected RNDM 2015 papers
URL:http://www.wikicfp.com/cfp/servlet/event.showcfp?eventid=45615&copyow
 nerid=4708
UID:cfp524099-N@wikicfp.com
END:VEVENT
BEGIN:VEVENT
DTSTAMP:20260424T055921Z
DTSTART;VALUE=DATE:20160912
DTEND;VALUE=DATE:20160916
SUMMARY:RNDM 2016
DESCRIPTION:8th International Workshop on Resilient Networks Design and M
 odeling
URL:http://www.wikicfp.com/cfp/servlet/event.showcfp?eventid=51615&copyow
 nerid=4708
UID:cfp579743-E@wikicfp.com
END:VEVENT
BEGIN:VEVENT
DTSTAMP:20260424T055921Z
DTSTART;VALUE=DATE:20160409
SUMMARY:RNDM 2016 Deadline
DESCRIPTION:8th International Workshop on Resilient Networks Design and M
 odeling
URL:http://www.wikicfp.com/cfp/servlet/event.showcfp?eventid=51615&copyow
 nerid=4708
UID:cfp579743-D@wikicfp.com
END:VEVENT
BEGIN:VEVENT
DTSTAMP:20260424T055921Z
DTSTART;VALUE=DATE:20160524
SUMMARY:RNDM 2016 Notification Due
DESCRIPTION:8th International Workshop on Resilient Networks Design and M
 odeling
URL:http://www.wikicfp.com/cfp/servlet/event.showcfp?eventid=51615&copyow
 nerid=4708
UID:cfp579743-N@wikicfp.com
END:VEVENT
BEGIN:VEVENT
DTSTAMP:20260424T055921Z
DTSTART;VALUE=DATE:20160611
SUMMARY:RNDM 2016 Final Version Due
DESCRIPTION:8th International Workshop on Resilient Networks Design and M
 odeling
URL:http://www.wikicfp.com/cfp/servlet/event.showcfp?eventid=51615&copyow
 nerid=4708
UID:cfp579743-N@wikicfp.com
END:VEVENT
BEGIN:VEVENT
DTSTAMP:20260424T055921Z
DTSTART;VALUE=DATE:20170529
DTEND;VALUE=DATE:20170601
SUMMARY:ITST 2017 2017
DESCRIPTION:15th International Conference on Inteligent Transport Systems
  (ITS) Telecommunications
URL:http://www.wikicfp.com/cfp/servlet/event.showcfp?eventid=58670&copyow
 nerid=4708
UID:cfp629826-E@wikicfp.com
END:VEVENT
BEGIN:VEVENT
DTSTAMP:20260424T055921Z
DTSTART;VALUE=DATE:20161210
SUMMARY:ITST 2017 2017 Deadline
DESCRIPTION:15th International Conference on Inteligent Transport Systems
  (ITS) Telecommunications
URL:http://www.wikicfp.com/cfp/servlet/event.showcfp?eventid=58670&copyow
 nerid=4708
UID:cfp629826-D@wikicfp.com
END:VEVENT
BEGIN:VEVENT
DTSTAMP:20260424T055921Z
DTSTART;VALUE=DATE:20170301
SUMMARY:ITST 2017 2017 Notification Due
DESCRIPTION:15th International Conference on Inteligent Transport Systems
  (ITS) Telecommunications
URL:http://www.wikicfp.com/cfp/servlet/event.showcfp?eventid=58670&copyow
 nerid=4708
UID:cfp629826-N@wikicfp.com
END:VEVENT
BEGIN:VEVENT
DTSTAMP:20260424T055921Z
DTSTART;VALUE=DATE:20170322
SUMMARY:ITST 2017 2017 Final Version Due
DESCRIPTION:15th International Conference on Inteligent Transport Systems
  (ITS) Telecommunications
URL:http://www.wikicfp.com/cfp/servlet/event.showcfp?eventid=58670&copyow
 nerid=4708
UID:cfp629826-N@wikicfp.com
END:VEVENT
BEGIN:VEVENT
DTSTAMP:20260424T055921Z
DTSTART;VALUE=DATE:20170828
DTEND;VALUE=DATE:20170831
SUMMARY:MMM-ACNS 2017 2017
DESCRIPTION:7th International Conference on Mathematical Methods\, Models
  and Architectures for Computer Networks Security
URL:http://www.wikicfp.com/cfp/servlet/event.showcfp?eventid=58669&copyow
 nerid=4708
UID:cfp629825-E@wikicfp.com
END:VEVENT
BEGIN:VEVENT
DTSTAMP:20260424T055921Z
DTSTART;VALUE=DATE:20170304
SUMMARY:MMM-ACNS 2017 2017 Deadline
DESCRIPTION:7th International Conference on Mathematical Methods\, Models
  and Architectures for Computer Networks Security
URL:http://www.wikicfp.com/cfp/servlet/event.showcfp?eventid=58669&copyow
 nerid=4708
UID:cfp629825-D@wikicfp.com
END:VEVENT
BEGIN:VEVENT
DTSTAMP:20260424T055921Z
DTSTART;VALUE=DATE:20170415
SUMMARY:MMM-ACNS 2017 2017 Notification Due
DESCRIPTION:7th International Conference on Mathematical Methods\, Models
  and Architectures for Computer Networks Security
URL:http://www.wikicfp.com/cfp/servlet/event.showcfp?eventid=58669&copyow
 nerid=4708
UID:cfp629825-N@wikicfp.com
END:VEVENT
BEGIN:VEVENT
DTSTAMP:20260424T055921Z
DTSTART;VALUE=DATE:20170430
SUMMARY:MMM-ACNS 2017 2017 Final Version Due
DESCRIPTION:7th International Conference on Mathematical Methods\, Models
  and Architectures for Computer Networks Security
URL:http://www.wikicfp.com/cfp/servlet/event.showcfp?eventid=58669&copyow
 nerid=4708
UID:cfp629825-N@wikicfp.com
END:VEVENT
BEGIN:VEVENT
DTSTAMP:20260424T055921Z
DTSTART;VALUE=DATE:20170904
DTEND;VALUE=DATE:20170905
SUMMARY:RNDM 2017 2017
DESCRIPTION:9th International Workshop on Resilient Networks Design and M
 odeling
URL:http://www.wikicfp.com/cfp/servlet/event.showcfp?eventid=58671&copyow
 nerid=4708
UID:cfp629834-E@wikicfp.com
END:VEVENT
BEGIN:VEVENT
DTSTAMP:20260424T055921Z
DTSTART;VALUE=DATE:20170403
SUMMARY:RNDM 2017 2017 Deadline
DESCRIPTION:9th International Workshop on Resilient Networks Design and M
 odeling
URL:http://www.wikicfp.com/cfp/servlet/event.showcfp?eventid=58671&copyow
 nerid=4708
UID:cfp629834-D@wikicfp.com
END:VEVENT
BEGIN:VEVENT
DTSTAMP:20260424T055921Z
DTSTART;VALUE=DATE:20170522
SUMMARY:RNDM 2017 2017 Notification Due
DESCRIPTION:9th International Workshop on Resilient Networks Design and M
 odeling
URL:http://www.wikicfp.com/cfp/servlet/event.showcfp?eventid=58671&copyow
 nerid=4708
UID:cfp629834-N@wikicfp.com
END:VEVENT
BEGIN:VEVENT
DTSTAMP:20260424T055921Z
DTSTART;VALUE=DATE:20170610
SUMMARY:RNDM 2017 2017 Final Version Due
DESCRIPTION:9th International Workshop on Resilient Networks Design and M
 odeling
URL:http://www.wikicfp.com/cfp/servlet/event.showcfp?eventid=58671&copyow
 nerid=4708
UID:cfp629834-N@wikicfp.com
END:VEVENT
END:VCALENDAR
