BEGIN:VCALENDAR
PRODID:-//WikiCFP//hurricanezj 1.0//EN
VERSION:2.0
CALSCALE:GREGORIAN
BEGIN:VEVENT
DTSTAMP:20260420T210247Z
DTSTART;VALUE=DATE:20131103
DTEND;VALUE=DATE:20131108
SUMMARY:IROS 2013
DESCRIPTION:IEEE/RSJ International Conference on Intelligent Robots and S
 ystems
URL:http://www.wikicfp.com/cfp/servlet/event.showcfp?eventid=25414&copyow
 nerid=46852
UID:cfp330329-E@wikicfp.com
END:VEVENT
BEGIN:VEVENT
DTSTAMP:20260420T210247Z
DTSTART;VALUE=DATE:20130322
SUMMARY:IROS 2013 Deadline
DESCRIPTION:IEEE/RSJ International Conference on Intelligent Robots and S
 ystems
URL:http://www.wikicfp.com/cfp/servlet/event.showcfp?eventid=25414&copyow
 nerid=46852
UID:cfp330329-D@wikicfp.com
END:VEVENT
BEGIN:VEVENT
DTSTAMP:20260420T210247Z
DTSTART;VALUE=DATE:20130701
SUMMARY:IROS 2013 Notification Due
DESCRIPTION:IEEE/RSJ International Conference on Intelligent Robots and S
 ystems
URL:http://www.wikicfp.com/cfp/servlet/event.showcfp?eventid=25414&copyow
 nerid=46852
UID:cfp330329-N@wikicfp.com
END:VEVENT
BEGIN:VEVENT
DTSTAMP:20260420T210247Z
DTSTART;VALUE=DATE:20130731
SUMMARY:IROS 2013 Final Version Due
DESCRIPTION:IEEE/RSJ International Conference on Intelligent Robots and S
 ystems
URL:http://www.wikicfp.com/cfp/servlet/event.showcfp?eventid=25414&copyow
 nerid=46852
UID:cfp330329-N@wikicfp.com
END:VEVENT
BEGIN:VEVENT
DTSTAMP:20260420T210247Z
DTSTART;VALUE=DATE:20130729
DTEND;VALUE=DATE:20130801
SUMMARY:ICINCO 2013
DESCRIPTION:INSTICC International Conference on Informatics in Control\, 
 Automation and Robotics
URL:http://www.wikicfp.com/cfp/servlet/event.showcfp?eventid=27894&copyow
 nerid=46852
UID:cfp330330-E@wikicfp.com
END:VEVENT
BEGIN:VEVENT
DTSTAMP:20260420T210247Z
DTSTART;VALUE=DATE:20130410
SUMMARY:ICINCO 2013 Deadline
DESCRIPTION:INSTICC International Conference on Informatics in Control\, 
 Automation and Robotics
URL:http://www.wikicfp.com/cfp/servlet/event.showcfp?eventid=27894&copyow
 nerid=46852
UID:cfp330330-D@wikicfp.com
END:VEVENT
BEGIN:VEVENT
DTSTAMP:20260420T210247Z
DTSTART;VALUE=DATE:20130514
SUMMARY:ICINCO 2013 Notification Due
DESCRIPTION:INSTICC International Conference on Informatics in Control\, 
 Automation and Robotics
URL:http://www.wikicfp.com/cfp/servlet/event.showcfp?eventid=27894&copyow
 nerid=46852
UID:cfp330330-N@wikicfp.com
END:VEVENT
BEGIN:VEVENT
DTSTAMP:20260420T210247Z
DTSTART;VALUE=DATE:20130528
SUMMARY:ICINCO 2013 Final Version Due
DESCRIPTION:INSTICC International Conference on Informatics in Control\, 
 Automation and Robotics
URL:http://www.wikicfp.com/cfp/servlet/event.showcfp?eventid=27894&copyow
 nerid=46852
UID:cfp330330-N@wikicfp.com
END:VEVENT
END:VCALENDAR
