BEGIN:VCALENDAR
PRODID:-//WikiCFP//vikin9 1.0//EN
VERSION:2.0
CALSCALE:GREGORIAN
BEGIN:VEVENT
DTSTAMP:20260423T125615Z
DTSTART;VALUE=DATE:20131012
DTEND;VALUE=DATE:20131014
SUMMARY:ICICM 2013
DESCRIPTION:2013 3rd International Conference on Communication and Manage
 ment
URL:http://www.wikicfp.com/cfp/servlet/event.showcfp?eventid=30158&copyow
 nerid=46686
UID:cfp355252-E@wikicfp.com
END:VEVENT
BEGIN:VEVENT
DTSTAMP:20260423T125615Z
DTSTART;VALUE=DATE:20130730
SUMMARY:ICICM 2013 Deadline
DESCRIPTION:2013 3rd International Conference on Communication and Manage
 ment
URL:http://www.wikicfp.com/cfp/servlet/event.showcfp?eventid=30158&copyow
 nerid=46686
UID:cfp355252-D@wikicfp.com
END:VEVENT
BEGIN:VEVENT
DTSTAMP:20260423T125615Z
DTSTART;VALUE=DATE:20130815
SUMMARY:ICICM 2013 Notification Due
DESCRIPTION:2013 3rd International Conference on Communication and Manage
 ment
URL:http://www.wikicfp.com/cfp/servlet/event.showcfp?eventid=30158&copyow
 nerid=46686
UID:cfp355252-N@wikicfp.com
END:VEVENT
BEGIN:VEVENT
DTSTAMP:20260423T125615Z
DTSTART;VALUE=DATE:20130830
SUMMARY:ICICM 2013 Final Version Due
DESCRIPTION:2013 3rd International Conference on Communication and Manage
 ment
URL:http://www.wikicfp.com/cfp/servlet/event.showcfp?eventid=30158&copyow
 nerid=46686
UID:cfp355252-N@wikicfp.com
END:VEVENT
END:VCALENDAR
