BEGIN:VCALENDAR
PRODID:-//WikiCFP//hrogner 1.0//EN
VERSION:2.0
CALSCALE:GREGORIAN
BEGIN:VEVENT
DTSTAMP:20260421T231619Z
DTSTART;VALUE=DATE:20130624
DTEND;VALUE=DATE:20130628
SUMMARY:AHS 2013
DESCRIPTION:NASA/ESA Conference on Adaptive Hardware and Systems
URL:http://www.wikicfp.com/cfp/servlet/event.showcfp?eventid=26897&copyow
 nerid=46595
UID:cfp328079-E@wikicfp.com
END:VEVENT
BEGIN:VEVENT
DTSTAMP:20260421T231619Z
DTSTART;VALUE=DATE:20130125
SUMMARY:AHS 2013 Deadline
DESCRIPTION:NASA/ESA Conference on Adaptive Hardware and Systems
URL:http://www.wikicfp.com/cfp/servlet/event.showcfp?eventid=26897&copyow
 nerid=46595
UID:cfp328079-D@wikicfp.com
END:VEVENT
BEGIN:VEVENT
DTSTAMP:20260421T231619Z
DTSTART;VALUE=DATE:20130708
DTEND;VALUE=DATE:20130711
SUMMARY:ACSD 2013
DESCRIPTION:13th International Conference on Application of Concurrency t
 o System Design
URL:http://www.wikicfp.com/cfp/servlet/event.showcfp?eventid=25915&copyow
 nerid=46595
UID:cfp328032-E@wikicfp.com
END:VEVENT
BEGIN:VEVENT
DTSTAMP:20260421T231619Z
DTSTART;VALUE=DATE:20130127
SUMMARY:ACSD 2013 Abstract Due
DESCRIPTION:13th International Conference on Application of Concurrency t
 o System Design
URL:http://www.wikicfp.com/cfp/servlet/event.showcfp?eventid=25915&copyow
 nerid=46595
UID:cfp328032-A@wikicfp.com
END:VEVENT
BEGIN:VEVENT
DTSTAMP:20260421T231619Z
DTSTART;VALUE=DATE:20130203
SUMMARY:ACSD 2013 Deadline
DESCRIPTION:13th International Conference on Application of Concurrency t
 o System Design
URL:http://www.wikicfp.com/cfp/servlet/event.showcfp?eventid=25915&copyow
 nerid=46595
UID:cfp328032-D@wikicfp.com
END:VEVENT
BEGIN:VEVENT
DTSTAMP:20260421T231619Z
DTSTART;VALUE=DATE:20130321
SUMMARY:ACSD 2013 Notification Due
DESCRIPTION:13th International Conference on Application of Concurrency t
 o System Design
URL:http://www.wikicfp.com/cfp/servlet/event.showcfp?eventid=25915&copyow
 nerid=46595
UID:cfp328032-N@wikicfp.com
END:VEVENT
BEGIN:VEVENT
DTSTAMP:20260421T231619Z
DTSTART;VALUE=DATE:20130419
SUMMARY:ACSD 2013 Final Version Due
DESCRIPTION:13th International Conference on Application of Concurrency t
 o System Design
URL:http://www.wikicfp.com/cfp/servlet/event.showcfp?eventid=25915&copyow
 nerid=46595
UID:cfp328032-N@wikicfp.com
END:VEVENT
BEGIN:VEVENT
DTSTAMP:20260421T231619Z
DTSTART;VALUE=DATE:20130611
DTEND;VALUE=DATE:20130613
SUMMARY:Smart SysTech 2013
DESCRIPTION:Smart SysTech 2013 - European Conference on Smart Objects\, S
 ystems and Technologies 
URL:http://www.wikicfp.com/cfp/servlet/event.showcfp?eventid=27193&copyow
 nerid=46595
UID:cfp328091-E@wikicfp.com
END:VEVENT
BEGIN:VEVENT
DTSTAMP:20260421T231619Z
DTSTART;VALUE=DATE:20130214
SUMMARY:Smart SysTech 2013 Deadline
DESCRIPTION:Smart SysTech 2013 - European Conference on Smart Objects\, S
 ystems and Technologies 
URL:http://www.wikicfp.com/cfp/servlet/event.showcfp?eventid=27193&copyow
 nerid=46595
UID:cfp328091-D@wikicfp.com
END:VEVENT
BEGIN:VEVENT
DTSTAMP:20260421T231619Z
DTSTART;VALUE=DATE:20130331
SUMMARY:Smart SysTech 2013 Notification Due
DESCRIPTION:Smart SysTech 2013 - European Conference on Smart Objects\, S
 ystems and Technologies 
URL:http://www.wikicfp.com/cfp/servlet/event.showcfp?eventid=27193&copyow
 nerid=46595
UID:cfp328091-N@wikicfp.com
END:VEVENT
BEGIN:VEVENT
DTSTAMP:20260421T231619Z
DTSTART;VALUE=DATE:20130422
SUMMARY:Smart SysTech 2013 Final Version Due
DESCRIPTION:Smart SysTech 2013 - European Conference on Smart Objects\, S
 ystems and Technologies 
URL:http://www.wikicfp.com/cfp/servlet/event.showcfp?eventid=27193&copyow
 nerid=46595
UID:cfp328091-N@wikicfp.com
END:VEVENT
BEGIN:VEVENT
DTSTAMP:20260421T231619Z
DTSTART;VALUE=DATE:20130701
DTEND;VALUE=DATE:20130706
SUMMARY:ECSA 2013
DESCRIPTION:7th European Conference on Software Architecture 2013
URL:http://www.wikicfp.com/cfp/servlet/event.showcfp?eventid=25256&copyow
 nerid=46595
UID:cfp328084-E@wikicfp.com
END:VEVENT
BEGIN:VEVENT
DTSTAMP:20260421T231619Z
DTSTART;VALUE=DATE:20130224
SUMMARY:ECSA 2013 Abstract Due
DESCRIPTION:7th European Conference on Software Architecture 2013
URL:http://www.wikicfp.com/cfp/servlet/event.showcfp?eventid=25256&copyow
 nerid=46595
UID:cfp328084-A@wikicfp.com
END:VEVENT
BEGIN:VEVENT
DTSTAMP:20260421T231619Z
DTSTART;VALUE=DATE:20130303
SUMMARY:ECSA 2013 Deadline
DESCRIPTION:7th European Conference on Software Architecture 2013
URL:http://www.wikicfp.com/cfp/servlet/event.showcfp?eventid=25256&copyow
 nerid=46595
UID:cfp328084-D@wikicfp.com
END:VEVENT
BEGIN:VEVENT
DTSTAMP:20260421T231619Z
DTSTART;VALUE=DATE:20130406
SUMMARY:ECSA 2013 Notification Due
DESCRIPTION:7th European Conference on Software Architecture 2013
URL:http://www.wikicfp.com/cfp/servlet/event.showcfp?eventid=25256&copyow
 nerid=46595
UID:cfp328084-N@wikicfp.com
END:VEVENT
BEGIN:VEVENT
DTSTAMP:20260421T231619Z
DTSTART;VALUE=DATE:20130419
SUMMARY:ECSA 2013 Final Version Due
DESCRIPTION:7th European Conference on Software Architecture 2013
URL:http://www.wikicfp.com/cfp/servlet/event.showcfp?eventid=25256&copyow
 nerid=46595
UID:cfp328084-N@wikicfp.com
END:VEVENT
BEGIN:VEVENT
DTSTAMP:20260421T231619Z
DTSTART;VALUE=DATE:20130904
DTEND;VALUE=DATE:20130907
SUMMARY:DSD 2013
DESCRIPTION:Digital Systems Design
URL:http://www.wikicfp.com/cfp/servlet/event.showcfp?eventid=27802&copyow
 nerid=46595
UID:cfp328074-E@wikicfp.com
END:VEVENT
BEGIN:VEVENT
DTSTAMP:20260421T231619Z
DTSTART;VALUE=DATE:20130329
SUMMARY:DSD 2013 Deadline
DESCRIPTION:Digital Systems Design
URL:http://www.wikicfp.com/cfp/servlet/event.showcfp?eventid=27802&copyow
 nerid=46595
UID:cfp328074-D@wikicfp.com
END:VEVENT
BEGIN:VEVENT
DTSTAMP:20260421T231619Z
DTSTART;VALUE=DATE:20130527
SUMMARY:DSD 2013 Notification Due
DESCRIPTION:Digital Systems Design
URL:http://www.wikicfp.com/cfp/servlet/event.showcfp?eventid=27802&copyow
 nerid=46595
UID:cfp328074-N@wikicfp.com
END:VEVENT
BEGIN:VEVENT
DTSTAMP:20260421T231619Z
DTSTART;VALUE=DATE:20130621
SUMMARY:DSD 2013 Final Version Due
DESCRIPTION:Digital Systems Design
URL:http://www.wikicfp.com/cfp/servlet/event.showcfp?eventid=27802&copyow
 nerid=46595
UID:cfp328074-N@wikicfp.com
END:VEVENT
BEGIN:VEVENT
DTSTAMP:20260421T231619Z
DTSTART;VALUE=DATE:20131204
DTEND;VALUE=DATE:20131207
SUMMARY:CSDM 2013
DESCRIPTION:Complex Systems Design & Management (CSD&M) 2013
URL:http://www.wikicfp.com/cfp/servlet/event.showcfp?eventid=27452&copyow
 nerid=46595
UID:cfp328093-E@wikicfp.com
END:VEVENT
BEGIN:VEVENT
DTSTAMP:20260421T231619Z
DTSTART;VALUE=DATE:20130407
SUMMARY:CSDM 2013 Abstract Due
DESCRIPTION:Complex Systems Design & Management (CSD&M) 2013
URL:http://www.wikicfp.com/cfp/servlet/event.showcfp?eventid=27452&copyow
 nerid=46595
UID:cfp328093-A@wikicfp.com
END:VEVENT
BEGIN:VEVENT
DTSTAMP:20260421T231619Z
DTSTART;VALUE=DATE:20130421
SUMMARY:CSDM 2013 Deadline
DESCRIPTION:Complex Systems Design & Management (CSD&M) 2013
URL:http://www.wikicfp.com/cfp/servlet/event.showcfp?eventid=27452&copyow
 nerid=46595
UID:cfp328093-D@wikicfp.com
END:VEVENT
BEGIN:VEVENT
DTSTAMP:20260421T231619Z
DTSTART;VALUE=DATE:20130628
SUMMARY:CSDM 2013 Notification Due
DESCRIPTION:Complex Systems Design & Management (CSD&M) 2013
URL:http://www.wikicfp.com/cfp/servlet/event.showcfp?eventid=27452&copyow
 nerid=46595
UID:cfp328093-N@wikicfp.com
END:VEVENT
BEGIN:VEVENT
DTSTAMP:20260421T231619Z
DTSTART;VALUE=DATE:20130731
SUMMARY:CSDM 2013 Final Version Due
DESCRIPTION:Complex Systems Design & Management (CSD&M) 2013
URL:http://www.wikicfp.com/cfp/servlet/event.showcfp?eventid=27452&copyow
 nerid=46595
UID:cfp328093-N@wikicfp.com
END:VEVENT
BEGIN:VEVENT
DTSTAMP:20260421T231619Z
DTSTART;VALUE=DATE:20130828
DTEND;VALUE=DATE:20130829
SUMMARY:ruSMART 2013
DESCRIPTION:The 6th conference on Internet of Things and Smart Spaces
URL:http://www.wikicfp.com/cfp/servlet/event.showcfp?eventid=27111&copyow
 nerid=46595
UID:cfp328092-E@wikicfp.com
END:VEVENT
BEGIN:VEVENT
DTSTAMP:20260421T231619Z
DTSTART;VALUE=DATE:20130501
SUMMARY:ruSMART 2013 Deadline
DESCRIPTION:The 6th conference on Internet of Things and Smart Spaces
URL:http://www.wikicfp.com/cfp/servlet/event.showcfp?eventid=27111&copyow
 nerid=46595
UID:cfp328092-D@wikicfp.com
END:VEVENT
BEGIN:VEVENT
DTSTAMP:20260421T231619Z
DTSTART;VALUE=DATE:20130610
SUMMARY:ruSMART 2013 Notification Due
DESCRIPTION:The 6th conference on Internet of Things and Smart Spaces
URL:http://www.wikicfp.com/cfp/servlet/event.showcfp?eventid=27111&copyow
 nerid=46595
UID:cfp328092-N@wikicfp.com
END:VEVENT
BEGIN:VEVENT
DTSTAMP:20260421T231619Z
DTSTART;VALUE=DATE:20130621
SUMMARY:ruSMART 2013 Final Version Due
DESCRIPTION:The 6th conference on Internet of Things and Smart Spaces
URL:http://www.wikicfp.com/cfp/servlet/event.showcfp?eventid=27111&copyow
 nerid=46595
UID:cfp328092-N@wikicfp.com
END:VEVENT
BEGIN:VEVENT
DTSTAMP:20260421T231619Z
DTSTART;VALUE=DATE:20130101
DTEND;VALUE=DATE:20140101
SUMMARY:CIS 2013
DESCRIPTION:Control and Intelligent Systems Journal
URL:http://www.wikicfp.com/cfp/servlet/event.showcfp?eventid=14553&copyow
 nerid=46595
UID:cfp328086-E@wikicfp.com
END:VEVENT
BEGIN:VEVENT
DTSTAMP:20260421T231619Z
DTSTART;VALUE=DATE:20131231
SUMMARY:CIS 2013 Deadline
DESCRIPTION:Control and Intelligent Systems Journal
URL:http://www.wikicfp.com/cfp/servlet/event.showcfp?eventid=14553&copyow
 nerid=46595
UID:cfp328086-D@wikicfp.com
END:VEVENT
BEGIN:VEVENT
DTSTAMP:20260421T231619Z
DTSTART;VALUE=DATE:20130101
DTEND;VALUE=DATE:20140101
SUMMARY:IJPES 2013
DESCRIPTION:International Journal of Power and Energy Systems
URL:http://www.wikicfp.com/cfp/servlet/event.showcfp?eventid=14555&copyow
 nerid=46595
UID:cfp328085-E@wikicfp.com
END:VEVENT
BEGIN:VEVENT
DTSTAMP:20260421T231619Z
DTSTART;VALUE=DATE:20131231
SUMMARY:IJPES 2013 Deadline
DESCRIPTION:International Journal of Power and Energy Systems
URL:http://www.wikicfp.com/cfp/servlet/event.showcfp?eventid=14555&copyow
 nerid=46595
UID:cfp328085-D@wikicfp.com
END:VEVENT
END:VCALENDAR
