BEGIN:VCALENDAR
PRODID:-//WikiCFP//mayeah 1.0//EN
VERSION:2.0
CALSCALE:GREGORIAN
BEGIN:VEVENT
DTSTAMP:20260420T221830Z
DTSTART;VALUE=DATE:20130629
DTEND;VALUE=DATE:20130704
SUMMARY:ITiCSE 2013
DESCRIPTION:Annual Conference on Innovation and Technology in Computer Sc
 ience Education
URL:http://www.wikicfp.com/cfp/servlet/event.showcfp?eventid=24046&copyow
 nerid=46306
UID:cfp325703-E@wikicfp.com
END:VEVENT
BEGIN:VEVENT
DTSTAMP:20260420T221830Z
DTSTART;VALUE=DATE:20130113
SUMMARY:ITiCSE 2013 Deadline
DESCRIPTION:Annual Conference on Innovation and Technology in Computer Sc
 ience Education
URL:http://www.wikicfp.com/cfp/servlet/event.showcfp?eventid=24046&copyow
 nerid=46306
UID:cfp325703-D@wikicfp.com
END:VEVENT
BEGIN:VEVENT
DTSTAMP:20260420T221830Z
DTSTART;VALUE=DATE:20130404
DTEND;VALUE=DATE:20130406
SUMMARY:CSERC 2013
DESCRIPTION:Computer Science Education Research Conference
URL:http://www.wikicfp.com/cfp/servlet/event.showcfp?eventid=26791&copyow
 nerid=46306
UID:cfp325712-E@wikicfp.com
END:VEVENT
BEGIN:VEVENT
DTSTAMP:20260420T221830Z
DTSTART;VALUE=DATE:20130113
SUMMARY:CSERC 2013 Deadline
DESCRIPTION:Computer Science Education Research Conference
URL:http://www.wikicfp.com/cfp/servlet/event.showcfp?eventid=26791&copyow
 nerid=46306
UID:cfp325712-D@wikicfp.com
END:VEVENT
BEGIN:VEVENT
DTSTAMP:20260420T221830Z
DTSTART;VALUE=DATE:20130222
SUMMARY:CSERC 2013 Notification Due
DESCRIPTION:Computer Science Education Research Conference
URL:http://www.wikicfp.com/cfp/servlet/event.showcfp?eventid=26791&copyow
 nerid=46306
UID:cfp325712-N@wikicfp.com
END:VEVENT
BEGIN:VEVENT
DTSTAMP:20260420T221830Z
DTSTART;VALUE=DATE:20130428
SUMMARY:CSERC 2013 Final Version Due
DESCRIPTION:Computer Science Education Research Conference
URL:http://www.wikicfp.com/cfp/servlet/event.showcfp?eventid=26791&copyow
 nerid=46306
UID:cfp325712-N@wikicfp.com
END:VEVENT
BEGIN:VEVENT
DTSTAMP:20260420T221830Z
DTSTART;VALUE=DATE:20130522
DTEND;VALUE=DATE:20130525
SUMMARY:ETHE 2013
DESCRIPTION:Ethnographies of Higher Education: Researching and Reflecting
  âat Homeâ
URL:http://www.wikicfp.com/cfp/servlet/event.showcfp?eventid=26826&copyow
 nerid=46306
UID:cfp325713-E@wikicfp.com
END:VEVENT
BEGIN:VEVENT
DTSTAMP:20260420T221830Z
DTSTART;VALUE=DATE:20130115
SUMMARY:ETHE 2013 Deadline
DESCRIPTION:Ethnographies of Higher Education: Researching and Reflecting
  âat Homeâ
URL:http://www.wikicfp.com/cfp/servlet/event.showcfp?eventid=26826&copyow
 nerid=46306
UID:cfp325713-D@wikicfp.com
END:VEVENT
BEGIN:VEVENT
DTSTAMP:20260420T221830Z
DTSTART;VALUE=DATE:20130215
SUMMARY:ETHE 2013 Notification Due
DESCRIPTION:Ethnographies of Higher Education: Researching and Reflecting
  âat Homeâ
URL:http://www.wikicfp.com/cfp/servlet/event.showcfp?eventid=26826&copyow
 nerid=46306
UID:cfp325713-N@wikicfp.com
END:VEVENT
BEGIN:VEVENT
DTSTAMP:20260420T221830Z
DTSTART;VALUE=DATE:20130527
DTEND;VALUE=DATE:20130601
SUMMARY:GCCCE 2013
DESCRIPTION:Global Chinese Conference on Computers in Education 2013
URL:http://www.wikicfp.com/cfp/servlet/event.showcfp?eventid=26842&copyow
 nerid=46306
UID:cfp325714-E@wikicfp.com
END:VEVENT
BEGIN:VEVENT
DTSTAMP:20260420T221830Z
DTSTART;VALUE=DATE:20130118
SUMMARY:GCCCE 2013 Deadline
DESCRIPTION:Global Chinese Conference on Computers in Education 2013
URL:http://www.wikicfp.com/cfp/servlet/event.showcfp?eventid=26842&copyow
 nerid=46306
UID:cfp325714-D@wikicfp.com
END:VEVENT
BEGIN:VEVENT
DTSTAMP:20260420T221830Z
DTSTART;VALUE=DATE:20130325
SUMMARY:GCCCE 2013 Notification Due
DESCRIPTION:Global Chinese Conference on Computers in Education 2013
URL:http://www.wikicfp.com/cfp/servlet/event.showcfp?eventid=26842&copyow
 nerid=46306
UID:cfp325714-N@wikicfp.com
END:VEVENT
BEGIN:VEVENT
DTSTAMP:20260420T221830Z
DTSTART;VALUE=DATE:20130408
SUMMARY:GCCCE 2013 Final Version Due
DESCRIPTION:Global Chinese Conference on Computers in Education 2013
URL:http://www.wikicfp.com/cfp/servlet/event.showcfp?eventid=26842&copyow
 nerid=46306
UID:cfp325714-N@wikicfp.com
END:VEVENT
BEGIN:VEVENT
DTSTAMP:20260420T221830Z
DTSTART;VALUE=DATE:20120822
DTEND;VALUE=DATE:20130626
SUMMARY:CEPP 2013
DESCRIPTION:Call for Chapters: Continuous E-Learning for Pharmaceutical P
 rofessionals
URL:http://www.wikicfp.com/cfp/servlet/event.showcfp?eventid=25369&copyow
 nerid=46306
UID:cfp325705-E@wikicfp.com
END:VEVENT
BEGIN:VEVENT
DTSTAMP:20260420T221830Z
DTSTART;VALUE=DATE:20120912
SUMMARY:CEPP 2013 Abstract Due
DESCRIPTION:Call for Chapters: Continuous E-Learning for Pharmaceutical P
 rofessionals
URL:http://www.wikicfp.com/cfp/servlet/event.showcfp?eventid=25369&copyow
 nerid=46306
UID:cfp325705-A@wikicfp.com
END:VEVENT
BEGIN:VEVENT
DTSTAMP:20260420T221830Z
DTSTART;VALUE=DATE:20130125
SUMMARY:CEPP 2013 Deadline
DESCRIPTION:Call for Chapters: Continuous E-Learning for Pharmaceutical P
 rofessionals
URL:http://www.wikicfp.com/cfp/servlet/event.showcfp?eventid=25369&copyow
 nerid=46306
UID:cfp325705-D@wikicfp.com
END:VEVENT
BEGIN:VEVENT
DTSTAMP:20260420T221830Z
DTSTART;VALUE=DATE:20130312
SUMMARY:CEPP 2013 Notification Due
DESCRIPTION:Call for Chapters: Continuous E-Learning for Pharmaceutical P
 rofessionals
URL:http://www.wikicfp.com/cfp/servlet/event.showcfp?eventid=25369&copyow
 nerid=46306
UID:cfp325705-N@wikicfp.com
END:VEVENT
BEGIN:VEVENT
DTSTAMP:20260420T221830Z
DTSTART;VALUE=DATE:20130425
SUMMARY:CEPP 2013 Final Version Due
DESCRIPTION:Call for Chapters: Continuous E-Learning for Pharmaceutical P
 rofessionals
URL:http://www.wikicfp.com/cfp/servlet/event.showcfp?eventid=25369&copyow
 nerid=46306
UID:cfp325705-N@wikicfp.com
END:VEVENT
BEGIN:VEVENT
DTSTAMP:20260420T221830Z
DTSTART;VALUE=DATE:20130506
DTEND;VALUE=DATE:20130509
SUMMARY:CSEDU 2013
DESCRIPTION:5th International Conference on Computer Supported Education
URL:http://www.wikicfp.com/cfp/servlet/event.showcfp?eventid=27882&copyow
 nerid=46306
UID:cfp325720-E@wikicfp.com
END:VEVENT
BEGIN:VEVENT
DTSTAMP:20260420T221830Z
DTSTART;VALUE=DATE:20130128
SUMMARY:CSEDU 2013 Deadline
DESCRIPTION:5th International Conference on Computer Supported Education
URL:http://www.wikicfp.com/cfp/servlet/event.showcfp?eventid=27882&copyow
 nerid=46306
UID:cfp325720-D@wikicfp.com
END:VEVENT
BEGIN:VEVENT
DTSTAMP:20260420T221830Z
DTSTART;VALUE=DATE:20130222
SUMMARY:CSEDU 2013 Notification Due
DESCRIPTION:5th International Conference on Computer Supported Education
URL:http://www.wikicfp.com/cfp/servlet/event.showcfp?eventid=27882&copyow
 nerid=46306
UID:cfp325720-N@wikicfp.com
END:VEVENT
BEGIN:VEVENT
DTSTAMP:20260420T221830Z
DTSTART;VALUE=DATE:20130308
SUMMARY:CSEDU 2013 Final Version Due
DESCRIPTION:5th International Conference on Computer Supported Education
URL:http://www.wikicfp.com/cfp/servlet/event.showcfp?eventid=27882&copyow
 nerid=46306
UID:cfp325720-N@wikicfp.com
END:VEVENT
BEGIN:VEVENT
DTSTAMP:20260420T221830Z
DTSTART;VALUE=DATE:20130415
DTEND;VALUE=DATE:20130418
SUMMARY:IICE 2013
DESCRIPTION:Ireland International Conference on Education
URL:http://www.wikicfp.com/cfp/servlet/event.showcfp?eventid=27144&copyow
 nerid=46306
UID:cfp325716-E@wikicfp.com
END:VEVENT
BEGIN:VEVENT
DTSTAMP:20260420T221830Z
DTSTART;VALUE=DATE:20130125
SUMMARY:IICE 2013 Abstract Due
DESCRIPTION:Ireland International Conference on Education
URL:http://www.wikicfp.com/cfp/servlet/event.showcfp?eventid=27144&copyow
 nerid=46306
UID:cfp325716-A@wikicfp.com
END:VEVENT
BEGIN:VEVENT
DTSTAMP:20260420T221830Z
DTSTART;VALUE=DATE:20130130
SUMMARY:IICE 2013 Deadline
DESCRIPTION:Ireland International Conference on Education
URL:http://www.wikicfp.com/cfp/servlet/event.showcfp?eventid=27144&copyow
 nerid=46306
UID:cfp325716-D@wikicfp.com
END:VEVENT
BEGIN:VEVENT
DTSTAMP:20260420T221830Z
DTSTART;VALUE=DATE:20130210
SUMMARY:IICE 2013 Notification Due
DESCRIPTION:Ireland International Conference on Education
URL:http://www.wikicfp.com/cfp/servlet/event.showcfp?eventid=27144&copyow
 nerid=46306
UID:cfp325716-N@wikicfp.com
END:VEVENT
BEGIN:VEVENT
DTSTAMP:20260420T221830Z
DTSTART;VALUE=DATE:20130228
SUMMARY:IICE 2013 Final Version Due
DESCRIPTION:Ireland International Conference on Education
URL:http://www.wikicfp.com/cfp/servlet/event.showcfp?eventid=27144&copyow
 nerid=46306
UID:cfp325716-N@wikicfp.com
END:VEVENT
BEGIN:VEVENT
DTSTAMP:20260420T221830Z
DTSTART;VALUE=DATE:20130131
SUMMARY:TA 2013 Deadline
DESCRIPTION:Students\, Faculty\, and the Common Good -- a CFP from NEA's 
 Thought & Action journal
URL:http://www.wikicfp.com/cfp/servlet/event.showcfp?eventid=25908&copyow
 nerid=46306
UID:cfp325708-D@wikicfp.com
END:VEVENT
BEGIN:VEVENT
DTSTAMP:20260420T221830Z
DTSTART;VALUE=DATE:20130314
DTEND;VALUE=DATE:20130316
SUMMARY:ICEEIM 2013
DESCRIPTION:2013 International Conference on e-Education\, e-Business and
  Information Management (ICEEIM 2013)
URL:http://www.wikicfp.com/cfp/servlet/event.showcfp?eventid=26452&copyow
 nerid=46306
UID:cfp325709-E@wikicfp.com
END:VEVENT
BEGIN:VEVENT
DTSTAMP:20260420T221830Z
DTSTART;VALUE=DATE:20130131
SUMMARY:ICEEIM 2013 Deadline
DESCRIPTION:2013 International Conference on e-Education\, e-Business and
  Information Management (ICEEIM 2013)
URL:http://www.wikicfp.com/cfp/servlet/event.showcfp?eventid=26452&copyow
 nerid=46306
UID:cfp325709-D@wikicfp.com
END:VEVENT
BEGIN:VEVENT
DTSTAMP:20260420T221830Z
DTSTART;VALUE=DATE:20130205
SUMMARY:ICEEIM 2013 Notification Due
DESCRIPTION:2013 International Conference on e-Education\, e-Business and
  Information Management (ICEEIM 2013)
URL:http://www.wikicfp.com/cfp/servlet/event.showcfp?eventid=26452&copyow
 nerid=46306
UID:cfp325709-N@wikicfp.com
END:VEVENT
BEGIN:VEVENT
DTSTAMP:20260420T221830Z
DTSTART;VALUE=DATE:20130215
SUMMARY:ICEEIM 2013 Final Version Due
DESCRIPTION:2013 International Conference on e-Education\, e-Business and
  Information Management (ICEEIM 2013)
URL:http://www.wikicfp.com/cfp/servlet/event.showcfp?eventid=26452&copyow
 nerid=46306
UID:cfp325709-N@wikicfp.com
END:VEVENT
BEGIN:VEVENT
DTSTAMP:20260420T221830Z
DTSTART;VALUE=DATE:20131022
DTEND;VALUE=DATE:20131026
SUMMARY:ECIL 2013
DESCRIPTION:The European Conference on Information Literacy
URL:http://www.wikicfp.com/cfp/servlet/event.showcfp?eventid=27087&copyow
 nerid=46306
UID:cfp325715-E@wikicfp.com
END:VEVENT
BEGIN:VEVENT
DTSTAMP:20260420T221830Z
DTSTART;VALUE=DATE:20130201
SUMMARY:ECIL 2013 Deadline
DESCRIPTION:The European Conference on Information Literacy
URL:http://www.wikicfp.com/cfp/servlet/event.showcfp?eventid=27087&copyow
 nerid=46306
UID:cfp325715-D@wikicfp.com
END:VEVENT
BEGIN:VEVENT
DTSTAMP:20260420T221830Z
DTSTART;VALUE=DATE:20130405
SUMMARY:ECIL 2013 Notification Due
DESCRIPTION:The European Conference on Information Literacy
URL:http://www.wikicfp.com/cfp/servlet/event.showcfp?eventid=27087&copyow
 nerid=46306
UID:cfp325715-N@wikicfp.com
END:VEVENT
BEGIN:VEVENT
DTSTAMP:20260420T221830Z
DTSTART;VALUE=DATE:20130515
SUMMARY:ECIL 2013 Final Version Due
DESCRIPTION:The European Conference on Information Literacy
URL:http://www.wikicfp.com/cfp/servlet/event.showcfp?eventid=27087&copyow
 nerid=46306
UID:cfp325715-N@wikicfp.com
END:VEVENT
BEGIN:VEVENT
DTSTAMP:20260420T221830Z
DTSTART;VALUE=DATE:20130411
DTEND;VALUE=DATE:20130413
SUMMARY:ESE 2013
DESCRIPTION:2013 Fourth International Conference on Education and Sports 
 Education(ESE2013)
URL:http://www.wikicfp.com/cfp/servlet/event.showcfp?eventid=27444&copyow
 nerid=46306
UID:cfp325718-E@wikicfp.com
END:VEVENT
BEGIN:VEVENT
DTSTAMP:20260420T221830Z
DTSTART;VALUE=DATE:20130201
SUMMARY:ESE 2013 Deadline
DESCRIPTION:2013 Fourth International Conference on Education and Sports 
 Education(ESE2013)
URL:http://www.wikicfp.com/cfp/servlet/event.showcfp?eventid=27444&copyow
 nerid=46306
UID:cfp325718-D@wikicfp.com
END:VEVENT
BEGIN:VEVENT
DTSTAMP:20260420T221830Z
DTSTART;VALUE=DATE:20130210
SUMMARY:ESE 2013 Notification Due
DESCRIPTION:2013 Fourth International Conference on Education and Sports 
 Education(ESE2013)
URL:http://www.wikicfp.com/cfp/servlet/event.showcfp?eventid=27444&copyow
 nerid=46306
UID:cfp325718-N@wikicfp.com
END:VEVENT
BEGIN:VEVENT
DTSTAMP:20260420T221830Z
DTSTART;VALUE=DATE:20130315
SUMMARY:ESE 2013 Final Version Due
DESCRIPTION:2013 Fourth International Conference on Education and Sports 
 Education(ESE2013)
URL:http://www.wikicfp.com/cfp/servlet/event.showcfp?eventid=27444&copyow
 nerid=46306
UID:cfp325718-N@wikicfp.com
END:VEVENT
BEGIN:VEVENT
DTSTAMP:20260420T221830Z
DTSTART;VALUE=DATE:20131015
DTEND;VALUE=DATE:20131019
SUMMARY:EDUCAUSE 2013
DESCRIPTION:EDUCAUSE Annual Conference
URL:http://www.wikicfp.com/cfp/servlet/event.showcfp?eventid=27638&copyow
 nerid=46306
UID:cfp325719-E@wikicfp.com
END:VEVENT
BEGIN:VEVENT
DTSTAMP:20260420T221830Z
DTSTART;VALUE=DATE:20130204
SUMMARY:EDUCAUSE 2013 Deadline
DESCRIPTION:EDUCAUSE Annual Conference
URL:http://www.wikicfp.com/cfp/servlet/event.showcfp?eventid=27638&copyow
 nerid=46306
UID:cfp325719-D@wikicfp.com
END:VEVENT
BEGIN:VEVENT
DTSTAMP:20260420T221830Z
DTSTART;VALUE=DATE:20130318
DTEND;VALUE=DATE:20130321
SUMMARY:Key West 2013
DESCRIPTION:2013 Key West International Academic Conference
URL:http://www.wikicfp.com/cfp/servlet/event.showcfp?eventid=23799&copyow
 nerid=46306
UID:cfp325702-E@wikicfp.com
END:VEVENT
BEGIN:VEVENT
DTSTAMP:20260420T221830Z
DTSTART;VALUE=DATE:20130221
SUMMARY:Key West 2013 Deadline
DESCRIPTION:2013 Key West International Academic Conference
URL:http://www.wikicfp.com/cfp/servlet/event.showcfp?eventid=23799&copyow
 nerid=46306
UID:cfp325702-D@wikicfp.com
END:VEVENT
BEGIN:VEVENT
DTSTAMP:20260420T221830Z
DTSTART;VALUE=DATE:20130221
SUMMARY:Key West 2013 Final Version Due
DESCRIPTION:2013 Key West International Academic Conference
URL:http://www.wikicfp.com/cfp/servlet/event.showcfp?eventid=23799&copyow
 nerid=46306
UID:cfp325702-N@wikicfp.com
END:VEVENT
BEGIN:VEVENT
DTSTAMP:20260420T221830Z
DTSTART;VALUE=DATE:20130314
DTEND;VALUE=DATE:20130317
SUMMARY:Intellectbase Bangkok 2013
DESCRIPTION:Intellectbase Multi-Disciplinary Academic Conference 
URL:http://www.wikicfp.com/cfp/servlet/event.showcfp?eventid=24056&copyow
 nerid=46306
UID:cfp325704-E@wikicfp.com
END:VEVENT
BEGIN:VEVENT
DTSTAMP:20260420T221830Z
DTSTART;VALUE=DATE:20130222
SUMMARY:Intellectbase Bangkok 2013 Deadline
DESCRIPTION:Intellectbase Multi-Disciplinary Academic Conference 
URL:http://www.wikicfp.com/cfp/servlet/event.showcfp?eventid=24056&copyow
 nerid=46306
UID:cfp325704-D@wikicfp.com
END:VEVENT
BEGIN:VEVENT
DTSTAMP:20260420T221830Z
DTSTART;VALUE=DATE:20130301
SUMMARY:Intellectbase Bangkok 2013 Notification Due
DESCRIPTION:Intellectbase Multi-Disciplinary Academic Conference 
URL:http://www.wikicfp.com/cfp/servlet/event.showcfp?eventid=24056&copyow
 nerid=46306
UID:cfp325704-N@wikicfp.com
END:VEVENT
BEGIN:VEVENT
DTSTAMP:20260420T221830Z
DTSTART;VALUE=DATE:20130222
SUMMARY:Intellectbase Bangkok 2013 Final Version Due
DESCRIPTION:Intellectbase Multi-Disciplinary Academic Conference 
URL:http://www.wikicfp.com/cfp/servlet/event.showcfp?eventid=24056&copyow
 nerid=46306
UID:cfp325704-N@wikicfp.com
END:VEVENT
BEGIN:VEVENT
DTSTAMP:20260420T221830Z
DTSTART;VALUE=DATE:20130411
DTEND;VALUE=DATE:20130413
SUMMARY:RDEE 2013
DESCRIPTION:International Conference on The Contribution of Research and 
 Development to Engineering Education
URL:http://www.wikicfp.com/cfp/servlet/event.showcfp?eventid=26579&copyow
 nerid=46306
UID:cfp325710-E@wikicfp.com
END:VEVENT
BEGIN:VEVENT
DTSTAMP:20260420T221830Z
DTSTART;VALUE=DATE:20121215
SUMMARY:RDEE 2013 Abstract Due
DESCRIPTION:International Conference on The Contribution of Research and 
 Development to Engineering Education
URL:http://www.wikicfp.com/cfp/servlet/event.showcfp?eventid=26579&copyow
 nerid=46306
UID:cfp325710-A@wikicfp.com
END:VEVENT
BEGIN:VEVENT
DTSTAMP:20260420T221830Z
DTSTART;VALUE=DATE:20130223
SUMMARY:RDEE 2013 Deadline
DESCRIPTION:International Conference on The Contribution of Research and 
 Development to Engineering Education
URL:http://www.wikicfp.com/cfp/servlet/event.showcfp?eventid=26579&copyow
 nerid=46306
UID:cfp325710-D@wikicfp.com
END:VEVENT
BEGIN:VEVENT
DTSTAMP:20260420T221830Z
DTSTART;VALUE=DATE:20130301
SUMMARY:RDEE 2013 Notification Due
DESCRIPTION:International Conference on The Contribution of Research and 
 Development to Engineering Education
URL:http://www.wikicfp.com/cfp/servlet/event.showcfp?eventid=26579&copyow
 nerid=46306
UID:cfp325710-N@wikicfp.com
END:VEVENT
BEGIN:VEVENT
DTSTAMP:20260420T221830Z
DTSTART;VALUE=DATE:20130315
SUMMARY:RDEE 2013 Final Version Due
DESCRIPTION:International Conference on The Contribution of Research and 
 Development to Engineering Education
URL:http://www.wikicfp.com/cfp/servlet/event.showcfp?eventid=26579&copyow
 nerid=46306
UID:cfp325710-N@wikicfp.com
END:VEVENT
BEGIN:VEVENT
DTSTAMP:20260420T221830Z
DTSTART;VALUE=DATE:20130228
SUMMARY:Teaching History 2013 Deadline
DESCRIPTION:Call for Articles\; Teaching History\; Academic Exchange Quar
 terly
URL:http://www.wikicfp.com/cfp/servlet/event.showcfp?eventid=28078&copyow
 nerid=46306
UID:cfp325721-D@wikicfp.com
END:VEVENT
BEGIN:VEVENT
DTSTAMP:20260420T221830Z
DTSTART;VALUE=DATE:20130425
DTEND;VALUE=DATE:20130429
SUMMARY:ACTC 2013
DESCRIPTION:The Third Annual Asian Conference on Technology in the Classr
 oom
URL:http://www.wikicfp.com/cfp/servlet/event.showcfp?eventid=25580&copyow
 nerid=46306
UID:cfp325706-E@wikicfp.com
END:VEVENT
BEGIN:VEVENT
DTSTAMP:20260420T221830Z
DTSTART;VALUE=DATE:20130301
SUMMARY:ACTC 2013 Deadline
DESCRIPTION:The Third Annual Asian Conference on Technology in the Classr
 oom
URL:http://www.wikicfp.com/cfp/servlet/event.showcfp?eventid=25580&copyow
 nerid=46306
UID:cfp325706-D@wikicfp.com
END:VEVENT
BEGIN:VEVENT
DTSTAMP:20260420T221830Z
DTSTART;VALUE=DATE:20130601
SUMMARY:ACTC 2013 Final Version Due
DESCRIPTION:The Third Annual Asian Conference on Technology in the Classr
 oom
URL:http://www.wikicfp.com/cfp/servlet/event.showcfp?eventid=25580&copyow
 nerid=46306
UID:cfp325706-N@wikicfp.com
END:VEVENT
BEGIN:VEVENT
DTSTAMP:20260420T221830Z
DTSTART;VALUE=DATE:20130519
DTEND;VALUE=DATE:20130521
SUMMARY:ICMEI 2013
DESCRIPTION:2013 2nd International Conference on Management and Education
  Innovation
URL:http://www.wikicfp.com/cfp/servlet/event.showcfp?eventid=27188&copyow
 nerid=46306
UID:cfp325717-E@wikicfp.com
END:VEVENT
BEGIN:VEVENT
DTSTAMP:20260420T221830Z
DTSTART;VALUE=DATE:20130301
SUMMARY:ICMEI 2013 Deadline
DESCRIPTION:2013 2nd International Conference on Management and Education
  Innovation
URL:http://www.wikicfp.com/cfp/servlet/event.showcfp?eventid=27188&copyow
 nerid=46306
UID:cfp325717-D@wikicfp.com
END:VEVENT
BEGIN:VEVENT
DTSTAMP:20260420T221830Z
DTSTART;VALUE=DATE:20130320
SUMMARY:ICMEI 2013 Notification Due
DESCRIPTION:2013 2nd International Conference on Management and Education
  Innovation
URL:http://www.wikicfp.com/cfp/servlet/event.showcfp?eventid=27188&copyow
 nerid=46306
UID:cfp325717-N@wikicfp.com
END:VEVENT
BEGIN:VEVENT
DTSTAMP:20260420T221830Z
DTSTART;VALUE=DATE:20130405
SUMMARY:ICMEI 2013 Final Version Due
DESCRIPTION:2013 2nd International Conference on Management and Education
  Innovation
URL:http://www.wikicfp.com/cfp/servlet/event.showcfp?eventid=27188&copyow
 nerid=46306
UID:cfp325717-N@wikicfp.com
END:VEVENT
BEGIN:VEVENT
DTSTAMP:20260420T221830Z
DTSTART;VALUE=DATE:20130507
DTEND;VALUE=DATE:20130510
SUMMARY:IeLC 2013
DESCRIPTION:Fourth International e-learning Conference
URL:http://www.wikicfp.com/cfp/servlet/event.showcfp?eventid=26755&copyow
 nerid=46306
UID:cfp325711-E@wikicfp.com
END:VEVENT
BEGIN:VEVENT
DTSTAMP:20260420T221830Z
DTSTART;VALUE=DATE:20130401
SUMMARY:IeLC 2013 Deadline
DESCRIPTION:Fourth International e-learning Conference
URL:http://www.wikicfp.com/cfp/servlet/event.showcfp?eventid=26755&copyow
 nerid=46306
UID:cfp325711-D@wikicfp.com
END:VEVENT
BEGIN:VEVENT
DTSTAMP:20260420T221830Z
DTSTART;VALUE=DATE:20130711
DTEND;VALUE=DATE:20130715
SUMMARY:ECE 2013
DESCRIPTION:The Inaugural European Conference on Education 2013
URL:http://www.wikicfp.com/cfp/servlet/event.showcfp?eventid=25902&copyow
 nerid=46306
UID:cfp325707-E@wikicfp.com
END:VEVENT
BEGIN:VEVENT
DTSTAMP:20260420T221830Z
DTSTART;VALUE=DATE:20130520
SUMMARY:ECE 2013 Deadline
DESCRIPTION:The Inaugural European Conference on Education 2013
URL:http://www.wikicfp.com/cfp/servlet/event.showcfp?eventid=25902&copyow
 nerid=46306
UID:cfp325707-D@wikicfp.com
END:VEVENT
BEGIN:VEVENT
DTSTAMP:20260420T221830Z
DTSTART;VALUE=DATE:20130901
SUMMARY:ECE 2013 Final Version Due
DESCRIPTION:The Inaugural European Conference on Education 2013
URL:http://www.wikicfp.com/cfp/servlet/event.showcfp?eventid=25902&copyow
 nerid=46306
UID:cfp325707-N@wikicfp.com
END:VEVENT
END:VCALENDAR
