BEGIN:VCALENDAR
PRODID:-//WikiCFP//longc 1.0//EN
VERSION:2.0
CALSCALE:GREGORIAN
BEGIN:VEVENT
DTSTAMP:20260419T154605Z
DTSTART;VALUE=DATE:20121201
DTEND;VALUE=DATE:20121206
SUMMARY:MICRO 2012
DESCRIPTION:International Symposium on Microarchitecture
URL:http://www.wikicfp.com/cfp/servlet/event.showcfp?eventid=22694&copyow
 nerid=46236
UID:cfp325273-E@wikicfp.com
END:VEVENT
BEGIN:VEVENT
DTSTAMP:20260419T154605Z
DTSTART;VALUE=DATE:20120601
SUMMARY:MICRO 2012 Abstract Due
DESCRIPTION:International Symposium on Microarchitecture
URL:http://www.wikicfp.com/cfp/servlet/event.showcfp?eventid=22694&copyow
 nerid=46236
UID:cfp325273-A@wikicfp.com
END:VEVENT
BEGIN:VEVENT
DTSTAMP:20260419T154605Z
DTSTART;VALUE=DATE:20120608
SUMMARY:MICRO 2012 Deadline
DESCRIPTION:International Symposium on Microarchitecture
URL:http://www.wikicfp.com/cfp/servlet/event.showcfp?eventid=22694&copyow
 nerid=46236
UID:cfp325273-D@wikicfp.com
END:VEVENT
BEGIN:VEVENT
DTSTAMP:20260419T154605Z
DTSTART;VALUE=DATE:20120901
SUMMARY:MICRO 2012 Notification Due
DESCRIPTION:International Symposium on Microarchitecture
URL:http://www.wikicfp.com/cfp/servlet/event.showcfp?eventid=22694&copyow
 nerid=46236
UID:cfp325273-N@wikicfp.com
END:VEVENT
BEGIN:VEVENT
DTSTAMP:20260419T154605Z
DTSTART;VALUE=DATE:20130223
DTEND;VALUE=DATE:20130228
SUMMARY:HPCA 2013
DESCRIPTION:IEEE 19th International Symposium on High Performance Compute
 r Architecture
URL:http://www.wikicfp.com/cfp/servlet/event.showcfp?eventid=22405&copyow
 nerid=46236
UID:cfp325264-E@wikicfp.com
END:VEVENT
BEGIN:VEVENT
DTSTAMP:20260419T154605Z
DTSTART;VALUE=DATE:20120830
SUMMARY:HPCA 2013 Abstract Due
DESCRIPTION:IEEE 19th International Symposium on High Performance Compute
 r Architecture
URL:http://www.wikicfp.com/cfp/servlet/event.showcfp?eventid=22405&copyow
 nerid=46236
UID:cfp325264-A@wikicfp.com
END:VEVENT
BEGIN:VEVENT
DTSTAMP:20260419T154605Z
DTSTART;VALUE=DATE:20120907
SUMMARY:HPCA 2013 Deadline
DESCRIPTION:IEEE 19th International Symposium on High Performance Compute
 r Architecture
URL:http://www.wikicfp.com/cfp/servlet/event.showcfp?eventid=22405&copyow
 nerid=46236
UID:cfp325264-D@wikicfp.com
END:VEVENT
BEGIN:VEVENT
DTSTAMP:20260419T154605Z
DTSTART;VALUE=DATE:20130421
DTEND;VALUE=DATE:20130424
SUMMARY:ISPASS 2013
DESCRIPTION:2013 IEEE International Symposium on Performance Analysis of 
 Systems and Software
URL:http://www.wikicfp.com/cfp/servlet/event.showcfp?eventid=24481&copyow
 nerid=46236
UID:cfp347590-E@wikicfp.com
END:VEVENT
BEGIN:VEVENT
DTSTAMP:20260419T154605Z
DTSTART;VALUE=DATE:20120921
SUMMARY:ISPASS 2013 Abstract Due
DESCRIPTION:2013 IEEE International Symposium on Performance Analysis of 
 Systems and Software
URL:http://www.wikicfp.com/cfp/servlet/event.showcfp?eventid=24481&copyow
 nerid=46236
UID:cfp347590-A@wikicfp.com
END:VEVENT
BEGIN:VEVENT
DTSTAMP:20260419T154605Z
DTSTART;VALUE=DATE:20120928
SUMMARY:ISPASS 2013 Deadline
DESCRIPTION:2013 IEEE International Symposium on Performance Analysis of 
 Systems and Software
URL:http://www.wikicfp.com/cfp/servlet/event.showcfp?eventid=24481&copyow
 nerid=46236
UID:cfp347590-D@wikicfp.com
END:VEVENT
BEGIN:VEVENT
DTSTAMP:20260419T154605Z
DTSTART;VALUE=DATE:20121210
SUMMARY:ISPASS 2013 Notification Due
DESCRIPTION:2013 IEEE International Symposium on Performance Analysis of 
 Systems and Software
URL:http://www.wikicfp.com/cfp/servlet/event.showcfp?eventid=24481&copyow
 nerid=46236
UID:cfp347590-N@wikicfp.com
END:VEVENT
BEGIN:VEVENT
DTSTAMP:20260419T154605Z
DTSTART;VALUE=DATE:20130127
SUMMARY:ISPASS 2013 Final Version Due
DESCRIPTION:2013 IEEE International Symposium on Performance Analysis of 
 Systems and Software
URL:http://www.wikicfp.com/cfp/servlet/event.showcfp?eventid=24481&copyow
 nerid=46236
UID:cfp347590-N@wikicfp.com
END:VEVENT
BEGIN:VEVENT
DTSTAMP:20260419T154605Z
DTSTART;VALUE=DATE:20130520
DTEND;VALUE=DATE:20130525
SUMMARY:IPDPS 2013
DESCRIPTION:27th IEEE International Parallel & Distributed Processing Sym
 posium
URL:http://www.wikicfp.com/cfp/servlet/event.showcfp?eventid=24640&copyow
 nerid=46236
UID:cfp347624-E@wikicfp.com
END:VEVENT
BEGIN:VEVENT
DTSTAMP:20260419T154605Z
DTSTART;VALUE=DATE:20120924
SUMMARY:IPDPS 2013 Abstract Due
DESCRIPTION:27th IEEE International Parallel & Distributed Processing Sym
 posium
URL:http://www.wikicfp.com/cfp/servlet/event.showcfp?eventid=24640&copyow
 nerid=46236
UID:cfp347624-A@wikicfp.com
END:VEVENT
BEGIN:VEVENT
DTSTAMP:20260419T154605Z
DTSTART;VALUE=DATE:20121001
SUMMARY:IPDPS 2013 Deadline
DESCRIPTION:27th IEEE International Parallel & Distributed Processing Sym
 posium
URL:http://www.wikicfp.com/cfp/servlet/event.showcfp?eventid=24640&copyow
 nerid=46236
UID:cfp347624-D@wikicfp.com
END:VEVENT
BEGIN:VEVENT
DTSTAMP:20260419T154605Z
DTSTART;VALUE=DATE:20121223
SUMMARY:IPDPS 2013 Notification Due
DESCRIPTION:27th IEEE International Parallel & Distributed Processing Sym
 posium
URL:http://www.wikicfp.com/cfp/servlet/event.showcfp?eventid=24640&copyow
 nerid=46236
UID:cfp347624-N@wikicfp.com
END:VEVENT
BEGIN:VEVENT
DTSTAMP:20260419T154605Z
DTSTART;VALUE=DATE:20130201
SUMMARY:IPDPS 2013 Final Version Due
DESCRIPTION:27th IEEE International Parallel & Distributed Processing Sym
 posium
URL:http://www.wikicfp.com/cfp/servlet/event.showcfp?eventid=24640&copyow
 nerid=46236
UID:cfp347624-N@wikicfp.com
END:VEVENT
BEGIN:VEVENT
DTSTAMP:20260419T154605Z
DTSTART;VALUE=DATE:20130623
DTEND;VALUE=DATE:20130628
SUMMARY:ISCA 2013
DESCRIPTION:The 40th Annual International Symposium on Computer Architect
 ure (ISCA-40)
URL:http://www.wikicfp.com/cfp/servlet/event.showcfp?eventid=24569&copyow
 nerid=46236
UID:cfp325265-E@wikicfp.com
END:VEVENT
BEGIN:VEVENT
DTSTAMP:20260419T154605Z
DTSTART;VALUE=DATE:20121114
SUMMARY:ISCA 2013 Abstract Due
DESCRIPTION:The 40th Annual International Symposium on Computer Architect
 ure (ISCA-40)
URL:http://www.wikicfp.com/cfp/servlet/event.showcfp?eventid=24569&copyow
 nerid=46236
UID:cfp325265-A@wikicfp.com
END:VEVENT
BEGIN:VEVENT
DTSTAMP:20260419T154605Z
DTSTART;VALUE=DATE:20121121
SUMMARY:ISCA 2013 Deadline
DESCRIPTION:The 40th Annual International Symposium on Computer Architect
 ure (ISCA-40)
URL:http://www.wikicfp.com/cfp/servlet/event.showcfp?eventid=24569&copyow
 nerid=46236
UID:cfp325265-D@wikicfp.com
END:VEVENT
BEGIN:VEVENT
DTSTAMP:20260419T154605Z
DTSTART;VALUE=DATE:20130306
SUMMARY:ISCA 2013 Notification Due
DESCRIPTION:The 40th Annual International Symposium on Computer Architect
 ure (ISCA-40)
URL:http://www.wikicfp.com/cfp/servlet/event.showcfp?eventid=24569&copyow
 nerid=46236
UID:cfp325265-N@wikicfp.com
END:VEVENT
BEGIN:VEVENT
DTSTAMP:20260419T154605Z
DTSTART;VALUE=DATE:20130502
DTEND;VALUE=DATE:20130505
SUMMARY:GLSVLSI 2013
DESCRIPTION:Great Lakes Symposium on VLSI 2013
URL:http://www.wikicfp.com/cfp/servlet/event.showcfp?eventid=25515&copyow
 nerid=46236
UID:cfp347623-E@wikicfp.com
END:VEVENT
BEGIN:VEVENT
DTSTAMP:20260419T154605Z
DTSTART;VALUE=DATE:20121215
SUMMARY:GLSVLSI 2013 Deadline
DESCRIPTION:Great Lakes Symposium on VLSI 2013
URL:http://www.wikicfp.com/cfp/servlet/event.showcfp?eventid=25515&copyow
 nerid=46236
UID:cfp347623-D@wikicfp.com
END:VEVENT
BEGIN:VEVENT
DTSTAMP:20260419T154605Z
DTSTART;VALUE=DATE:20130610
DTEND;VALUE=DATE:20130615
SUMMARY:ICS 2013
DESCRIPTION:27th International Conference on Supercomputing
URL:http://www.wikicfp.com/cfp/servlet/event.showcfp?eventid=25999&copyow
 nerid=46236
UID:cfp325262-E@wikicfp.com
END:VEVENT
BEGIN:VEVENT
DTSTAMP:20260419T154605Z
DTSTART;VALUE=DATE:20130111
SUMMARY:ICS 2013 Abstract Due
DESCRIPTION:27th International Conference on Supercomputing
URL:http://www.wikicfp.com/cfp/servlet/event.showcfp?eventid=25999&copyow
 nerid=46236
UID:cfp325262-A@wikicfp.com
END:VEVENT
BEGIN:VEVENT
DTSTAMP:20260419T154605Z
DTSTART;VALUE=DATE:20130118
SUMMARY:ICS 2013 Deadline
DESCRIPTION:27th International Conference on Supercomputing
URL:http://www.wikicfp.com/cfp/servlet/event.showcfp?eventid=25999&copyow
 nerid=46236
UID:cfp325262-D@wikicfp.com
END:VEVENT
BEGIN:VEVENT
DTSTAMP:20260419T154605Z
DTSTART;VALUE=DATE:20130617
DTEND;VALUE=DATE:20130622
SUMMARY:HPDC 2013
DESCRIPTION:The 22nd International Symposium on High-Performance Parallel
  and Distributed Computing
URL:http://www.wikicfp.com/cfp/servlet/event.showcfp?eventid=24455&copyow
 nerid=46236
UID:cfp347587-E@wikicfp.com
END:VEVENT
BEGIN:VEVENT
DTSTAMP:20260419T154605Z
DTSTART;VALUE=DATE:20130114
SUMMARY:HPDC 2013 Abstract Due
DESCRIPTION:The 22nd International Symposium on High-Performance Parallel
  and Distributed Computing
URL:http://www.wikicfp.com/cfp/servlet/event.showcfp?eventid=24455&copyow
 nerid=46236
UID:cfp347587-A@wikicfp.com
END:VEVENT
BEGIN:VEVENT
DTSTAMP:20260419T154605Z
DTSTART;VALUE=DATE:20130121
SUMMARY:HPDC 2013 Deadline
DESCRIPTION:The 22nd International Symposium on High-Performance Parallel
  and Distributed Computing
URL:http://www.wikicfp.com/cfp/servlet/event.showcfp?eventid=24455&copyow
 nerid=46236
UID:cfp347587-D@wikicfp.com
END:VEVENT
BEGIN:VEVENT
DTSTAMP:20260419T154605Z
DTSTART;VALUE=DATE:20130723
DTEND;VALUE=DATE:20130726
SUMMARY:SPAA 2013
DESCRIPTION:25th ACM Symposium on Parallelism in Algorithms and Architect
 ures
URL:http://www.wikicfp.com/cfp/servlet/event.showcfp?eventid=25847&copyow
 nerid=46236
UID:cfp325266-E@wikicfp.com
END:VEVENT
BEGIN:VEVENT
DTSTAMP:20260419T154605Z
DTSTART;VALUE=DATE:20130211
SUMMARY:SPAA 2013 Abstract Due
DESCRIPTION:25th ACM Symposium on Parallelism in Algorithms and Architect
 ures
URL:http://www.wikicfp.com/cfp/servlet/event.showcfp?eventid=25847&copyow
 nerid=46236
UID:cfp325266-A@wikicfp.com
END:VEVENT
BEGIN:VEVENT
DTSTAMP:20260419T154605Z
DTSTART;VALUE=DATE:20130213
SUMMARY:SPAA 2013 Deadline
DESCRIPTION:25th ACM Symposium on Parallelism in Algorithms and Architect
 ures
URL:http://www.wikicfp.com/cfp/servlet/event.showcfp?eventid=25847&copyow
 nerid=46236
UID:cfp325266-D@wikicfp.com
END:VEVENT
BEGIN:VEVENT
DTSTAMP:20260419T154605Z
DTSTART;VALUE=DATE:20130907
DTEND;VALUE=DATE:20130912
SUMMARY:PACT 2013
DESCRIPTION:The 22nd International Conference on Parallel Architectures a
 nd Compilation Techniques
URL:http://www.wikicfp.com/cfp/servlet/event.showcfp?eventid=26499&copyow
 nerid=46236
UID:cfp325263-E@wikicfp.com
END:VEVENT
BEGIN:VEVENT
DTSTAMP:20260419T154605Z
DTSTART;VALUE=DATE:20130311
SUMMARY:PACT 2013 Abstract Due
DESCRIPTION:The 22nd International Conference on Parallel Architectures a
 nd Compilation Techniques
URL:http://www.wikicfp.com/cfp/servlet/event.showcfp?eventid=26499&copyow
 nerid=46236
UID:cfp325263-A@wikicfp.com
END:VEVENT
BEGIN:VEVENT
DTSTAMP:20260419T154605Z
DTSTART;VALUE=DATE:20130315
SUMMARY:PACT 2013 Deadline
DESCRIPTION:The 22nd International Conference on Parallel Architectures a
 nd Compilation Techniques
URL:http://www.wikicfp.com/cfp/servlet/event.showcfp?eventid=26499&copyow
 nerid=46236
UID:cfp325263-D@wikicfp.com
END:VEVENT
BEGIN:VEVENT
DTSTAMP:20260419T154605Z
DTSTART;VALUE=DATE:20130520
SUMMARY:PACT 2013 Notification Due
DESCRIPTION:The 22nd International Conference on Parallel Architectures a
 nd Compilation Techniques
URL:http://www.wikicfp.com/cfp/servlet/event.showcfp?eventid=26499&copyow
 nerid=46236
UID:cfp325263-N@wikicfp.com
END:VEVENT
BEGIN:VEVENT
DTSTAMP:20260419T154605Z
DTSTART;VALUE=DATE:20130623
DTEND;VALUE=DATE:20130625
SUMMARY:WIVOSCA 2013
DESCRIPTION:Seventh Annual Workshop on the Interaction amongst Virtualiza
 tion\, Operating Systems and Computer Architecture (WIVOSCA 2013)
URL:http://www.wikicfp.com/cfp/servlet/event.showcfp?eventid=29581&copyow
 nerid=46236
UID:cfp347589-E@wikicfp.com
END:VEVENT
BEGIN:VEVENT
DTSTAMP:20260419T154605Z
DTSTART;VALUE=DATE:20130412
SUMMARY:WIVOSCA 2013 Abstract Due
DESCRIPTION:Seventh Annual Workshop on the Interaction amongst Virtualiza
 tion\, Operating Systems and Computer Architecture (WIVOSCA 2013)
URL:http://www.wikicfp.com/cfp/servlet/event.showcfp?eventid=29581&copyow
 nerid=46236
UID:cfp347589-A@wikicfp.com
END:VEVENT
BEGIN:VEVENT
DTSTAMP:20260419T154605Z
DTSTART;VALUE=DATE:20130419
SUMMARY:WIVOSCA 2013 Deadline
DESCRIPTION:Seventh Annual Workshop on the Interaction amongst Virtualiza
 tion\, Operating Systems and Computer Architecture (WIVOSCA 2013)
URL:http://www.wikicfp.com/cfp/servlet/event.showcfp?eventid=29581&copyow
 nerid=46236
UID:cfp347589-D@wikicfp.com
END:VEVENT
BEGIN:VEVENT
DTSTAMP:20260419T154605Z
DTSTART;VALUE=DATE:20130510
SUMMARY:WIVOSCA 2013 Notification Due
DESCRIPTION:Seventh Annual Workshop on the Interaction amongst Virtualiza
 tion\, Operating Systems and Computer Architecture (WIVOSCA 2013)
URL:http://www.wikicfp.com/cfp/servlet/event.showcfp?eventid=29581&copyow
 nerid=46236
UID:cfp347589-N@wikicfp.com
END:VEVENT
BEGIN:VEVENT
DTSTAMP:20260419T154605Z
DTSTART;VALUE=DATE:20130517
SUMMARY:WIVOSCA 2013 Final Version Due
DESCRIPTION:Seventh Annual Workshop on the Interaction amongst Virtualiza
 tion\, Operating Systems and Computer Architecture (WIVOSCA 2013)
URL:http://www.wikicfp.com/cfp/servlet/event.showcfp?eventid=29581&copyow
 nerid=46236
UID:cfp347589-N@wikicfp.com
END:VEVENT
BEGIN:VEVENT
DTSTAMP:20260419T154605Z
DTSTART;VALUE=DATE:20131117
DTEND;VALUE=DATE:20131123
SUMMARY:SC 2013
DESCRIPTION:The International Conference for High Performance Computing\,
  Networking\, Storage\, and Analysis
URL:http://www.wikicfp.com/cfp/servlet/event.showcfp?eventid=27298&copyow
 nerid=46236
UID:cfp347690-E@wikicfp.com
END:VEVENT
BEGIN:VEVENT
DTSTAMP:20260419T154605Z
DTSTART;VALUE=DATE:20130419
SUMMARY:SC 2013 Abstract Due
DESCRIPTION:The International Conference for High Performance Computing\,
  Networking\, Storage\, and Analysis
URL:http://www.wikicfp.com/cfp/servlet/event.showcfp?eventid=27298&copyow
 nerid=46236
UID:cfp347690-A@wikicfp.com
END:VEVENT
BEGIN:VEVENT
DTSTAMP:20260419T154605Z
DTSTART;VALUE=DATE:20130426
SUMMARY:SC 2013 Deadline
DESCRIPTION:The International Conference for High Performance Computing\,
  Networking\, Storage\, and Analysis
URL:http://www.wikicfp.com/cfp/servlet/event.showcfp?eventid=27298&copyow
 nerid=46236
UID:cfp347690-D@wikicfp.com
END:VEVENT
BEGIN:VEVENT
DTSTAMP:20260419T154605Z
DTSTART;VALUE=DATE:20130701
SUMMARY:SC 2013 Notification Due
DESCRIPTION:The International Conference for High Performance Computing\,
  Networking\, Storage\, and Analysis
URL:http://www.wikicfp.com/cfp/servlet/event.showcfp?eventid=27298&copyow
 nerid=46236
UID:cfp347690-N@wikicfp.com
END:VEVENT
BEGIN:VEVENT
DTSTAMP:20260419T154605Z
DTSTART;VALUE=DATE:20131030
DTEND;VALUE=DATE:20131101
SUMMARY:CADS 2013
DESCRIPTION:The 17th CSI Symposium on Computer Architecture & Digital Sys
 tems
URL:http://www.wikicfp.com/cfp/servlet/event.showcfp?eventid=29441&copyow
 nerid=46236
UID:cfp347588-E@wikicfp.com
END:VEVENT
BEGIN:VEVENT
DTSTAMP:20260419T154605Z
DTSTART;VALUE=DATE:20130510
SUMMARY:CADS 2013 Deadline
DESCRIPTION:The 17th CSI Symposium on Computer Architecture & Digital Sys
 tems
URL:http://www.wikicfp.com/cfp/servlet/event.showcfp?eventid=29441&copyow
 nerid=46236
UID:cfp347588-D@wikicfp.com
END:VEVENT
BEGIN:VEVENT
DTSTAMP:20260419T154605Z
DTSTART;VALUE=DATE:20130612
SUMMARY:CADS 2013 Notification Due
DESCRIPTION:The 17th CSI Symposium on Computer Architecture & Digital Sys
 tems
URL:http://www.wikicfp.com/cfp/servlet/event.showcfp?eventid=29441&copyow
 nerid=46236
UID:cfp347588-N@wikicfp.com
END:VEVENT
BEGIN:VEVENT
DTSTAMP:20260419T154605Z
DTSTART;VALUE=DATE:20130810
SUMMARY:CADS 2013 Final Version Due
DESCRIPTION:The 17th CSI Symposium on Computer Architecture & Digital Sys
 tems
URL:http://www.wikicfp.com/cfp/servlet/event.showcfp?eventid=29441&copyow
 nerid=46236
UID:cfp347588-N@wikicfp.com
END:VEVENT
BEGIN:VEVENT
DTSTAMP:20260419T154605Z
DTSTART;VALUE=DATE:20131006
DTEND;VALUE=DATE:20131010
SUMMARY:ICCD 2013
DESCRIPTION:31st IEEE International Conference on Computer Design
URL:http://www.wikicfp.com/cfp/servlet/event.showcfp?eventid=27279&copyow
 nerid=46236
UID:cfp325267-E@wikicfp.com
END:VEVENT
BEGIN:VEVENT
DTSTAMP:20260419T154605Z
DTSTART;VALUE=DATE:20130513
SUMMARY:ICCD 2013 Abstract Due
DESCRIPTION:31st IEEE International Conference on Computer Design
URL:http://www.wikicfp.com/cfp/servlet/event.showcfp?eventid=27279&copyow
 nerid=46236
UID:cfp325267-A@wikicfp.com
END:VEVENT
BEGIN:VEVENT
DTSTAMP:20260419T154605Z
DTSTART;VALUE=DATE:20130520
SUMMARY:ICCD 2013 Deadline
DESCRIPTION:31st IEEE International Conference on Computer Design
URL:http://www.wikicfp.com/cfp/servlet/event.showcfp?eventid=27279&copyow
 nerid=46236
UID:cfp325267-D@wikicfp.com
END:VEVENT
BEGIN:VEVENT
DTSTAMP:20260419T154605Z
DTSTART;VALUE=DATE:20130722
SUMMARY:ICCD 2013 Notification Due
DESCRIPTION:31st IEEE International Conference on Computer Design
URL:http://www.wikicfp.com/cfp/servlet/event.showcfp?eventid=27279&copyow
 nerid=46236
UID:cfp325267-N@wikicfp.com
END:VEVENT
BEGIN:VEVENT
DTSTAMP:20260419T154605Z
DTSTART;VALUE=DATE:20130826
SUMMARY:ICCD 2013 Final Version Due
DESCRIPTION:31st IEEE International Conference on Computer Design
URL:http://www.wikicfp.com/cfp/servlet/event.showcfp?eventid=27279&copyow
 nerid=46236
UID:cfp325267-N@wikicfp.com
END:VEVENT
END:VCALENDAR
