BEGIN:VCALENDAR
PRODID:-//WikiCFP//orlandoduran 1.0//EN
VERSION:2.0
CALSCALE:GREGORIAN
BEGIN:VEVENT
DTSTAMP:20260420T021801Z
DTSTART;VALUE=DATE:20140219
DTEND;VALUE=DATE:20140221
SUMMARY:ICMMA 2014
DESCRIPTION:2014 International Conference on Mechatronics Manufacturing a
 nd Automation
URL:http://www.wikicfp.com/cfp/servlet/event.showcfp?eventid=32172&copyow
 nerid=46069
UID:cfp417679-E@wikicfp.com
END:VEVENT
BEGIN:VEVENT
DTSTAMP:20260420T021801Z
DTSTART;VALUE=DATE:20131210
SUMMARY:ICMMA 2014 Deadline
DESCRIPTION:2014 International Conference on Mechatronics Manufacturing a
 nd Automation
URL:http://www.wikicfp.com/cfp/servlet/event.showcfp?eventid=32172&copyow
 nerid=46069
UID:cfp417679-D@wikicfp.com
END:VEVENT
BEGIN:VEVENT
DTSTAMP:20260420T021801Z
DTSTART;VALUE=DATE:20140105
SUMMARY:ICMMA 2014 Notification Due
DESCRIPTION:2014 International Conference on Mechatronics Manufacturing a
 nd Automation
URL:http://www.wikicfp.com/cfp/servlet/event.showcfp?eventid=32172&copyow
 nerid=46069
UID:cfp417679-N@wikicfp.com
END:VEVENT
BEGIN:VEVENT
DTSTAMP:20260420T021801Z
DTSTART;VALUE=DATE:20140120
SUMMARY:ICMMA 2014 Final Version Due
DESCRIPTION:2014 International Conference on Mechatronics Manufacturing a
 nd Automation
URL:http://www.wikicfp.com/cfp/servlet/event.showcfp?eventid=32172&copyow
 nerid=46069
UID:cfp417679-N@wikicfp.com
END:VEVENT
BEGIN:VEVENT
DTSTAMP:20260420T021801Z
DTSTART;VALUE=DATE:20140702
DTEND;VALUE=DATE:20140705
SUMMARY:SysInt 2014
DESCRIPTION:2nd International Conference on  System-Integrated Intelligen
 ce (SysInt 2014)
URL:http://www.wikicfp.com/cfp/servlet/event.showcfp?eventid=31216&copyow
 nerid=46069
UID:cfp408768-E@wikicfp.com
END:VEVENT
BEGIN:VEVENT
DTSTAMP:20260420T021801Z
DTSTART;VALUE=DATE:20140221
SUMMARY:SysInt 2014 Deadline
DESCRIPTION:2nd International Conference on  System-Integrated Intelligen
 ce (SysInt 2014)
URL:http://www.wikicfp.com/cfp/servlet/event.showcfp?eventid=31216&copyow
 nerid=46069
UID:cfp408768-D@wikicfp.com
END:VEVENT
BEGIN:VEVENT
DTSTAMP:20260420T021801Z
DTSTART;VALUE=DATE:20140401
SUMMARY:SysInt 2014 Notification Due
DESCRIPTION:2nd International Conference on  System-Integrated Intelligen
 ce (SysInt 2014)
URL:http://www.wikicfp.com/cfp/servlet/event.showcfp?eventid=31216&copyow
 nerid=46069
UID:cfp408768-N@wikicfp.com
END:VEVENT
BEGIN:VEVENT
DTSTAMP:20260420T021801Z
DTSTART;VALUE=DATE:20140501
SUMMARY:SysInt 2014 Final Version Due
DESCRIPTION:2nd International Conference on  System-Integrated Intelligen
 ce (SysInt 2014)
URL:http://www.wikicfp.com/cfp/servlet/event.showcfp?eventid=31216&copyow
 nerid=46069
UID:cfp408768-N@wikicfp.com
END:VEVENT
BEGIN:VEVENT
DTSTAMP:20260420T021801Z
DTSTART;VALUE=DATE:20140325
SUMMARY:CSEIJ 2014 Deadline
DESCRIPTION:Computer Science & Engineering: An International Journal
URL:http://www.wikicfp.com/cfp/servlet/event.showcfp?eventid=21228&copyow
 nerid=46069
UID:cfp323730-D@wikicfp.com
END:VEVENT
BEGIN:VEVENT
DTSTAMP:20260420T021801Z
DTSTART;VALUE=DATE:20140425
SUMMARY:CSEIJ 2014 Notification Due
DESCRIPTION:Computer Science & Engineering: An International Journal
URL:http://www.wikicfp.com/cfp/servlet/event.showcfp?eventid=21228&copyow
 nerid=46069
UID:cfp323730-N@wikicfp.com
END:VEVENT
BEGIN:VEVENT
DTSTAMP:20260420T021801Z
DTSTART;VALUE=DATE:20140428
SUMMARY:CSEIJ 2014 Final Version Due
DESCRIPTION:Computer Science & Engineering: An International Journal
URL:http://www.wikicfp.com/cfp/servlet/event.showcfp?eventid=21228&copyow
 nerid=46069
UID:cfp323730-N@wikicfp.com
END:VEVENT
BEGIN:VEVENT
DTSTAMP:20260420T021801Z
DTSTART;VALUE=DATE:20150518
DTEND;VALUE=DATE:20150520
SUMMARY:ICIII 2015
DESCRIPTION:2015 4th International Conference on Industrial and Intellige
 nt Information
URL:http://www.wikicfp.com/cfp/servlet/event.showcfp?eventid=33982&copyow
 nerid=46069
UID:cfp408767-E@wikicfp.com
END:VEVENT
BEGIN:VEVENT
DTSTAMP:20260420T021801Z
DTSTART;VALUE=DATE:20150305
SUMMARY:ICIII 2015 Deadline
DESCRIPTION:2015 4th International Conference on Industrial and Intellige
 nt Information
URL:http://www.wikicfp.com/cfp/servlet/event.showcfp?eventid=33982&copyow
 nerid=46069
UID:cfp408767-D@wikicfp.com
END:VEVENT
BEGIN:VEVENT
DTSTAMP:20260420T021801Z
DTSTART;VALUE=DATE:20150330
SUMMARY:ICIII 2015 Notification Due
DESCRIPTION:2015 4th International Conference on Industrial and Intellige
 nt Information
URL:http://www.wikicfp.com/cfp/servlet/event.showcfp?eventid=33982&copyow
 nerid=46069
UID:cfp408767-N@wikicfp.com
END:VEVENT
BEGIN:VEVENT
DTSTAMP:20260420T021801Z
DTSTART;VALUE=DATE:20150415
SUMMARY:ICIII 2015 Final Version Due
DESCRIPTION:2015 4th International Conference on Industrial and Intellige
 nt Information
URL:http://www.wikicfp.com/cfp/servlet/event.showcfp?eventid=33982&copyow
 nerid=46069
UID:cfp408767-N@wikicfp.com
END:VEVENT
END:VCALENDAR
