BEGIN:VCALENDAR
PRODID:-//WikiCFP//utsabbarmanju 1.0//EN
VERSION:2.0
CALSCALE:GREGORIAN
BEGIN:VEVENT
DTSTAMP:20260420T074016Z
DTSTART;VALUE=DATE:20130324
DTEND;VALUE=DATE:20130325
SUMMARY:FCAIR 2013
DESCRIPTION:Formal Concept Analysis meets Information Retrieval
URL:http://www.wikicfp.com/cfp/servlet/event.showcfp?eventid=26690&copyow
 nerid=46059
UID:cfp323662-E@wikicfp.com
END:VEVENT
BEGIN:VEVENT
DTSTAMP:20260420T074016Z
DTSTART;VALUE=DATE:20130107
SUMMARY:FCAIR 2013 Abstract Due
DESCRIPTION:Formal Concept Analysis meets Information Retrieval
URL:http://www.wikicfp.com/cfp/servlet/event.showcfp?eventid=26690&copyow
 nerid=46059
UID:cfp323662-A@wikicfp.com
END:VEVENT
BEGIN:VEVENT
DTSTAMP:20260420T074016Z
DTSTART;VALUE=DATE:20130114
SUMMARY:FCAIR 2013 Deadline
DESCRIPTION:Formal Concept Analysis meets Information Retrieval
URL:http://www.wikicfp.com/cfp/servlet/event.showcfp?eventid=26690&copyow
 nerid=46059
UID:cfp323662-D@wikicfp.com
END:VEVENT
BEGIN:VEVENT
DTSTAMP:20260420T074016Z
DTSTART;VALUE=DATE:20130211
SUMMARY:FCAIR 2013 Notification Due
DESCRIPTION:Formal Concept Analysis meets Information Retrieval
URL:http://www.wikicfp.com/cfp/servlet/event.showcfp?eventid=26690&copyow
 nerid=46059
UID:cfp323662-N@wikicfp.com
END:VEVENT
BEGIN:VEVENT
DTSTAMP:20260420T074016Z
DTSTART;VALUE=DATE:20130304
SUMMARY:FCAIR 2013 Final Version Due
DESCRIPTION:Formal Concept Analysis meets Information Retrieval
URL:http://www.wikicfp.com/cfp/servlet/event.showcfp?eventid=26690&copyow
 nerid=46059
UID:cfp323662-N@wikicfp.com
END:VEVENT
BEGIN:VEVENT
DTSTAMP:20260420T074016Z
DTSTART;VALUE=DATE:20130617
DTEND;VALUE=DATE:20130619
SUMMARY:IIS 2013
DESCRIPTION:LANGUAGE PROCESSING AND INTELLIGENT INFORMATION SYSTEMS
URL:http://www.wikicfp.com/cfp/servlet/event.showcfp?eventid=26721&copyow
 nerid=46059
UID:cfp323666-E@wikicfp.com
END:VEVENT
BEGIN:VEVENT
DTSTAMP:20260420T074016Z
DTSTART;VALUE=DATE:20130117
SUMMARY:IIS 2013 Deadline
DESCRIPTION:LANGUAGE PROCESSING AND INTELLIGENT INFORMATION SYSTEMS
URL:http://www.wikicfp.com/cfp/servlet/event.showcfp?eventid=26721&copyow
 nerid=46059
UID:cfp323666-D@wikicfp.com
END:VEVENT
BEGIN:VEVENT
DTSTAMP:20260420T074016Z
DTSTART;VALUE=DATE:20120217
SUMMARY:IIS 2013 Notification Due
DESCRIPTION:LANGUAGE PROCESSING AND INTELLIGENT INFORMATION SYSTEMS
URL:http://www.wikicfp.com/cfp/servlet/event.showcfp?eventid=26721&copyow
 nerid=46059
UID:cfp323666-N@wikicfp.com
END:VEVENT
BEGIN:VEVENT
DTSTAMP:20260420T074016Z
DTSTART;VALUE=DATE:20130310
SUMMARY:IIS 2013 Final Version Due
DESCRIPTION:LANGUAGE PROCESSING AND INTELLIGENT INFORMATION SYSTEMS
URL:http://www.wikicfp.com/cfp/servlet/event.showcfp?eventid=26721&copyow
 nerid=46059
UID:cfp323666-N@wikicfp.com
END:VEVENT
BEGIN:VEVENT
DTSTAMP:20260420T074016Z
DTSTART;VALUE=DATE:20130522
DTEND;VALUE=DATE:20130525
SUMMARY:NoDaLiDa 2013
DESCRIPTION:19th Nordic Conference on Computational Linguistics
URL:http://www.wikicfp.com/cfp/servlet/event.showcfp?eventid=26131&copyow
 nerid=46059
UID:cfp323665-E@wikicfp.com
END:VEVENT
BEGIN:VEVENT
DTSTAMP:20260420T074016Z
DTSTART;VALUE=DATE:20130128
SUMMARY:NoDaLiDa 2013 Deadline
DESCRIPTION:19th Nordic Conference on Computational Linguistics
URL:http://www.wikicfp.com/cfp/servlet/event.showcfp?eventid=26131&copyow
 nerid=46059
UID:cfp323665-D@wikicfp.com
END:VEVENT
BEGIN:VEVENT
DTSTAMP:20260420T074016Z
DTSTART;VALUE=DATE:20130311
SUMMARY:NoDaLiDa 2013 Notification Due
DESCRIPTION:19th Nordic Conference on Computational Linguistics
URL:http://www.wikicfp.com/cfp/servlet/event.showcfp?eventid=26131&copyow
 nerid=46059
UID:cfp323665-N@wikicfp.com
END:VEVENT
BEGIN:VEVENT
DTSTAMP:20260420T074016Z
DTSTART;VALUE=DATE:20130415
SUMMARY:NoDaLiDa 2013 Final Version Due
DESCRIPTION:19th Nordic Conference on Computational Linguistics
URL:http://www.wikicfp.com/cfp/servlet/event.showcfp?eventid=26131&copyow
 nerid=46059
UID:cfp323665-N@wikicfp.com
END:VEVENT
BEGIN:VEVENT
DTSTAMP:20260420T074016Z
DTSTART;VALUE=DATE:20130804
DTEND;VALUE=DATE:20130810
SUMMARY:ACL 2013
DESCRIPTION:The 51st Annual Meeting of the Association for Computational 
 Linguistics
URL:http://www.wikicfp.com/cfp/servlet/event.showcfp?eventid=25335&copyow
 nerid=46059
UID:cfp323664-E@wikicfp.com
END:VEVENT
BEGIN:VEVENT
DTSTAMP:20260420T074016Z
DTSTART;VALUE=DATE:20130220
SUMMARY:ACL 2013 Deadline
DESCRIPTION:The 51st Annual Meeting of the Association for Computational 
 Linguistics
URL:http://www.wikicfp.com/cfp/servlet/event.showcfp?eventid=25335&copyow
 nerid=46059
UID:cfp323664-D@wikicfp.com
END:VEVENT
BEGIN:VEVENT
DTSTAMP:20260420T074016Z
DTSTART;VALUE=DATE:20130407
SUMMARY:ACL 2013 Notification Due
DESCRIPTION:The 51st Annual Meeting of the Association for Computational 
 Linguistics
URL:http://www.wikicfp.com/cfp/servlet/event.showcfp?eventid=25335&copyow
 nerid=46059
UID:cfp323664-N@wikicfp.com
END:VEVENT
BEGIN:VEVENT
DTSTAMP:20260420T074016Z
DTSTART;VALUE=DATE:20130506
SUMMARY:ACL 2013 Final Version Due
DESCRIPTION:The 51st Annual Meeting of the Association for Computational 
 Linguistics
URL:http://www.wikicfp.com/cfp/servlet/event.showcfp?eventid=25335&copyow
 nerid=46059
UID:cfp323664-N@wikicfp.com
END:VEVENT
BEGIN:VEVENT
DTSTAMP:20260420T074016Z
DTSTART;VALUE=DATE:20130613
DTEND;VALUE=DATE:20130615
SUMMARY:BEA 2013
DESCRIPTION:The 8th Workshop on the Innovative Use of NLP for Building   
                    Educational Applications
URL:http://www.wikicfp.com/cfp/servlet/event.showcfp?eventid=27921&copyow
 nerid=46059
UID:cfp323668-E@wikicfp.com
END:VEVENT
BEGIN:VEVENT
DTSTAMP:20260420T074016Z
DTSTART;VALUE=DATE:20130311
SUMMARY:BEA 2013 Deadline
DESCRIPTION:The 8th Workshop on the Innovative Use of NLP for Building   
                    Educational Applications
URL:http://www.wikicfp.com/cfp/servlet/event.showcfp?eventid=27921&copyow
 nerid=46059
UID:cfp323668-D@wikicfp.com
END:VEVENT
BEGIN:VEVENT
DTSTAMP:20260420T074016Z
DTSTART;VALUE=DATE:20130329
SUMMARY:BEA 2013 Notification Due
DESCRIPTION:The 8th Workshop on the Innovative Use of NLP for Building   
                    Educational Applications
URL:http://www.wikicfp.com/cfp/servlet/event.showcfp?eventid=27921&copyow
 nerid=46059
UID:cfp323668-N@wikicfp.com
END:VEVENT
BEGIN:VEVENT
DTSTAMP:20260420T074016Z
DTSTART;VALUE=DATE:20130504
SUMMARY:BEA 2013 Final Version Due
DESCRIPTION:The 8th Workshop on the Innovative Use of NLP for Building   
                    Educational Applications
URL:http://www.wikicfp.com/cfp/servlet/event.showcfp?eventid=27921&copyow
 nerid=46059
UID:cfp323668-N@wikicfp.com
END:VEVENT
BEGIN:VEVENT
DTSTAMP:20260420T074016Z
DTSTART;VALUE=DATE:20130925
DTEND;VALUE=DATE:20130928
SUMMARY:GSCL 2013
DESCRIPTION:International Conference of the German Society for Computatio
 nal Linguistics and Language Technology (GSCL 2013)
URL:http://www.wikicfp.com/cfp/servlet/event.showcfp?eventid=23495&copyow
 nerid=46059
UID:cfp323663-E@wikicfp.com
END:VEVENT
BEGIN:VEVENT
DTSTAMP:20260420T074016Z
DTSTART;VALUE=DATE:20130412
SUMMARY:GSCL 2013 Deadline
DESCRIPTION:International Conference of the German Society for Computatio
 nal Linguistics and Language Technology (GSCL 2013)
URL:http://www.wikicfp.com/cfp/servlet/event.showcfp?eventid=23495&copyow
 nerid=46059
UID:cfp323663-D@wikicfp.com
END:VEVENT
BEGIN:VEVENT
DTSTAMP:20260420T074016Z
DTSTART;VALUE=DATE:20130510
SUMMARY:GSCL 2013 Notification Due
DESCRIPTION:International Conference of the German Society for Computatio
 nal Linguistics and Language Technology (GSCL 2013)
URL:http://www.wikicfp.com/cfp/servlet/event.showcfp?eventid=23495&copyow
 nerid=46059
UID:cfp323663-N@wikicfp.com
END:VEVENT
BEGIN:VEVENT
DTSTAMP:20260420T074016Z
DTSTART;VALUE=DATE:20130607
SUMMARY:GSCL 2013 Final Version Due
DESCRIPTION:International Conference of the German Society for Computatio
 nal Linguistics and Language Technology (GSCL 2013)
URL:http://www.wikicfp.com/cfp/servlet/event.showcfp?eventid=23495&copyow
 nerid=46059
UID:cfp323663-N@wikicfp.com
END:VEVENT
BEGIN:VEVENT
DTSTAMP:20260420T074016Z
DTSTART;VALUE=DATE:20130902
DTEND;VALUE=DATE:20130907
SUMMARY:MT Summit 2013
DESCRIPTION:The Fourteenth Machine Translation Summit
URL:http://www.wikicfp.com/cfp/servlet/event.showcfp?eventid=27506&copyow
 nerid=46059
UID:cfp323667-E@wikicfp.com
END:VEVENT
BEGIN:VEVENT
DTSTAMP:20260420T074016Z
DTSTART;VALUE=DATE:20130415
SUMMARY:MT Summit 2013 Deadline
DESCRIPTION:The Fourteenth Machine Translation Summit
URL:http://www.wikicfp.com/cfp/servlet/event.showcfp?eventid=27506&copyow
 nerid=46059
UID:cfp323667-D@wikicfp.com
END:VEVENT
END:VCALENDAR
