BEGIN:VCALENDAR
PRODID:-//WikiCFP//luocw138 1.0//EN
VERSION:2.0
CALSCALE:GREGORIAN
BEGIN:VEVENT
DTSTAMP:20260423T120435Z
DTSTART;VALUE=DATE:20130825
DTEND;VALUE=DATE:20130830
SUMMARY:Interspeech 2013
DESCRIPTION:14th Annual Conference of the International Speech Communicat
 ion Association
URL:http://www.wikicfp.com/cfp/servlet/event.showcfp?eventid=25064&copyow
 nerid=45809
UID:cfp321443-E@wikicfp.com
END:VEVENT
BEGIN:VEVENT
DTSTAMP:20260423T120435Z
DTSTART;VALUE=DATE:20130318
SUMMARY:Interspeech 2013 Deadline
DESCRIPTION:14th Annual Conference of the International Speech Communicat
 ion Association
URL:http://www.wikicfp.com/cfp/servlet/event.showcfp?eventid=25064&copyow
 nerid=45809
UID:cfp321443-D@wikicfp.com
END:VEVENT
BEGIN:VEVENT
DTSTAMP:20260423T120435Z
DTSTART;VALUE=DATE:20130522
SUMMARY:Interspeech 2013 Notification Due
DESCRIPTION:14th Annual Conference of the International Speech Communicat
 ion Association
URL:http://www.wikicfp.com/cfp/servlet/event.showcfp?eventid=25064&copyow
 nerid=45809
UID:cfp321443-N@wikicfp.com
END:VEVENT
BEGIN:VEVENT
DTSTAMP:20260423T120435Z
DTSTART;VALUE=DATE:20130529
SUMMARY:Interspeech 2013 Final Version Due
DESCRIPTION:14th Annual Conference of the International Speech Communicat
 ion Association
URL:http://www.wikicfp.com/cfp/servlet/event.showcfp?eventid=25064&copyow
 nerid=45809
UID:cfp321443-N@wikicfp.com
END:VEVENT
BEGIN:VEVENT
DTSTAMP:20260423T120435Z
DTSTART;VALUE=DATE:20130925
DTEND;VALUE=DATE:20130929
SUMMARY:ICIRA 2013
DESCRIPTION:2013 International Conference on Intelligent Robotics and App
 lications
URL:http://www.wikicfp.com/cfp/servlet/event.showcfp?eventid=28440&copyow
 nerid=45809
UID:cfp348140-E@wikicfp.com
END:VEVENT
BEGIN:VEVENT
DTSTAMP:20260423T120435Z
DTSTART;VALUE=DATE:20130405
SUMMARY:ICIRA 2013 Deadline
DESCRIPTION:2013 International Conference on Intelligent Robotics and App
 lications
URL:http://www.wikicfp.com/cfp/servlet/event.showcfp?eventid=28440&copyow
 nerid=45809
UID:cfp348140-D@wikicfp.com
END:VEVENT
BEGIN:VEVENT
DTSTAMP:20260423T120435Z
DTSTART;VALUE=DATE:20130610
SUMMARY:ICIRA 2013 Notification Due
DESCRIPTION:2013 International Conference on Intelligent Robotics and App
 lications
URL:http://www.wikicfp.com/cfp/servlet/event.showcfp?eventid=28440&copyow
 nerid=45809
UID:cfp348140-N@wikicfp.com
END:VEVENT
BEGIN:VEVENT
DTSTAMP:20260423T120435Z
DTSTART;VALUE=DATE:20130708
SUMMARY:ICIRA 2013 Final Version Due
DESCRIPTION:2013 International Conference on Intelligent Robotics and App
 lications
URL:http://www.wikicfp.com/cfp/servlet/event.showcfp?eventid=28440&copyow
 nerid=45809
UID:cfp348140-N@wikicfp.com
END:VEVENT
END:VCALENDAR
