BEGIN:VCALENDAR
PRODID:-//WikiCFP//ghina 1.0//EN
VERSION:2.0
CALSCALE:GREGORIAN
BEGIN:VEVENT
DTSTAMP:20260423T224739Z
DTSTART;VALUE=DATE:20140203
DTEND;VALUE=DATE:20140206
SUMMARY:INTCESS 2014
DESCRIPTION:FINAL CALL FOR PAPERS: INTERNATIONAL CONFERENCE ON EDUCATION 
 AND SOCIAL SCIENCES 
URL:http://www.wikicfp.com/cfp/servlet/event.showcfp?eventid=32113&copyow
 nerid=45679
UID:cfp399358-E@wikicfp.com
END:VEVENT
BEGIN:VEVENT
DTSTAMP:20260423T224739Z
DTSTART;VALUE=DATE:20131111
SUMMARY:INTCESS 2014 Deadline
DESCRIPTION:FINAL CALL FOR PAPERS: INTERNATIONAL CONFERENCE ON EDUCATION 
 AND SOCIAL SCIENCES 
URL:http://www.wikicfp.com/cfp/servlet/event.showcfp?eventid=32113&copyow
 nerid=45679
UID:cfp399358-D@wikicfp.com
END:VEVENT
BEGIN:VEVENT
DTSTAMP:20260423T224739Z
DTSTART;VALUE=DATE:20131118
SUMMARY:INTCESS 2014 Notification Due
DESCRIPTION:FINAL CALL FOR PAPERS: INTERNATIONAL CONFERENCE ON EDUCATION 
 AND SOCIAL SCIENCES 
URL:http://www.wikicfp.com/cfp/servlet/event.showcfp?eventid=32113&copyow
 nerid=45679
UID:cfp399358-N@wikicfp.com
END:VEVENT
BEGIN:VEVENT
DTSTAMP:20260423T224739Z
DTSTART;VALUE=DATE:20131216
SUMMARY:INTCESS 2014 Final Version Due
DESCRIPTION:FINAL CALL FOR PAPERS: INTERNATIONAL CONFERENCE ON EDUCATION 
 AND SOCIAL SCIENCES 
URL:http://www.wikicfp.com/cfp/servlet/event.showcfp?eventid=32113&copyow
 nerid=45679
UID:cfp399358-N@wikicfp.com
END:VEVENT
BEGIN:VEVENT
DTSTAMP:20260423T224739Z
DTSTART;VALUE=DATE:20140113
DTEND;VALUE=DATE:20140115
SUMMARY:IC4E 2014
DESCRIPTION:2014 5th International Conference on E-Education\, E-Business
 \, E-Management and E-Learning
URL:http://www.wikicfp.com/cfp/servlet/event.showcfp?eventid=31699&copyow
 nerid=45679
UID:cfp399353-E@wikicfp.com
END:VEVENT
BEGIN:VEVENT
DTSTAMP:20260423T224739Z
DTSTART;VALUE=DATE:20131115
SUMMARY:IC4E 2014 Deadline
DESCRIPTION:2014 5th International Conference on E-Education\, E-Business
 \, E-Management and E-Learning
URL:http://www.wikicfp.com/cfp/servlet/event.showcfp?eventid=31699&copyow
 nerid=45679
UID:cfp399353-D@wikicfp.com
END:VEVENT
BEGIN:VEVENT
DTSTAMP:20260423T224739Z
DTSTART;VALUE=DATE:20131205
SUMMARY:IC4E 2014 Notification Due
DESCRIPTION:2014 5th International Conference on E-Education\, E-Business
 \, E-Management and E-Learning
URL:http://www.wikicfp.com/cfp/servlet/event.showcfp?eventid=31699&copyow
 nerid=45679
UID:cfp399353-N@wikicfp.com
END:VEVENT
BEGIN:VEVENT
DTSTAMP:20260423T224739Z
DTSTART;VALUE=DATE:20131220
SUMMARY:IC4E 2014 Final Version Due
DESCRIPTION:2014 5th International Conference on E-Education\, E-Business
 \, E-Management and E-Learning
URL:http://www.wikicfp.com/cfp/servlet/event.showcfp?eventid=31699&copyow
 nerid=45679
UID:cfp399353-N@wikicfp.com
END:VEVENT
BEGIN:VEVENT
DTSTAMP:20260423T224739Z
DTSTART;VALUE=DATE:20131212
DTEND;VALUE=DATE:20131215
SUMMARY:ICQH 2013
DESCRIPTION:International Conference on Quality in Higher Education
URL:http://www.wikicfp.com/cfp/servlet/event.showcfp?eventid=32971&copyow
 nerid=45679
UID:cfp399363-E@wikicfp.com
END:VEVENT
BEGIN:VEVENT
DTSTAMP:20260423T224739Z
DTSTART;VALUE=DATE:20131201
SUMMARY:ICQH 2013 Deadline
DESCRIPTION:International Conference on Quality in Higher Education
URL:http://www.wikicfp.com/cfp/servlet/event.showcfp?eventid=32971&copyow
 nerid=45679
UID:cfp399363-D@wikicfp.com
END:VEVENT
BEGIN:VEVENT
DTSTAMP:20260423T224739Z
DTSTART;VALUE=DATE:20131201
SUMMARY:ICQH 2013 Notification Due
DESCRIPTION:International Conference on Quality in Higher Education
URL:http://www.wikicfp.com/cfp/servlet/event.showcfp?eventid=32971&copyow
 nerid=45679
UID:cfp399363-N@wikicfp.com
END:VEVENT
BEGIN:VEVENT
DTSTAMP:20260423T224739Z
DTSTART;VALUE=DATE:20131203
SUMMARY:ICQH 2013 Final Version Due
DESCRIPTION:International Conference on Quality in Higher Education
URL:http://www.wikicfp.com/cfp/servlet/event.showcfp?eventid=32971&copyow
 nerid=45679
UID:cfp399363-N@wikicfp.com
END:VEVENT
BEGIN:VEVENT
DTSTAMP:20260423T224739Z
DTSTART;VALUE=DATE:20140215
DTEND;VALUE=DATE:20140217
SUMMARY:ICEMI 2014
DESCRIPTION:2014 3rd International Conference on Education and Management
  Innovation 
URL:http://www.wikicfp.com/cfp/servlet/event.showcfp?eventid=32090&copyow
 nerid=45679
UID:cfp399356-E@wikicfp.com
END:VEVENT
BEGIN:VEVENT
DTSTAMP:20260423T224739Z
DTSTART;VALUE=DATE:20131205
SUMMARY:ICEMI 2014 Deadline
DESCRIPTION:2014 3rd International Conference on Education and Management
  Innovation 
URL:http://www.wikicfp.com/cfp/servlet/event.showcfp?eventid=32090&copyow
 nerid=45679
UID:cfp399356-D@wikicfp.com
END:VEVENT
BEGIN:VEVENT
DTSTAMP:20260423T224739Z
DTSTART;VALUE=DATE:20131225
SUMMARY:ICEMI 2014 Notification Due
DESCRIPTION:2014 3rd International Conference on Education and Management
  Innovation 
URL:http://www.wikicfp.com/cfp/servlet/event.showcfp?eventid=32090&copyow
 nerid=45679
UID:cfp399356-N@wikicfp.com
END:VEVENT
BEGIN:VEVENT
DTSTAMP:20260423T224739Z
DTSTART;VALUE=DATE:20140110
SUMMARY:ICEMI 2014 Final Version Due
DESCRIPTION:2014 3rd International Conference on Education and Management
  Innovation 
URL:http://www.wikicfp.com/cfp/servlet/event.showcfp?eventid=32090&copyow
 nerid=45679
UID:cfp399356-N@wikicfp.com
END:VEVENT
BEGIN:VEVENT
DTSTAMP:20260423T224739Z
DTSTART;VALUE=DATE:20140310
DTEND;VALUE=DATE:20140313
SUMMARY:INTED 2014
DESCRIPTION:8th International Technology\, Education and Development Conf
 erence
URL:http://www.wikicfp.com/cfp/servlet/event.showcfp?eventid=32391&copyow
 nerid=45679
UID:cfp399359-E@wikicfp.com
END:VEVENT
BEGIN:VEVENT
DTSTAMP:20260423T224739Z
DTSTART;VALUE=DATE:20131205
SUMMARY:INTED 2014 Deadline
DESCRIPTION:8th International Technology\, Education and Development Conf
 erence
URL:http://www.wikicfp.com/cfp/servlet/event.showcfp?eventid=32391&copyow
 nerid=45679
UID:cfp399359-D@wikicfp.com
END:VEVENT
BEGIN:VEVENT
DTSTAMP:20260423T224739Z
DTSTART;VALUE=DATE:20131227
SUMMARY:INTED 2014 Notification Due
DESCRIPTION:8th International Technology\, Education and Development Conf
 erence
URL:http://www.wikicfp.com/cfp/servlet/event.showcfp?eventid=32391&copyow
 nerid=45679
UID:cfp399359-N@wikicfp.com
END:VEVENT
BEGIN:VEVENT
DTSTAMP:20260423T224739Z
DTSTART;VALUE=DATE:20140123
SUMMARY:INTED 2014 Final Version Due
DESCRIPTION:8th International Technology\, Education and Development Conf
 erence
URL:http://www.wikicfp.com/cfp/servlet/event.showcfp?eventid=32391&copyow
 nerid=45679
UID:cfp399359-N@wikicfp.com
END:VEVENT
BEGIN:VEVENT
DTSTAMP:20260423T224739Z
DTSTART;VALUE=DATE:20140221
DTEND;VALUE=DATE:20140223
SUMMARY:ICEPS 2014
DESCRIPTION:2014 International Conference on Education and Psychological 
 Sciences 
URL:http://www.wikicfp.com/cfp/servlet/event.showcfp?eventid=32094&copyow
 nerid=45679
UID:cfp399357-E@wikicfp.com
END:VEVENT
BEGIN:VEVENT
DTSTAMP:20260423T224739Z
DTSTART;VALUE=DATE:20131215
SUMMARY:ICEPS 2014 Deadline
DESCRIPTION:2014 International Conference on Education and Psychological 
 Sciences 
URL:http://www.wikicfp.com/cfp/servlet/event.showcfp?eventid=32094&copyow
 nerid=45679
UID:cfp399357-D@wikicfp.com
END:VEVENT
BEGIN:VEVENT
DTSTAMP:20260423T224739Z
DTSTART;VALUE=DATE:20131230
SUMMARY:ICEPS 2014 Notification Due
DESCRIPTION:2014 International Conference on Education and Psychological 
 Sciences 
URL:http://www.wikicfp.com/cfp/servlet/event.showcfp?eventid=32094&copyow
 nerid=45679
UID:cfp399357-N@wikicfp.com
END:VEVENT
BEGIN:VEVENT
DTSTAMP:20260423T224739Z
DTSTART;VALUE=DATE:20140115
SUMMARY:ICEPS 2014 Final Version Due
DESCRIPTION:2014 International Conference on Education and Psychological 
 Sciences 
URL:http://www.wikicfp.com/cfp/servlet/event.showcfp?eventid=32094&copyow
 nerid=45679
UID:cfp399357-N@wikicfp.com
END:VEVENT
BEGIN:VEVENT
DTSTAMP:20260423T224739Z
DTSTART;VALUE=DATE:20140423
DTEND;VALUE=DATE:20140426
SUMMARY:CSEE&T 2014
DESCRIPTION:27th Conference on Software Engineering Education and Trainin
 g
URL:http://www.wikicfp.com/cfp/servlet/event.showcfp?eventid=33173&copyow
 nerid=45679
UID:cfp399366-E@wikicfp.com
END:VEVENT
BEGIN:VEVENT
DTSTAMP:20260423T224739Z
DTSTART;VALUE=DATE:20131215
SUMMARY:CSEE&T 2014 Deadline
DESCRIPTION:27th Conference on Software Engineering Education and Trainin
 g
URL:http://www.wikicfp.com/cfp/servlet/event.showcfp?eventid=33173&copyow
 nerid=45679
UID:cfp399366-D@wikicfp.com
END:VEVENT
BEGIN:VEVENT
DTSTAMP:20260423T224739Z
DTSTART;VALUE=DATE:20140124
SUMMARY:CSEE&T 2014 Notification Due
DESCRIPTION:27th Conference on Software Engineering Education and Trainin
 g
URL:http://www.wikicfp.com/cfp/servlet/event.showcfp?eventid=33173&copyow
 nerid=45679
UID:cfp399366-N@wikicfp.com
END:VEVENT
BEGIN:VEVENT
DTSTAMP:20260423T224739Z
DTSTART;VALUE=DATE:20140224
SUMMARY:CSEE&T 2014 Final Version Due
DESCRIPTION:27th Conference on Software Engineering Education and Trainin
 g
URL:http://www.wikicfp.com/cfp/servlet/event.showcfp?eventid=33173&copyow
 nerid=45679
UID:cfp399366-N@wikicfp.com
END:VEVENT
BEGIN:VEVENT
DTSTAMP:20260423T224739Z
DTSTART;VALUE=DATE:20140304
DTEND;VALUE=DATE:20140308
SUMMARY:ICETI  2014
DESCRIPTION:The 5th International Conference on   Education\, Training an
 d Informatics 
URL:http://www.wikicfp.com/cfp/servlet/event.showcfp?eventid=32395&copyow
 nerid=45679
UID:cfp399360-E@wikicfp.com
END:VEVENT
BEGIN:VEVENT
DTSTAMP:20260423T224739Z
DTSTART;VALUE=DATE:20131227
SUMMARY:ICETI  2014 Deadline
DESCRIPTION:The 5th International Conference on   Education\, Training an
 d Informatics 
URL:http://www.wikicfp.com/cfp/servlet/event.showcfp?eventid=32395&copyow
 nerid=45679
UID:cfp399360-D@wikicfp.com
END:VEVENT
BEGIN:VEVENT
DTSTAMP:20260423T224739Z
DTSTART;VALUE=DATE:20140122
SUMMARY:ICETI  2014 Notification Due
DESCRIPTION:The 5th International Conference on   Education\, Training an
 d Informatics 
URL:http://www.wikicfp.com/cfp/servlet/event.showcfp?eventid=32395&copyow
 nerid=45679
UID:cfp399360-N@wikicfp.com
END:VEVENT
BEGIN:VEVENT
DTSTAMP:20260423T224739Z
DTSTART;VALUE=DATE:20140205
SUMMARY:ICETI  2014 Final Version Due
DESCRIPTION:The 5th International Conference on   Education\, Training an
 d Informatics 
URL:http://www.wikicfp.com/cfp/servlet/event.showcfp?eventid=32395&copyow
 nerid=45679
UID:cfp399360-N@wikicfp.com
END:VEVENT
BEGIN:VEVENT
DTSTAMP:20260423T224739Z
DTSTART;VALUE=DATE:20140417
DTEND;VALUE=DATE:20130421
SUMMARY:ACLL 2014
DESCRIPTION:The Asian Conference on Language Learning 2014
URL:http://www.wikicfp.com/cfp/servlet/event.showcfp?eventid=32932&copyow
 nerid=45679
UID:cfp399362-E@wikicfp.com
END:VEVENT
BEGIN:VEVENT
DTSTAMP:20260423T224739Z
DTSTART;VALUE=DATE:20140101
SUMMARY:ACLL 2014 Deadline
DESCRIPTION:The Asian Conference on Language Learning 2014
URL:http://www.wikicfp.com/cfp/servlet/event.showcfp?eventid=32932&copyow
 nerid=45679
UID:cfp399362-D@wikicfp.com
END:VEVENT
BEGIN:VEVENT
DTSTAMP:20260423T224739Z
DTSTART;VALUE=DATE:20140623
DTEND;VALUE=DATE:20140626
SUMMARY:ITICSE 2014
DESCRIPTION:19th Annual Conference on Innovation and Technology in Comput
 er Science Education
URL:http://www.wikicfp.com/cfp/servlet/event.showcfp?eventid=32050&copyow
 nerid=45679
UID:cfp399355-E@wikicfp.com
END:VEVENT
BEGIN:VEVENT
DTSTAMP:20260423T224739Z
DTSTART;VALUE=DATE:20140112
SUMMARY:ITICSE 2014 Deadline
DESCRIPTION:19th Annual Conference on Innovation and Technology in Comput
 er Science Education
URL:http://www.wikicfp.com/cfp/servlet/event.showcfp?eventid=32050&copyow
 nerid=45679
UID:cfp399355-D@wikicfp.com
END:VEVENT
BEGIN:VEVENT
DTSTAMP:20260423T224739Z
DTSTART;VALUE=DATE:20140302
DTEND;VALUE=DATE:20140305
SUMMARY:COHDA 2014
DESCRIPTION:Conference on Human Development in Asia
URL:http://www.wikicfp.com/cfp/servlet/event.showcfp?eventid=28527&copyow
 nerid=45679
UID:cfp399351-E@wikicfp.com
END:VEVENT
BEGIN:VEVENT
DTSTAMP:20260423T224739Z
DTSTART;VALUE=DATE:20140120
SUMMARY:COHDA 2014 Deadline
DESCRIPTION:Conference on Human Development in Asia
URL:http://www.wikicfp.com/cfp/servlet/event.showcfp?eventid=28527&copyow
 nerid=45679
UID:cfp399351-D@wikicfp.com
END:VEVENT
BEGIN:VEVENT
DTSTAMP:20260423T224739Z
DTSTART;VALUE=DATE:20140605
DTEND;VALUE=DATE:20140610
SUMMARY:ITS 2014
DESCRIPTION:International Conference on Intelligent Tutoring Systems
URL:http://www.wikicfp.com/cfp/servlet/event.showcfp?eventid=32671&copyow
 nerid=45679
UID:cfp399361-E@wikicfp.com
END:VEVENT
BEGIN:VEVENT
DTSTAMP:20260423T224739Z
DTSTART;VALUE=DATE:20131215
SUMMARY:ITS 2014 Abstract Due
DESCRIPTION:International Conference on Intelligent Tutoring Systems
URL:http://www.wikicfp.com/cfp/servlet/event.showcfp?eventid=32671&copyow
 nerid=45679
UID:cfp399361-A@wikicfp.com
END:VEVENT
BEGIN:VEVENT
DTSTAMP:20260423T224739Z
DTSTART;VALUE=DATE:20140126
SUMMARY:ITS 2014 Deadline
DESCRIPTION:International Conference on Intelligent Tutoring Systems
URL:http://www.wikicfp.com/cfp/servlet/event.showcfp?eventid=32671&copyow
 nerid=45679
UID:cfp399361-D@wikicfp.com
END:VEVENT
BEGIN:VEVENT
DTSTAMP:20260423T224739Z
DTSTART;VALUE=DATE:20140404
DTEND;VALUE=DATE:20140406
SUMMARY:ICAIS 2014
DESCRIPTION:2014 International Conference on Arabic and Isiamic Studies
URL:http://www.wikicfp.com/cfp/servlet/event.showcfp?eventid=33378&copyow
 nerid=45679
UID:cfp399368-E@wikicfp.com
END:VEVENT
BEGIN:VEVENT
DTSTAMP:20260423T224739Z
DTSTART;VALUE=DATE:20140205
SUMMARY:ICAIS 2014 Deadline
DESCRIPTION:2014 International Conference on Arabic and Isiamic Studies
URL:http://www.wikicfp.com/cfp/servlet/event.showcfp?eventid=33378&copyow
 nerid=45679
UID:cfp399368-D@wikicfp.com
END:VEVENT
BEGIN:VEVENT
DTSTAMP:20260423T224739Z
DTSTART;VALUE=DATE:20140220
SUMMARY:ICAIS 2014 Notification Due
DESCRIPTION:2014 International Conference on Arabic and Isiamic Studies
URL:http://www.wikicfp.com/cfp/servlet/event.showcfp?eventid=33378&copyow
 nerid=45679
UID:cfp399368-N@wikicfp.com
END:VEVENT
BEGIN:VEVENT
DTSTAMP:20260423T224739Z
DTSTART;VALUE=DATE:20140305
SUMMARY:ICAIS 2014 Final Version Due
DESCRIPTION:2014 International Conference on Arabic and Isiamic Studies
URL:http://www.wikicfp.com/cfp/servlet/event.showcfp?eventid=33378&copyow
 nerid=45679
UID:cfp399368-N@wikicfp.com
END:VEVENT
BEGIN:VEVENT
DTSTAMP:20260423T224739Z
DTSTART;VALUE=DATE:20140507
DTEND;VALUE=DATE:20140510
SUMMARY:LINQ 2014
DESCRIPTION:LINQ 2014 / EFQUEL Innovation Forum 2014
URL:http://www.wikicfp.com/cfp/servlet/event.showcfp?eventid=33114&copyow
 nerid=45679
UID:cfp399365-E@wikicfp.com
END:VEVENT
BEGIN:VEVENT
DTSTAMP:20260423T224739Z
DTSTART;VALUE=DATE:20140210
SUMMARY:LINQ 2014 Deadline
DESCRIPTION:LINQ 2014 / EFQUEL Innovation Forum 2014
URL:http://www.wikicfp.com/cfp/servlet/event.showcfp?eventid=33114&copyow
 nerid=45679
UID:cfp399365-D@wikicfp.com
END:VEVENT
BEGIN:VEVENT
DTSTAMP:20260423T224739Z
DTSTART;VALUE=DATE:20140310
SUMMARY:LINQ 2014 Notification Due
DESCRIPTION:LINQ 2014 / EFQUEL Innovation Forum 2014
URL:http://www.wikicfp.com/cfp/servlet/event.showcfp?eventid=33114&copyow
 nerid=45679
UID:cfp399365-N@wikicfp.com
END:VEVENT
BEGIN:VEVENT
DTSTAMP:20260423T224739Z
DTSTART;VALUE=DATE:20140331
SUMMARY:LINQ 2014 Final Version Due
DESCRIPTION:LINQ 2014 / EFQUEL Innovation Forum 2014
URL:http://www.wikicfp.com/cfp/servlet/event.showcfp?eventid=33114&copyow
 nerid=45679
UID:cfp399365-N@wikicfp.com
END:VEVENT
BEGIN:VEVENT
DTSTAMP:20260423T224739Z
DTSTART;VALUE=DATE:20140412
DTEND;VALUE=DATE:20140414
SUMMARY:ICLMC 2014
DESCRIPTION:2014 3rd International Conference on Language\, Medias and Cu
 lture 
URL:http://www.wikicfp.com/cfp/servlet/event.showcfp?eventid=33385&copyow
 nerid=45679
UID:cfp399370-E@wikicfp.com
END:VEVENT
BEGIN:VEVENT
DTSTAMP:20260423T224739Z
DTSTART;VALUE=DATE:20140213
SUMMARY:ICLMC 2014 Deadline
DESCRIPTION:2014 3rd International Conference on Language\, Medias and Cu
 lture 
URL:http://www.wikicfp.com/cfp/servlet/event.showcfp?eventid=33385&copyow
 nerid=45679
UID:cfp399370-D@wikicfp.com
END:VEVENT
BEGIN:VEVENT
DTSTAMP:20260423T224739Z
DTSTART;VALUE=DATE:20140228
SUMMARY:ICLMC 2014 Notification Due
DESCRIPTION:2014 3rd International Conference on Language\, Medias and Cu
 lture 
URL:http://www.wikicfp.com/cfp/servlet/event.showcfp?eventid=33385&copyow
 nerid=45679
UID:cfp399370-N@wikicfp.com
END:VEVENT
BEGIN:VEVENT
DTSTAMP:20260423T224739Z
DTSTART;VALUE=DATE:20140312
SUMMARY:ICLMC 2014 Final Version Due
DESCRIPTION:2014 3rd International Conference on Language\, Medias and Cu
 lture 
URL:http://www.wikicfp.com/cfp/servlet/event.showcfp?eventid=33385&copyow
 nerid=45679
UID:cfp399370-N@wikicfp.com
END:VEVENT
BEGIN:VEVENT
DTSTAMP:20260423T224739Z
DTSTART;VALUE=DATE:20140428
DTEND;VALUE=DATE:20140430
SUMMARY:ICAES 2014
DESCRIPTION:2014 International Conference on Advances in Educational Scie
 nces
URL:http://www.wikicfp.com/cfp/servlet/event.showcfp?eventid=33380&copyow
 nerid=45679
UID:cfp399369-E@wikicfp.com
END:VEVENT
BEGIN:VEVENT
DTSTAMP:20260423T224739Z
DTSTART;VALUE=DATE:20140215
SUMMARY:ICAES 2014 Deadline
DESCRIPTION:2014 International Conference on Advances in Educational Scie
 nces
URL:http://www.wikicfp.com/cfp/servlet/event.showcfp?eventid=33380&copyow
 nerid=45679
UID:cfp399369-D@wikicfp.com
END:VEVENT
BEGIN:VEVENT
DTSTAMP:20260423T224739Z
DTSTART;VALUE=DATE:20140228
SUMMARY:ICAES 2014 Notification Due
DESCRIPTION:2014 International Conference on Advances in Educational Scie
 nces
URL:http://www.wikicfp.com/cfp/servlet/event.showcfp?eventid=33380&copyow
 nerid=45679
UID:cfp399369-N@wikicfp.com
END:VEVENT
BEGIN:VEVENT
DTSTAMP:20260423T224739Z
DTSTART;VALUE=DATE:20140315
SUMMARY:ICAES 2014 Final Version Due
DESCRIPTION:2014 International Conference on Advances in Educational Scie
 nces
URL:http://www.wikicfp.com/cfp/servlet/event.showcfp?eventid=33380&copyow
 nerid=45679
UID:cfp399369-N@wikicfp.com
END:VEVENT
BEGIN:VEVENT
DTSTAMP:20260423T224739Z
DTSTART;VALUE=DATE:20140318
DTEND;VALUE=DATE:20140321
SUMMARY:ICEEE 2014
DESCRIPTION:The Third International Conference on E-Learning and E-Techno
 logies in Education
URL:http://www.wikicfp.com/cfp/servlet/event.showcfp?eventid=30719&copyow
 nerid=45679
UID:cfp399352-E@wikicfp.com
END:VEVENT
BEGIN:VEVENT
DTSTAMP:20260423T224739Z
DTSTART;VALUE=DATE:20140225
SUMMARY:ICEEE 2014 Deadline
DESCRIPTION:The Third International Conference on E-Learning and E-Techno
 logies in Education
URL:http://www.wikicfp.com/cfp/servlet/event.showcfp?eventid=30719&copyow
 nerid=45679
UID:cfp399352-D@wikicfp.com
END:VEVENT
BEGIN:VEVENT
DTSTAMP:20260423T224739Z
DTSTART;VALUE=DATE:20140301
SUMMARY:ICEEE 2014 Notification Due
DESCRIPTION:The Third International Conference on E-Learning and E-Techno
 logies in Education
URL:http://www.wikicfp.com/cfp/servlet/event.showcfp?eventid=30719&copyow
 nerid=45679
UID:cfp399352-N@wikicfp.com
END:VEVENT
BEGIN:VEVENT
DTSTAMP:20260423T224739Z
DTSTART;VALUE=DATE:20140308
SUMMARY:ICEEE 2014 Final Version Due
DESCRIPTION:The Third International Conference on E-Learning and E-Techno
 logies in Education
URL:http://www.wikicfp.com/cfp/servlet/event.showcfp?eventid=30719&copyow
 nerid=45679
UID:cfp399352-N@wikicfp.com
END:VEVENT
BEGIN:VEVENT
DTSTAMP:20260423T224739Z
DTSTART;VALUE=DATE:20141027
DTEND;VALUE=DATE:20141030
SUMMARY:IICE 2014
DESCRIPTION:Ireland International Conference on Education 
URL:http://www.wikicfp.com/cfp/servlet/event.showcfp?eventid=33102&copyow
 nerid=45679
UID:cfp399364-E@wikicfp.com
END:VEVENT
BEGIN:VEVENT
DTSTAMP:20260423T224739Z
DTSTART;VALUE=DATE:20140601
SUMMARY:IICE 2014 Abstract Due
DESCRIPTION:Ireland International Conference on Education 
URL:http://www.wikicfp.com/cfp/servlet/event.showcfp?eventid=33102&copyow
 nerid=45679
UID:cfp399364-A@wikicfp.com
END:VEVENT
BEGIN:VEVENT
DTSTAMP:20260423T224739Z
DTSTART;VALUE=DATE:20140620
SUMMARY:IICE 2014 Deadline
DESCRIPTION:Ireland International Conference on Education 
URL:http://www.wikicfp.com/cfp/servlet/event.showcfp?eventid=33102&copyow
 nerid=45679
UID:cfp399364-D@wikicfp.com
END:VEVENT
BEGIN:VEVENT
DTSTAMP:20260423T224739Z
DTSTART;VALUE=DATE:20140710
SUMMARY:IICE 2014 Notification Due
DESCRIPTION:Ireland International Conference on Education 
URL:http://www.wikicfp.com/cfp/servlet/event.showcfp?eventid=33102&copyow
 nerid=45679
UID:cfp399364-N@wikicfp.com
END:VEVENT
BEGIN:VEVENT
DTSTAMP:20260423T224739Z
DTSTART;VALUE=DATE:20140815
SUMMARY:IICE 2014 Final Version Due
DESCRIPTION:Ireland International Conference on Education 
URL:http://www.wikicfp.com/cfp/servlet/event.showcfp?eventid=33102&copyow
 nerid=45679
UID:cfp399364-N@wikicfp.com
END:VEVENT
BEGIN:VEVENT
DTSTAMP:20260423T224739Z
DTSTART;VALUE=DATE:20140731
SUMMARY:IJITE 2014 Deadline
DESCRIPTION:International Journal on Integrating Technology in Education
URL:http://www.wikicfp.com/cfp/servlet/event.showcfp?eventid=31829&copyow
 nerid=45679
UID:cfp399354-D@wikicfp.com
END:VEVENT
BEGIN:VEVENT
DTSTAMP:20260423T224739Z
DTSTART;VALUE=DATE:20140831
SUMMARY:IJITE 2014 Notification Due
DESCRIPTION:International Journal on Integrating Technology in Education
URL:http://www.wikicfp.com/cfp/servlet/event.showcfp?eventid=31829&copyow
 nerid=45679
UID:cfp399354-N@wikicfp.com
END:VEVENT
BEGIN:VEVENT
DTSTAMP:20260423T224739Z
DTSTART;VALUE=DATE:20140903
SUMMARY:IJITE 2014 Final Version Due
DESCRIPTION:International Journal on Integrating Technology in Education
URL:http://www.wikicfp.com/cfp/servlet/event.showcfp?eventid=31829&copyow
 nerid=45679
UID:cfp399354-N@wikicfp.com
END:VEVENT
BEGIN:VEVENT
DTSTAMP:20260423T224739Z
DTSTART;VALUE=DATE:20141102
SUMMARY:IJE 2014 Deadline
DESCRIPTION:International Journal of Education
URL:http://www.wikicfp.com/cfp/servlet/event.showcfp?eventid=33372&copyow
 nerid=45679
UID:cfp399367-D@wikicfp.com
END:VEVENT
BEGIN:VEVENT
DTSTAMP:20260423T224739Z
DTSTART;VALUE=DATE:20141202
SUMMARY:IJE 2014 Notification Due
DESCRIPTION:International Journal of Education
URL:http://www.wikicfp.com/cfp/servlet/event.showcfp?eventid=33372&copyow
 nerid=45679
UID:cfp399367-N@wikicfp.com
END:VEVENT
BEGIN:VEVENT
DTSTAMP:20260423T224739Z
DTSTART;VALUE=DATE:20141209
SUMMARY:IJE 2014 Final Version Due
DESCRIPTION:International Journal of Education
URL:http://www.wikicfp.com/cfp/servlet/event.showcfp?eventid=33372&copyow
 nerid=45679
UID:cfp399367-N@wikicfp.com
END:VEVENT
END:VCALENDAR
