BEGIN:VCALENDAR
PRODID:-//WikiCFP//Milka86 1.0//EN
VERSION:2.0
CALSCALE:GREGORIAN
BEGIN:VEVENT
DTSTAMP:20260423T040006Z
DTSTART;VALUE=DATE:20130604
DTEND;VALUE=DATE:20130608
SUMMARY:SPAT 2013
DESCRIPTION:Spatial Statistics 2013
URL:http://www.wikicfp.com/cfp/servlet/event.showcfp?eventid=26758&copyow
 nerid=45379
UID:cfp318416-E@wikicfp.com
END:VEVENT
BEGIN:VEVENT
DTSTAMP:20260423T040006Z
DTSTART;VALUE=DATE:20130225
SUMMARY:SPAT 2013 Deadline
DESCRIPTION:Spatial Statistics 2013
URL:http://www.wikicfp.com/cfp/servlet/event.showcfp?eventid=26758&copyow
 nerid=45379
UID:cfp318416-D@wikicfp.com
END:VEVENT
BEGIN:VEVENT
DTSTAMP:20260423T040006Z
DTSTART;VALUE=DATE:20130620
DTEND;VALUE=DATE:20130623
SUMMARY:ARS 2013
DESCRIPTION:Networks in space and time: models\, data collection and appl
 ications
URL:http://www.wikicfp.com/cfp/servlet/event.showcfp?eventid=27218&copyow
 nerid=45379
UID:cfp318414-E@wikicfp.com
END:VEVENT
BEGIN:VEVENT
DTSTAMP:20260423T040006Z
DTSTART;VALUE=DATE:20130215
SUMMARY:ARS 2013 Abstract Due
DESCRIPTION:Networks in space and time: models\, data collection and appl
 ications
URL:http://www.wikicfp.com/cfp/servlet/event.showcfp?eventid=27218&copyow
 nerid=45379
UID:cfp318414-A@wikicfp.com
END:VEVENT
BEGIN:VEVENT
DTSTAMP:20260423T040006Z
DTSTART;VALUE=DATE:20130415
SUMMARY:ARS 2013 Deadline
DESCRIPTION:Networks in space and time: models\, data collection and appl
 ications
URL:http://www.wikicfp.com/cfp/servlet/event.showcfp?eventid=27218&copyow
 nerid=45379
UID:cfp318414-D@wikicfp.com
END:VEVENT
BEGIN:VEVENT
DTSTAMP:20260423T040006Z
DTSTART;VALUE=DATE:20130430
SUMMARY:ARS 2013 Notification Due
DESCRIPTION:Networks in space and time: models\, data collection and appl
 ications
URL:http://www.wikicfp.com/cfp/servlet/event.showcfp?eventid=27218&copyow
 nerid=45379
UID:cfp318414-N@wikicfp.com
END:VEVENT
END:VCALENDAR
