BEGIN:VCALENDAR
PRODID:-//WikiCFP//labories 1.0//EN
VERSION:2.0
CALSCALE:GREGORIAN
BEGIN:VEVENT
DTSTAMP:20260421T105510Z
DTSTART;VALUE=DATE:20131212
DTEND;VALUE=DATE:20131214
SUMMARY:SMAP 2013
DESCRIPTION:8th International Workshop on Semantic and Social Media Adapt
 ation and Personalization
URL:http://www.wikicfp.com/cfp/servlet/event.showcfp?eventid=28416&copyow
 nerid=45306
UID:cfp329855-E@wikicfp.com
END:VEVENT
BEGIN:VEVENT
DTSTAMP:20260421T105510Z
DTSTART;VALUE=DATE:20130717
SUMMARY:SMAP 2013 Deadline
DESCRIPTION:8th International Workshop on Semantic and Social Media Adapt
 ation and Personalization
URL:http://www.wikicfp.com/cfp/servlet/event.showcfp?eventid=28416&copyow
 nerid=45306
UID:cfp329855-D@wikicfp.com
END:VEVENT
BEGIN:VEVENT
DTSTAMP:20260421T105510Z
DTSTART;VALUE=DATE:20130824
SUMMARY:SMAP 2013 Notification Due
DESCRIPTION:8th International Workshop on Semantic and Social Media Adapt
 ation and Personalization
URL:http://www.wikicfp.com/cfp/servlet/event.showcfp?eventid=28416&copyow
 nerid=45306
UID:cfp329855-N@wikicfp.com
END:VEVENT
BEGIN:VEVENT
DTSTAMP:20260421T105510Z
DTSTART;VALUE=DATE:20141015
SUMMARY:IJVCSN Special issue 2015 Deadline
DESCRIPTION:International Journal of Virtual Communities and Social Netwo
 rking\, Special Issue on Social Media and Networks for Multimedia Conten
 t Management
URL:http://www.wikicfp.com/cfp/servlet/event.showcfp?eventid=39575&copyow
 nerid=45306
UID:cfp462680-D@wikicfp.com
END:VEVENT
BEGIN:VEVENT
DTSTAMP:20260421T105510Z
DTSTART;VALUE=DATE:20141215
SUMMARY:IJVCSN Special issue 2015 Notification Due
DESCRIPTION:International Journal of Virtual Communities and Social Netwo
 rking\, Special Issue on Social Media and Networks for Multimedia Conten
 t Management
URL:http://www.wikicfp.com/cfp/servlet/event.showcfp?eventid=39575&copyow
 nerid=45306
UID:cfp462680-N@wikicfp.com
END:VEVENT
BEGIN:VEVENT
DTSTAMP:20260421T105510Z
DTSTART;VALUE=DATE:20150515
SUMMARY:IJVCSN Special issue 2015 Final Version Due
DESCRIPTION:International Journal of Virtual Communities and Social Netwo
 rking\, Special Issue on Social Media and Networks for Multimedia Conten
 t Management
URL:http://www.wikicfp.com/cfp/servlet/event.showcfp?eventid=39575&copyow
 nerid=45306
UID:cfp462680-N@wikicfp.com
END:VEVENT
BEGIN:VEVENT
DTSTAMP:20260421T105510Z
DTSTART;VALUE=DATE:20170709
DTEND;VALUE=DATE:20170711
SUMMARY:SMAP 2017
DESCRIPTION:12th International Workshop on Semantic and Social Media Adap
 tation and Personalization
URL:http://www.wikicfp.com/cfp/servlet/event.showcfp?eventid=58804&copyow
 nerid=45306
UID:cfp630578-E@wikicfp.com
END:VEVENT
BEGIN:VEVENT
DTSTAMP:20260421T105510Z
DTSTART;VALUE=DATE:20170312
SUMMARY:SMAP 2017 Abstract Due
DESCRIPTION:12th International Workshop on Semantic and Social Media Adap
 tation and Personalization
URL:http://www.wikicfp.com/cfp/servlet/event.showcfp?eventid=58804&copyow
 nerid=45306
UID:cfp630578-A@wikicfp.com
END:VEVENT
BEGIN:VEVENT
DTSTAMP:20260421T105510Z
DTSTART;VALUE=DATE:20170317
SUMMARY:SMAP 2017 Deadline
DESCRIPTION:12th International Workshop on Semantic and Social Media Adap
 tation and Personalization
URL:http://www.wikicfp.com/cfp/servlet/event.showcfp?eventid=58804&copyow
 nerid=45306
UID:cfp630578-D@wikicfp.com
END:VEVENT
BEGIN:VEVENT
DTSTAMP:20260421T105510Z
DTSTART;VALUE=DATE:20170427
SUMMARY:SMAP 2017 Notification Due
DESCRIPTION:12th International Workshop on Semantic and Social Media Adap
 tation and Personalization
URL:http://www.wikicfp.com/cfp/servlet/event.showcfp?eventid=58804&copyow
 nerid=45306
UID:cfp630578-N@wikicfp.com
END:VEVENT
BEGIN:VEVENT
DTSTAMP:20260421T105510Z
DTSTART;VALUE=DATE:20170518
SUMMARY:SMAP 2017 Final Version Due
DESCRIPTION:12th International Workshop on Semantic and Social Media Adap
 tation and Personalization
URL:http://www.wikicfp.com/cfp/servlet/event.showcfp?eventid=58804&copyow
 nerid=45306
UID:cfp630578-N@wikicfp.com
END:VEVENT
BEGIN:VEVENT
DTSTAMP:20260421T105510Z
DTSTART;VALUE=DATE:20171009
DTEND;VALUE=DATE:20171010
SUMMARY:eHPWAS 2017
DESCRIPTION:IEEE Fifth International Workshop on e-Health Pervasive Wirel
 ess Applications and Services
URL:http://www.wikicfp.com/cfp/servlet/event.showcfp?eventid=65017&copyow
 nerid=45306
UID:cfp671476-E@wikicfp.com
END:VEVENT
BEGIN:VEVENT
DTSTAMP:20260421T105510Z
DTSTART;VALUE=DATE:20170707
SUMMARY:eHPWAS 2017 Deadline
DESCRIPTION:IEEE Fifth International Workshop on e-Health Pervasive Wirel
 ess Applications and Services
URL:http://www.wikicfp.com/cfp/servlet/event.showcfp?eventid=65017&copyow
 nerid=45306
UID:cfp671476-D@wikicfp.com
END:VEVENT
BEGIN:VEVENT
DTSTAMP:20260421T105510Z
DTSTART;VALUE=DATE:20170815
SUMMARY:eHPWAS 2017 Notification Due
DESCRIPTION:IEEE Fifth International Workshop on e-Health Pervasive Wirel
 ess Applications and Services
URL:http://www.wikicfp.com/cfp/servlet/event.showcfp?eventid=65017&copyow
 nerid=45306
UID:cfp671476-N@wikicfp.com
END:VEVENT
BEGIN:VEVENT
DTSTAMP:20260421T105510Z
DTSTART;VALUE=DATE:20170901
SUMMARY:eHPWAS 2017 Final Version Due
DESCRIPTION:IEEE Fifth International Workshop on e-Health Pervasive Wirel
 ess Applications and Services
URL:http://www.wikicfp.com/cfp/servlet/event.showcfp?eventid=65017&copyow
 nerid=45306
UID:cfp671476-N@wikicfp.com
END:VEVENT
END:VCALENDAR
