BEGIN:VCALENDAR
PRODID:-//WikiCFP//gsalagnac 1.0//EN
VERSION:2.0
CALSCALE:GREGORIAN
BEGIN:VEVENT
DTSTAMP:20260421T130434Z
DTSTART;VALUE=DATE:20120303
DTEND;VALUE=DATE:20120305
SUMMARY:VEE 2012
DESCRIPTION:Virtual Execution Environments 2012
URL:http://www.wikicfp.com/cfp/servlet/event.showcfp?eventid=17361&copyow
 nerid=45263
UID:cfp317217-E@wikicfp.com
END:VEVENT
BEGIN:VEVENT
DTSTAMP:20260421T130434Z
DTSTART;VALUE=DATE:20111102
SUMMARY:VEE 2012 Deadline
DESCRIPTION:Virtual Execution Environments 2012
URL:http://www.wikicfp.com/cfp/servlet/event.showcfp?eventid=17361&copyow
 nerid=45263
UID:cfp317217-D@wikicfp.com
END:VEVENT
BEGIN:VEVENT
DTSTAMP:20260421T130434Z
DTSTART;VALUE=DATE:20111219
SUMMARY:VEE 2012 Notification Due
DESCRIPTION:Virtual Execution Environments 2012
URL:http://www.wikicfp.com/cfp/servlet/event.showcfp?eventid=17361&copyow
 nerid=45263
UID:cfp317217-N@wikicfp.com
END:VEVENT
BEGIN:VEVENT
DTSTAMP:20260421T130434Z
DTSTART;VALUE=DATE:20120111
SUMMARY:VEE 2012 Final Version Due
DESCRIPTION:Virtual Execution Environments 2012
URL:http://www.wikicfp.com/cfp/servlet/event.showcfp?eventid=17361&copyow
 nerid=45263
UID:cfp317217-N@wikicfp.com
END:VEVENT
BEGIN:VEVENT
DTSTAMP:20260421T130434Z
DTSTART;VALUE=DATE:20120613
DTEND;VALUE=DATE:20120616
SUMMARY:USENIX ATC 2012
DESCRIPTION:2012 USENIX Annual Technical Conference
URL:http://www.wikicfp.com/cfp/servlet/event.showcfp?eventid=18440&copyow
 nerid=45263
UID:cfp319263-E@wikicfp.com
END:VEVENT
BEGIN:VEVENT
DTSTAMP:20260421T130434Z
DTSTART;VALUE=DATE:20120110
SUMMARY:USENIX ATC 2012 Abstract Due
DESCRIPTION:2012 USENIX Annual Technical Conference
URL:http://www.wikicfp.com/cfp/servlet/event.showcfp?eventid=18440&copyow
 nerid=45263
UID:cfp319263-A@wikicfp.com
END:VEVENT
BEGIN:VEVENT
DTSTAMP:20260421T130434Z
DTSTART;VALUE=DATE:20120117
SUMMARY:USENIX ATC 2012 Deadline
DESCRIPTION:2012 USENIX Annual Technical Conference
URL:http://www.wikicfp.com/cfp/servlet/event.showcfp?eventid=18440&copyow
 nerid=45263
UID:cfp319263-D@wikicfp.com
END:VEVENT
BEGIN:VEVENT
DTSTAMP:20260421T130434Z
DTSTART;VALUE=DATE:20120326
SUMMARY:USENIX ATC 2012 Notification Due
DESCRIPTION:2012 USENIX Annual Technical Conference
URL:http://www.wikicfp.com/cfp/servlet/event.showcfp?eventid=18440&copyow
 nerid=45263
UID:cfp319263-N@wikicfp.com
END:VEVENT
BEGIN:VEVENT
DTSTAMP:20260421T130434Z
DTSTART;VALUE=DATE:20120502
SUMMARY:USENIX ATC 2012 Final Version Due
DESCRIPTION:2012 USENIX Annual Technical Conference
URL:http://www.wikicfp.com/cfp/servlet/event.showcfp?eventid=18440&copyow
 nerid=45263
UID:cfp319263-N@wikicfp.com
END:VEVENT
BEGIN:VEVENT
DTSTAMP:20260421T130434Z
DTSTART;VALUE=DATE:20130223
DTEND;VALUE=DATE:20130228
SUMMARY:PPoPP 2013
DESCRIPTION:ACM SIGPLAN Annual Symposium Principles and Practice of Paral
 lel Programming
URL:http://www.wikicfp.com/cfp/servlet/event.showcfp?eventid=23300&copyow
 nerid=45263
UID:cfp317216-E@wikicfp.com
END:VEVENT
BEGIN:VEVENT
DTSTAMP:20260421T130434Z
DTSTART;VALUE=DATE:20120810
SUMMARY:PPoPP 2013 Abstract Due
DESCRIPTION:ACM SIGPLAN Annual Symposium Principles and Practice of Paral
 lel Programming
URL:http://www.wikicfp.com/cfp/servlet/event.showcfp?eventid=23300&copyow
 nerid=45263
UID:cfp317216-A@wikicfp.com
END:VEVENT
BEGIN:VEVENT
DTSTAMP:20260421T130434Z
DTSTART;VALUE=DATE:20120817
SUMMARY:PPoPP 2013 Deadline
DESCRIPTION:ACM SIGPLAN Annual Symposium Principles and Practice of Paral
 lel Programming
URL:http://www.wikicfp.com/cfp/servlet/event.showcfp?eventid=23300&copyow
 nerid=45263
UID:cfp317216-D@wikicfp.com
END:VEVENT
BEGIN:VEVENT
DTSTAMP:20260421T130434Z
DTSTART;VALUE=DATE:20121112
SUMMARY:PPoPP 2013 Notification Due
DESCRIPTION:ACM SIGPLAN Annual Symposium Principles and Practice of Paral
 lel Programming
URL:http://www.wikicfp.com/cfp/servlet/event.showcfp?eventid=23300&copyow
 nerid=45263
UID:cfp317216-N@wikicfp.com
END:VEVENT
BEGIN:VEVENT
DTSTAMP:20260421T130434Z
DTSTART;VALUE=DATE:20130115
DTEND;VALUE=DATE:20130119
SUMMARY:ComPAS 2013
DESCRIPTION:ConfÃ©rence dâinformatique en ParallÃ©lisme\, Architecture 
 et SystÃ¨me
URL:http://www.wikicfp.com/cfp/servlet/event.showcfp?eventid=27323&copyow
 nerid=45263
UID:cfp317211-E@wikicfp.com
END:VEVENT
BEGIN:VEVENT
DTSTAMP:20260421T130434Z
DTSTART;VALUE=DATE:20121005
SUMMARY:ComPAS 2013 Deadline
DESCRIPTION:ConfÃ©rence dâinformatique en ParallÃ©lisme\, Architecture 
 et SystÃ¨me
URL:http://www.wikicfp.com/cfp/servlet/event.showcfp?eventid=27323&copyow
 nerid=45263
UID:cfp317211-D@wikicfp.com
END:VEVENT
BEGIN:VEVENT
DTSTAMP:20260421T130434Z
DTSTART;VALUE=DATE:20121120
SUMMARY:ComPAS 2013 Notification Due
DESCRIPTION:ConfÃ©rence dâinformatique en ParallÃ©lisme\, Architecture 
 et SystÃ¨me
URL:http://www.wikicfp.com/cfp/servlet/event.showcfp?eventid=27323&copyow
 nerid=45263
UID:cfp317211-N@wikicfp.com
END:VEVENT
BEGIN:VEVENT
DTSTAMP:20260421T130434Z
DTSTART;VALUE=DATE:20121201
SUMMARY:ComPAS 2013 Final Version Due
DESCRIPTION:ConfÃ©rence dâinformatique en ParallÃ©lisme\, Architecture 
 et SystÃ¨me
URL:http://www.wikicfp.com/cfp/servlet/event.showcfp?eventid=27323&copyow
 nerid=45263
UID:cfp317211-N@wikicfp.com
END:VEVENT
BEGIN:VEVENT
DTSTAMP:20260421T130434Z
DTSTART;VALUE=DATE:20130408
DTEND;VALUE=DATE:20130412
SUMMARY:ICCPS  2013
DESCRIPTION:4th ACM/IEEE International Conference on Cyber-Physical Syste
 ms
URL:http://www.wikicfp.com/cfp/servlet/event.showcfp?eventid=25698&copyow
 nerid=45263
UID:cfp317224-E@wikicfp.com
END:VEVENT
BEGIN:VEVENT
DTSTAMP:20260421T130434Z
DTSTART;VALUE=DATE:20121015
SUMMARY:ICCPS  2013 Deadline
DESCRIPTION:4th ACM/IEEE International Conference on Cyber-Physical Syste
 ms
URL:http://www.wikicfp.com/cfp/servlet/event.showcfp?eventid=25698&copyow
 nerid=45263
UID:cfp317224-D@wikicfp.com
END:VEVENT
BEGIN:VEVENT
DTSTAMP:20260421T130434Z
DTSTART;VALUE=DATE:20121207
SUMMARY:ICCPS  2013 Notification Due
DESCRIPTION:4th ACM/IEEE International Conference on Cyber-Physical Syste
 ms
URL:http://www.wikicfp.com/cfp/servlet/event.showcfp?eventid=25698&copyow
 nerid=45263
UID:cfp317224-N@wikicfp.com
END:VEVENT
BEGIN:VEVENT
DTSTAMP:20260421T130434Z
DTSTART;VALUE=DATE:20130215
SUMMARY:ICCPS  2013 Final Version Due
DESCRIPTION:4th ACM/IEEE International Conference on Cyber-Physical Syste
 ms
URL:http://www.wikicfp.com/cfp/servlet/event.showcfp?eventid=25698&copyow
 nerid=45263
UID:cfp317224-N@wikicfp.com
END:VEVENT
BEGIN:VEVENT
DTSTAMP:20260421T130434Z
DTSTART;VALUE=DATE:20130415
DTEND;VALUE=DATE:20130418
SUMMARY:EuroSys 2013
DESCRIPTION:ACM SIGOPS EuroSys 2013
URL:http://www.wikicfp.com/cfp/servlet/event.showcfp?eventid=23193&copyow
 nerid=45263
UID:cfp319256-E@wikicfp.com
END:VEVENT
BEGIN:VEVENT
DTSTAMP:20260421T130434Z
DTSTART;VALUE=DATE:20121014
SUMMARY:EuroSys 2013 Abstract Due
DESCRIPTION:ACM SIGOPS EuroSys 2013
URL:http://www.wikicfp.com/cfp/servlet/event.showcfp?eventid=23193&copyow
 nerid=45263
UID:cfp319256-A@wikicfp.com
END:VEVENT
BEGIN:VEVENT
DTSTAMP:20260421T130434Z
DTSTART;VALUE=DATE:20121020
SUMMARY:EuroSys 2013 Deadline
DESCRIPTION:ACM SIGOPS EuroSys 2013
URL:http://www.wikicfp.com/cfp/servlet/event.showcfp?eventid=23193&copyow
 nerid=45263
UID:cfp319256-D@wikicfp.com
END:VEVENT
BEGIN:VEVENT
DTSTAMP:20260421T130434Z
DTSTART;VALUE=DATE:20130108
SUMMARY:EuroSys 2013 Notification Due
DESCRIPTION:ACM SIGOPS EuroSys 2013
URL:http://www.wikicfp.com/cfp/servlet/event.showcfp?eventid=23193&copyow
 nerid=45263
UID:cfp319256-N@wikicfp.com
END:VEVENT
BEGIN:VEVENT
DTSTAMP:20260421T130434Z
DTSTART;VALUE=DATE:20130616
DTEND;VALUE=DATE:20130622
SUMMARY:PLDI 2013
DESCRIPTION:34th Annual ACM SIGPLAN Conference on Programming Language De
 sign and Implementation
URL:http://www.wikicfp.com/cfp/servlet/event.showcfp?eventid=25758&copyow
 nerid=45263
UID:cfp317213-E@wikicfp.com
END:VEVENT
BEGIN:VEVENT
DTSTAMP:20260421T130434Z
DTSTART;VALUE=DATE:20121111
SUMMARY:PLDI 2013 Deadline
DESCRIPTION:34th Annual ACM SIGPLAN Conference on Programming Language De
 sign and Implementation
URL:http://www.wikicfp.com/cfp/servlet/event.showcfp?eventid=25758&copyow
 nerid=45263
UID:cfp317213-D@wikicfp.com
END:VEVENT
BEGIN:VEVENT
DTSTAMP:20260421T130434Z
DTSTART;VALUE=DATE:20130205
SUMMARY:PLDI 2013 Notification Due
DESCRIPTION:34th Annual ACM SIGPLAN Conference on Programming Language De
 sign and Implementation
URL:http://www.wikicfp.com/cfp/servlet/event.showcfp?eventid=25758&copyow
 nerid=45263
UID:cfp317213-N@wikicfp.com
END:VEVENT
BEGIN:VEVENT
DTSTAMP:20260421T130434Z
DTSTART;VALUE=DATE:20130513
DTEND;VALUE=DATE:20130517
SUMMARY:CCGrid 2013
DESCRIPTION:13th IEEE/ACM International Symposium On Cluster\, Cloud And 
 Grid Computing
URL:http://www.wikicfp.com/cfp/servlet/event.showcfp?eventid=23332&copyow
 nerid=45263
UID:cfp317203-E@wikicfp.com
END:VEVENT
BEGIN:VEVENT
DTSTAMP:20260421T130434Z
DTSTART;VALUE=DATE:20121112
SUMMARY:CCGrid 2013 Deadline
DESCRIPTION:13th IEEE/ACM International Symposium On Cluster\, Cloud And 
 Grid Computing
URL:http://www.wikicfp.com/cfp/servlet/event.showcfp?eventid=23332&copyow
 nerid=45263
UID:cfp317203-D@wikicfp.com
END:VEVENT
BEGIN:VEVENT
DTSTAMP:20260421T130434Z
DTSTART;VALUE=DATE:20130124
SUMMARY:CCGrid 2013 Notification Due
DESCRIPTION:13th IEEE/ACM International Symposium On Cluster\, Cloud And 
 Grid Computing
URL:http://www.wikicfp.com/cfp/servlet/event.showcfp?eventid=23332&copyow
 nerid=45263
UID:cfp317203-N@wikicfp.com
END:VEVENT
BEGIN:VEVENT
DTSTAMP:20260421T130434Z
DTSTART;VALUE=DATE:20130222
SUMMARY:CCGrid 2013 Final Version Due
DESCRIPTION:13th IEEE/ACM International Symposium On Cluster\, Cloud And 
 Grid Computing
URL:http://www.wikicfp.com/cfp/servlet/event.showcfp?eventid=23332&copyow
 nerid=45263
UID:cfp317203-N@wikicfp.com
END:VEVENT
BEGIN:VEVENT
DTSTAMP:20260421T130434Z
DTSTART;VALUE=DATE:20130602
DTEND;VALUE=DATE:20130607
SUMMARY:DAC 2013
DESCRIPTION:50th ACM/EDAC/IEEE Design Automation Conference (DAC)
URL:http://www.wikicfp.com/cfp/servlet/event.showcfp?eventid=20817&copyow
 nerid=45263
UID:cfp317214-E@wikicfp.com
END:VEVENT
BEGIN:VEVENT
DTSTAMP:20260421T130434Z
DTSTART;VALUE=DATE:20121127
SUMMARY:DAC 2013 Abstract Due
DESCRIPTION:50th ACM/EDAC/IEEE Design Automation Conference (DAC)
URL:http://www.wikicfp.com/cfp/servlet/event.showcfp?eventid=20817&copyow
 nerid=45263
UID:cfp317214-A@wikicfp.com
END:VEVENT
BEGIN:VEVENT
DTSTAMP:20260421T130434Z
DTSTART;VALUE=DATE:20121203
SUMMARY:DAC 2013 Deadline
DESCRIPTION:50th ACM/EDAC/IEEE Design Automation Conference (DAC)
URL:http://www.wikicfp.com/cfp/servlet/event.showcfp?eventid=20817&copyow
 nerid=45263
UID:cfp317214-D@wikicfp.com
END:VEVENT
BEGIN:VEVENT
DTSTAMP:20260421T130434Z
DTSTART;VALUE=DATE:20130701
DTEND;VALUE=DATE:20130706
SUMMARY:ECOOP 2013
DESCRIPTION:27th European Conference on Object-Oriented Programming 2013
URL:http://www.wikicfp.com/cfp/servlet/event.showcfp?eventid=25255&copyow
 nerid=45263
UID:cfp317215-E@wikicfp.com
END:VEVENT
BEGIN:VEVENT
DTSTAMP:20260421T130434Z
DTSTART;VALUE=DATE:20121222
SUMMARY:ECOOP 2013 Deadline
DESCRIPTION:27th European Conference on Object-Oriented Programming 2013
URL:http://www.wikicfp.com/cfp/servlet/event.showcfp?eventid=25255&copyow
 nerid=45263
UID:cfp317215-D@wikicfp.com
END:VEVENT
BEGIN:VEVENT
DTSTAMP:20260421T130434Z
DTSTART;VALUE=DATE:20130308
SUMMARY:ECOOP 2013 Notification Due
DESCRIPTION:27th European Conference on Object-Oriented Programming 2013
URL:http://www.wikicfp.com/cfp/servlet/event.showcfp?eventid=25255&copyow
 nerid=45263
UID:cfp317215-N@wikicfp.com
END:VEVENT
BEGIN:VEVENT
DTSTAMP:20260421T130434Z
DTSTART;VALUE=DATE:20130419
SUMMARY:ECOOP 2013 Final Version Due
DESCRIPTION:27th European Conference on Object-Oriented Programming 2013
URL:http://www.wikicfp.com/cfp/servlet/event.showcfp?eventid=25255&copyow
 nerid=45263
UID:cfp317215-N@wikicfp.com
END:VEVENT
BEGIN:VEVENT
DTSTAMP:20260421T130434Z
DTSTART;VALUE=DATE:20130513
DTEND;VALUE=DATE:20130516
SUMMARY:HotOS XIV 2013
DESCRIPTION:14th Workshop on Hot Topics in Operating Systems
URL:http://www.wikicfp.com/cfp/servlet/event.showcfp?eventid=24066&copyow
 nerid=45263
UID:cfp317205-E@wikicfp.com
END:VEVENT
BEGIN:VEVENT
DTSTAMP:20260421T130434Z
DTSTART;VALUE=DATE:20130110
SUMMARY:HotOS XIV 2013 Deadline
DESCRIPTION:14th Workshop on Hot Topics in Operating Systems
URL:http://www.wikicfp.com/cfp/servlet/event.showcfp?eventid=24066&copyow
 nerid=45263
UID:cfp317205-D@wikicfp.com
END:VEVENT
BEGIN:VEVENT
DTSTAMP:20260421T130434Z
DTSTART;VALUE=DATE:20130320
SUMMARY:HotOS XIV 2013 Notification Due
DESCRIPTION:14th Workshop on Hot Topics in Operating Systems
URL:http://www.wikicfp.com/cfp/servlet/event.showcfp?eventid=24066&copyow
 nerid=45263
UID:cfp317205-N@wikicfp.com
END:VEVENT
BEGIN:VEVENT
DTSTAMP:20260421T130434Z
DTSTART;VALUE=DATE:20130410
SUMMARY:HotOS XIV 2013 Final Version Due
DESCRIPTION:14th Workshop on Hot Topics in Operating Systems
URL:http://www.wikicfp.com/cfp/servlet/event.showcfp?eventid=24066&copyow
 nerid=45263
UID:cfp317205-N@wikicfp.com
END:VEVENT
BEGIN:VEVENT
DTSTAMP:20260421T130434Z
DTSTART;VALUE=DATE:20130617
DTEND;VALUE=DATE:20130622
SUMMARY:HPDC 2013
DESCRIPTION:The 22nd International Symposium on High-Performance Parallel
  and Distributed Computing
URL:http://www.wikicfp.com/cfp/servlet/event.showcfp?eventid=24455&copyow
 nerid=45263
UID:cfp319255-E@wikicfp.com
END:VEVENT
BEGIN:VEVENT
DTSTAMP:20260421T130434Z
DTSTART;VALUE=DATE:20130114
SUMMARY:HPDC 2013 Abstract Due
DESCRIPTION:The 22nd International Symposium on High-Performance Parallel
  and Distributed Computing
URL:http://www.wikicfp.com/cfp/servlet/event.showcfp?eventid=24455&copyow
 nerid=45263
UID:cfp319255-A@wikicfp.com
END:VEVENT
BEGIN:VEVENT
DTSTAMP:20260421T130434Z
DTSTART;VALUE=DATE:20130121
SUMMARY:HPDC 2013 Deadline
DESCRIPTION:The 22nd International Symposium on High-Performance Parallel
  and Distributed Computing
URL:http://www.wikicfp.com/cfp/servlet/event.showcfp?eventid=24455&copyow
 nerid=45263
UID:cfp319255-D@wikicfp.com
END:VEVENT
BEGIN:VEVENT
DTSTAMP:20260421T130434Z
DTSTART;VALUE=DATE:20130626
DTEND;VALUE=DATE:20130629
SUMMARY:USENIX ATC 2013
DESCRIPTION:USENIX Annual Technical Conference
URL:http://www.wikicfp.com/cfp/servlet/event.showcfp?eventid=26490&copyow
 nerid=45263
UID:cfp317208-E@wikicfp.com
END:VEVENT
BEGIN:VEVENT
DTSTAMP:20260421T130434Z
DTSTART;VALUE=DATE:20130123
SUMMARY:USENIX ATC 2013 Abstract Due
DESCRIPTION:USENIX Annual Technical Conference
URL:http://www.wikicfp.com/cfp/servlet/event.showcfp?eventid=26490&copyow
 nerid=45263
UID:cfp317208-A@wikicfp.com
END:VEVENT
BEGIN:VEVENT
DTSTAMP:20260421T130434Z
DTSTART;VALUE=DATE:20130130
SUMMARY:USENIX ATC 2013 Deadline
DESCRIPTION:USENIX Annual Technical Conference
URL:http://www.wikicfp.com/cfp/servlet/event.showcfp?eventid=26490&copyow
 nerid=45263
UID:cfp317208-D@wikicfp.com
END:VEVENT
BEGIN:VEVENT
DTSTAMP:20260421T130434Z
DTSTART;VALUE=DATE:20130408
SUMMARY:USENIX ATC 2013 Notification Due
DESCRIPTION:USENIX Annual Technical Conference
URL:http://www.wikicfp.com/cfp/servlet/event.showcfp?eventid=26490&copyow
 nerid=45263
UID:cfp317208-N@wikicfp.com
END:VEVENT
BEGIN:VEVENT
DTSTAMP:20260421T130434Z
DTSTART;VALUE=DATE:20130520
SUMMARY:USENIX ATC 2013 Final Version Due
DESCRIPTION:USENIX Annual Technical Conference
URL:http://www.wikicfp.com/cfp/servlet/event.showcfp?eventid=26490&copyow
 nerid=45263
UID:cfp317208-N@wikicfp.com
END:VEVENT
BEGIN:VEVENT
DTSTAMP:20260421T130434Z
DTSTART;VALUE=DATE:20130826
DTEND;VALUE=DATE:20130831
SUMMARY:Euro-Par 2013
DESCRIPTION:European Conference on Parallel Processing
URL:http://www.wikicfp.com/cfp/servlet/event.showcfp?eventid=26385&copyow
 nerid=45263
UID:cfp319254-E@wikicfp.com
END:VEVENT
BEGIN:VEVENT
DTSTAMP:20260421T130434Z
DTSTART;VALUE=DATE:20130208
SUMMARY:Euro-Par 2013 Abstract Due
DESCRIPTION:European Conference on Parallel Processing
URL:http://www.wikicfp.com/cfp/servlet/event.showcfp?eventid=26385&copyow
 nerid=45263
UID:cfp319254-A@wikicfp.com
END:VEVENT
BEGIN:VEVENT
DTSTAMP:20260421T130434Z
DTSTART;VALUE=DATE:20130215
SUMMARY:Euro-Par 2013 Deadline
DESCRIPTION:European Conference on Parallel Processing
URL:http://www.wikicfp.com/cfp/servlet/event.showcfp?eventid=26385&copyow
 nerid=45263
UID:cfp319254-D@wikicfp.com
END:VEVENT
BEGIN:VEVENT
DTSTAMP:20260421T130434Z
DTSTART;VALUE=DATE:20130508
SUMMARY:Euro-Par 2013 Notification Due
DESCRIPTION:European Conference on Parallel Processing
URL:http://www.wikicfp.com/cfp/servlet/event.showcfp?eventid=26385&copyow
 nerid=45263
UID:cfp319254-N@wikicfp.com
END:VEVENT
BEGIN:VEVENT
DTSTAMP:20260421T130434Z
DTSTART;VALUE=DATE:20130601
SUMMARY:Euro-Par 2013 Final Version Due
DESCRIPTION:European Conference on Parallel Processing
URL:http://www.wikicfp.com/cfp/servlet/event.showcfp?eventid=26385&copyow
 nerid=45263
UID:cfp319254-N@wikicfp.com
END:VEVENT
BEGIN:VEVENT
DTSTAMP:20260421T130434Z
DTSTART;VALUE=DATE:20130701
DTEND;VALUE=DATE:20130706
SUMMARY:ECSA 2013
DESCRIPTION:7th European Conference on Software Architecture 2013
URL:http://www.wikicfp.com/cfp/servlet/event.showcfp?eventid=25256&copyow
 nerid=45263
UID:cfp322193-E@wikicfp.com
END:VEVENT
BEGIN:VEVENT
DTSTAMP:20260421T130434Z
DTSTART;VALUE=DATE:20130224
SUMMARY:ECSA 2013 Abstract Due
DESCRIPTION:7th European Conference on Software Architecture 2013
URL:http://www.wikicfp.com/cfp/servlet/event.showcfp?eventid=25256&copyow
 nerid=45263
UID:cfp322193-A@wikicfp.com
END:VEVENT
BEGIN:VEVENT
DTSTAMP:20260421T130434Z
DTSTART;VALUE=DATE:20130303
SUMMARY:ECSA 2013 Deadline
DESCRIPTION:7th European Conference on Software Architecture 2013
URL:http://www.wikicfp.com/cfp/servlet/event.showcfp?eventid=25256&copyow
 nerid=45263
UID:cfp322193-D@wikicfp.com
END:VEVENT
BEGIN:VEVENT
DTSTAMP:20260421T130434Z
DTSTART;VALUE=DATE:20130406
SUMMARY:ECSA 2013 Notification Due
DESCRIPTION:7th European Conference on Software Architecture 2013
URL:http://www.wikicfp.com/cfp/servlet/event.showcfp?eventid=25256&copyow
 nerid=45263
UID:cfp322193-N@wikicfp.com
END:VEVENT
BEGIN:VEVENT
DTSTAMP:20260421T130434Z
DTSTART;VALUE=DATE:20130419
SUMMARY:ECSA 2013 Final Version Due
DESCRIPTION:7th European Conference on Software Architecture 2013
URL:http://www.wikicfp.com/cfp/servlet/event.showcfp?eventid=25256&copyow
 nerid=45263
UID:cfp322193-N@wikicfp.com
END:VEVENT
BEGIN:VEVENT
DTSTAMP:20260421T130434Z
DTSTART;VALUE=DATE:20130625
DTEND;VALUE=DATE:20130627
SUMMARY:HotCloud 2013
DESCRIPTION:5th USENIX Workshop on Hot Topics in Cloud Computing
URL:http://www.wikicfp.com/cfp/servlet/event.showcfp?eventid=26503&copyow
 nerid=45263
UID:cfp317204-E@wikicfp.com
END:VEVENT
BEGIN:VEVENT
DTSTAMP:20260421T130434Z
DTSTART;VALUE=DATE:20130307
SUMMARY:HotCloud 2013 Deadline
DESCRIPTION:5th USENIX Workshop on Hot Topics in Cloud Computing
URL:http://www.wikicfp.com/cfp/servlet/event.showcfp?eventid=26503&copyow
 nerid=45263
UID:cfp317204-D@wikicfp.com
END:VEVENT
BEGIN:VEVENT
DTSTAMP:20260421T130434Z
DTSTART;VALUE=DATE:20130422
SUMMARY:HotCloud 2013 Notification Due
DESCRIPTION:5th USENIX Workshop on Hot Topics in Cloud Computing
URL:http://www.wikicfp.com/cfp/servlet/event.showcfp?eventid=26503&copyow
 nerid=45263
UID:cfp317204-N@wikicfp.com
END:VEVENT
BEGIN:VEVENT
DTSTAMP:20260421T130434Z
DTSTART;VALUE=DATE:20130516
SUMMARY:HotCloud 2013 Final Version Due
DESCRIPTION:5th USENIX Workshop on Hot Topics in Cloud Computing
URL:http://www.wikicfp.com/cfp/servlet/event.showcfp?eventid=26503&copyow
 nerid=45263
UID:cfp317204-N@wikicfp.com
END:VEVENT
BEGIN:VEVENT
DTSTAMP:20260421T130434Z
DTSTART;VALUE=DATE:20130627
DTEND;VALUE=DATE:20130629
SUMMARY:HotStorage 2013
DESCRIPTION:5th USENIX Workshop on Hot Topics in Storage and File Systems
 
URL:http://www.wikicfp.com/cfp/servlet/event.showcfp?eventid=26504&copyow
 nerid=45263
UID:cfp317206-E@wikicfp.com
END:VEVENT
BEGIN:VEVENT
DTSTAMP:20260421T130434Z
DTSTART;VALUE=DATE:20130311
SUMMARY:HotStorage 2013 Deadline
DESCRIPTION:5th USENIX Workshop on Hot Topics in Storage and File Systems
 
URL:http://www.wikicfp.com/cfp/servlet/event.showcfp?eventid=26504&copyow
 nerid=45263
UID:cfp317206-D@wikicfp.com
END:VEVENT
BEGIN:VEVENT
DTSTAMP:20260421T130434Z
DTSTART;VALUE=DATE:20130415
SUMMARY:HotStorage 2013 Notification Due
DESCRIPTION:5th USENIX Workshop on Hot Topics in Storage and File Systems
 
URL:http://www.wikicfp.com/cfp/servlet/event.showcfp?eventid=26504&copyow
 nerid=45263
UID:cfp317206-N@wikicfp.com
END:VEVENT
BEGIN:VEVENT
DTSTAMP:20260421T130434Z
DTSTART;VALUE=DATE:20130514
SUMMARY:HotStorage 2013 Final Version Due
DESCRIPTION:5th USENIX Workshop on Hot Topics in Storage and File Systems
 
URL:http://www.wikicfp.com/cfp/servlet/event.showcfp?eventid=26504&copyow
 nerid=45263
UID:cfp317206-N@wikicfp.com
END:VEVENT
BEGIN:VEVENT
DTSTAMP:20260421T130434Z
DTSTART;VALUE=DATE:20131103
DTEND;VALUE=DATE:20131107
SUMMARY:SOSP 2013
DESCRIPTION:24th ACM Symposium on Operating Systems Principles
URL:http://www.wikicfp.com/cfp/servlet/event.showcfp?eventid=25571&copyow
 nerid=45263
UID:cfp319258-E@wikicfp.com
END:VEVENT
BEGIN:VEVENT
DTSTAMP:20260421T130434Z
DTSTART;VALUE=DATE:20130321
SUMMARY:SOSP 2013 Abstract Due
DESCRIPTION:24th ACM Symposium on Operating Systems Principles
URL:http://www.wikicfp.com/cfp/servlet/event.showcfp?eventid=25571&copyow
 nerid=45263
UID:cfp319258-A@wikicfp.com
END:VEVENT
BEGIN:VEVENT
DTSTAMP:20260421T130434Z
DTSTART;VALUE=DATE:20130328
SUMMARY:SOSP 2013 Deadline
DESCRIPTION:24th ACM Symposium on Operating Systems Principles
URL:http://www.wikicfp.com/cfp/servlet/event.showcfp?eventid=25571&copyow
 nerid=45263
UID:cfp319258-D@wikicfp.com
END:VEVENT
BEGIN:VEVENT
DTSTAMP:20260421T130434Z
DTSTART;VALUE=DATE:20130701
SUMMARY:SOSP 2013 Notification Due
DESCRIPTION:24th ACM Symposium on Operating Systems Principles
URL:http://www.wikicfp.com/cfp/servlet/event.showcfp?eventid=25571&copyow
 nerid=45263
UID:cfp319258-N@wikicfp.com
END:VEVENT
BEGIN:VEVENT
DTSTAMP:20260421T130434Z
DTSTART;VALUE=DATE:20130823
SUMMARY:SOSP 2013 Final Version Due
DESCRIPTION:24th ACM Symposium on Operating Systems Principles
URL:http://www.wikicfp.com/cfp/servlet/event.showcfp?eventid=25571&copyow
 nerid=45263
UID:cfp319258-N@wikicfp.com
END:VEVENT
BEGIN:VEVENT
DTSTAMP:20260421T130434Z
DTSTART;VALUE=DATE:20130930
DTEND;VALUE=DATE:20131003
SUMMARY:CGC 2013
DESCRIPTION:International Conference on Cloud and Green Computing
URL:http://www.wikicfp.com/cfp/servlet/event.showcfp?eventid=26647&copyow
 nerid=45263
UID:cfp317207-E@wikicfp.com
END:VEVENT
BEGIN:VEVENT
DTSTAMP:20260421T130434Z
DTSTART;VALUE=DATE:20130615
SUMMARY:CGC 2013 Deadline
DESCRIPTION:International Conference on Cloud and Green Computing
URL:http://www.wikicfp.com/cfp/servlet/event.showcfp?eventid=26647&copyow
 nerid=45263
UID:cfp317207-D@wikicfp.com
END:VEVENT
BEGIN:VEVENT
DTSTAMP:20260421T130434Z
DTSTART;VALUE=DATE:20130710
SUMMARY:CGC 2013 Notification Due
DESCRIPTION:International Conference on Cloud and Green Computing
URL:http://www.wikicfp.com/cfp/servlet/event.showcfp?eventid=26647&copyow
 nerid=45263
UID:cfp317207-N@wikicfp.com
END:VEVENT
BEGIN:VEVENT
DTSTAMP:20260421T130434Z
DTSTART;VALUE=DATE:20130812
SUMMARY:CGC 2013 Final Version Due
DESCRIPTION:International Conference on Cloud and Green Computing
URL:http://www.wikicfp.com/cfp/servlet/event.showcfp?eventid=26647&copyow
 nerid=45263
UID:cfp317207-N@wikicfp.com
END:VEVENT
END:VCALENDAR
