BEGIN:VCALENDAR
PRODID:-//WikiCFP//mmsd 1.0//EN
VERSION:2.0
CALSCALE:GREGORIAN
BEGIN:VEVENT
DTSTAMP:20260420T053729Z
DTSTART;VALUE=DATE:20130610
DTEND;VALUE=DATE:20130615
SUMMARY:Ada-Europe 2013
DESCRIPTION:18th International Conference on Reliable Software Technologi
 es
URL:http://www.wikicfp.com/cfp/servlet/event.showcfp?eventid=26017&copyow
 nerid=45057
UID:cfp315491-E@wikicfp.com
END:VEVENT
BEGIN:VEVENT
DTSTAMP:20260420T053729Z
DTSTART;VALUE=DATE:20121203
SUMMARY:Ada-Europe 2013 Deadline
DESCRIPTION:18th International Conference on Reliable Software Technologi
 es
URL:http://www.wikicfp.com/cfp/servlet/event.showcfp?eventid=26017&copyow
 nerid=45057
UID:cfp315491-D@wikicfp.com
END:VEVENT
BEGIN:VEVENT
DTSTAMP:20260420T053729Z
DTSTART;VALUE=DATE:20130211
SUMMARY:Ada-Europe 2013 Notification Due
DESCRIPTION:18th International Conference on Reliable Software Technologi
 es
URL:http://www.wikicfp.com/cfp/servlet/event.showcfp?eventid=26017&copyow
 nerid=45057
UID:cfp315491-N@wikicfp.com
END:VEVENT
BEGIN:VEVENT
DTSTAMP:20260420T053729Z
DTSTART;VALUE=DATE:20130310
SUMMARY:Ada-Europe 2013 Final Version Due
DESCRIPTION:18th International Conference on Reliable Software Technologi
 es
URL:http://www.wikicfp.com/cfp/servlet/event.showcfp?eventid=26017&copyow
 nerid=45057
UID:cfp315491-N@wikicfp.com
END:VEVENT
BEGIN:VEVENT
DTSTAMP:20260420T053729Z
DTSTART;VALUE=DATE:20130323
DTEND;VALUE=DATE:20130324
SUMMARY:FESCA 2013
DESCRIPTION:10th International Workshop on Formal Engineering approaches 
 to Software Components and Architectures
URL:http://www.wikicfp.com/cfp/servlet/event.showcfp?eventid=26204&copyow
 nerid=45057
UID:cfp315493-E@wikicfp.com
END:VEVENT
BEGIN:VEVENT
DTSTAMP:20260420T053729Z
DTSTART;VALUE=DATE:20121205
SUMMARY:FESCA 2013 Abstract Due
DESCRIPTION:10th International Workshop on Formal Engineering approaches 
 to Software Components and Architectures
URL:http://www.wikicfp.com/cfp/servlet/event.showcfp?eventid=26204&copyow
 nerid=45057
UID:cfp315493-A@wikicfp.com
END:VEVENT
BEGIN:VEVENT
DTSTAMP:20260420T053729Z
DTSTART;VALUE=DATE:20121212
SUMMARY:FESCA 2013 Deadline
DESCRIPTION:10th International Workshop on Formal Engineering approaches 
 to Software Components and Architectures
URL:http://www.wikicfp.com/cfp/servlet/event.showcfp?eventid=26204&copyow
 nerid=45057
UID:cfp315493-D@wikicfp.com
END:VEVENT
BEGIN:VEVENT
DTSTAMP:20260420T053729Z
DTSTART;VALUE=DATE:20130125
SUMMARY:FESCA 2013 Notification Due
DESCRIPTION:10th International Workshop on Formal Engineering approaches 
 to Software Components and Architectures
URL:http://www.wikicfp.com/cfp/servlet/event.showcfp?eventid=26204&copyow
 nerid=45057
UID:cfp315493-N@wikicfp.com
END:VEVENT
BEGIN:VEVENT
DTSTAMP:20260420T053729Z
DTSTART;VALUE=DATE:20130208
SUMMARY:FESCA 2013 Final Version Due
DESCRIPTION:10th International Workshop on Formal Engineering approaches 
 to Software Components and Architectures
URL:http://www.wikicfp.com/cfp/servlet/event.showcfp?eventid=26204&copyow
 nerid=45057
UID:cfp315493-N@wikicfp.com
END:VEVENT
END:VCALENDAR
