BEGIN:VCALENDAR
PRODID:-//WikiCFP//boalonglong 1.0//EN
VERSION:2.0
CALSCALE:GREGORIAN
BEGIN:VEVENT
DTSTAMP:20260425T015131Z
DTSTART;VALUE=DATE:20130930
DTEND;VALUE=DATE:20131003
SUMMARY:MMSP 2013
DESCRIPTION:2013 IEEE International Workshop on Multimedia Signal Process
 ing
URL:http://www.wikicfp.com/cfp/servlet/event.showcfp?eventid=26920&copyow
 nerid=45050
UID:cfp315347-E@wikicfp.com
END:VEVENT
BEGIN:VEVENT
DTSTAMP:20260425T015131Z
DTSTART;VALUE=DATE:20130215
SUMMARY:MMSP 2013 Abstract Due
DESCRIPTION:2013 IEEE International Workshop on Multimedia Signal Process
 ing
URL:http://www.wikicfp.com/cfp/servlet/event.showcfp?eventid=26920&copyow
 nerid=45050
UID:cfp315347-A@wikicfp.com
END:VEVENT
BEGIN:VEVENT
DTSTAMP:20260425T015131Z
DTSTART;VALUE=DATE:20130401
SUMMARY:MMSP 2013 Deadline
DESCRIPTION:2013 IEEE International Workshop on Multimedia Signal Process
 ing
URL:http://www.wikicfp.com/cfp/servlet/event.showcfp?eventid=26920&copyow
 nerid=45050
UID:cfp315347-D@wikicfp.com
END:VEVENT
BEGIN:VEVENT
DTSTAMP:20260425T015131Z
DTSTART;VALUE=DATE:20130520
SUMMARY:MMSP 2013 Notification Due
DESCRIPTION:2013 IEEE International Workshop on Multimedia Signal Process
 ing
URL:http://www.wikicfp.com/cfp/servlet/event.showcfp?eventid=26920&copyow
 nerid=45050
UID:cfp315347-N@wikicfp.com
END:VEVENT
BEGIN:VEVENT
DTSTAMP:20260425T015131Z
DTSTART;VALUE=DATE:20130610
SUMMARY:MMSP 2013 Final Version Due
DESCRIPTION:2013 IEEE International Workshop on Multimedia Signal Process
 ing
URL:http://www.wikicfp.com/cfp/servlet/event.showcfp?eventid=26920&copyow
 nerid=45050
UID:cfp315347-N@wikicfp.com
END:VEVENT
BEGIN:VEVENT
DTSTAMP:20260425T015131Z
DTSTART;VALUE=DATE:20140504
DTEND;VALUE=DATE:20140510
SUMMARY:ICASSP 2014
DESCRIPTION:IEEE International Conference on Acoustics\, Speech and Signa
 l Processing
URL:http://www.wikicfp.com/cfp/servlet/event.showcfp?eventid=14048&copyow
 nerid=45050
UID:cfp315346-E@wikicfp.com
END:VEVENT
BEGIN:VEVENT
DTSTAMP:20260425T015131Z
DTSTART;VALUE=DATE:20131104
SUMMARY:ICASSP 2014 Deadline
DESCRIPTION:IEEE International Conference on Acoustics\, Speech and Signa
 l Processing
URL:http://www.wikicfp.com/cfp/servlet/event.showcfp?eventid=14048&copyow
 nerid=45050
UID:cfp315346-D@wikicfp.com
END:VEVENT
BEGIN:VEVENT
DTSTAMP:20260425T015131Z
DTSTART;VALUE=DATE:20140127
SUMMARY:ICASSP 2014 Notification Due
DESCRIPTION:IEEE International Conference on Acoustics\, Speech and Signa
 l Processing
URL:http://www.wikicfp.com/cfp/servlet/event.showcfp?eventid=14048&copyow
 nerid=45050
UID:cfp315346-N@wikicfp.com
END:VEVENT
BEGIN:VEVENT
DTSTAMP:20260425T015131Z
DTSTART;VALUE=DATE:20140307
SUMMARY:ICASSP 2014 Final Version Due
DESCRIPTION:IEEE International Conference on Acoustics\, Speech and Signa
 l Processing
URL:http://www.wikicfp.com/cfp/servlet/event.showcfp?eventid=14048&copyow
 nerid=45050
UID:cfp315346-N@wikicfp.com
END:VEVENT
END:VCALENDAR
