BEGIN:VCALENDAR
PRODID:-//WikiCFP//leotizzei 1.0//EN
VERSION:2.0
CALSCALE:GREGORIAN
BEGIN:VEVENT
DTSTAMP:20260422T181300Z
DTSTART;VALUE=DATE:20140513
DTEND;VALUE=DATE:20140515
SUMMARY:EASE 2014
DESCRIPTION:International Conference on Evaluation and Assessment in Soft
 ware Engineering
URL:http://www.wikicfp.com/cfp/servlet/event.showcfp?eventid=35465&copyow
 nerid=45027
UID:cfp481018-E@wikicfp.com
END:VEVENT
BEGIN:VEVENT
DTSTAMP:20260422T181300Z
DTSTART;VALUE=DATE:20140126
SUMMARY:EASE 2014 Deadline
DESCRIPTION:International Conference on Evaluation and Assessment in Soft
 ware Engineering
URL:http://www.wikicfp.com/cfp/servlet/event.showcfp?eventid=35465&copyow
 nerid=45027
UID:cfp481018-D@wikicfp.com
END:VEVENT
BEGIN:VEVENT
DTSTAMP:20260422T181300Z
DTSTART;VALUE=DATE:20150504
DTEND;VALUE=DATE:20150509
SUMMARY:WICSA 2015
DESCRIPTION:Working IEEE/IFIP Conference on Software Architecture
URL:http://www.wikicfp.com/cfp/servlet/event.showcfp?eventid=39026&copyow
 nerid=45027
UID:cfp473084-E@wikicfp.com
END:VEVENT
BEGIN:VEVENT
DTSTAMP:20260422T181300Z
DTSTART;VALUE=DATE:20140106
SUMMARY:WICSA 2015 Abstract Due
DESCRIPTION:Working IEEE/IFIP Conference on Software Architecture
URL:http://www.wikicfp.com/cfp/servlet/event.showcfp?eventid=39026&copyow
 nerid=45027
UID:cfp473084-A@wikicfp.com
END:VEVENT
BEGIN:VEVENT
DTSTAMP:20260422T181300Z
DTSTART;VALUE=DATE:20150115
SUMMARY:WICSA 2015 Deadline
DESCRIPTION:Working IEEE/IFIP Conference on Software Architecture
URL:http://www.wikicfp.com/cfp/servlet/event.showcfp?eventid=39026&copyow
 nerid=45027
UID:cfp473084-D@wikicfp.com
END:VEVENT
BEGIN:VEVENT
DTSTAMP:20260422T181300Z
DTSTART;VALUE=DATE:20150212
SUMMARY:WICSA 2015 Notification Due
DESCRIPTION:Working IEEE/IFIP Conference on Software Architecture
URL:http://www.wikicfp.com/cfp/servlet/event.showcfp?eventid=39026&copyow
 nerid=45027
UID:cfp473084-N@wikicfp.com
END:VEVENT
BEGIN:VEVENT
DTSTAMP:20260422T181300Z
DTSTART;VALUE=DATE:20150303
SUMMARY:WICSA 2015 Final Version Due
DESCRIPTION:Working IEEE/IFIP Conference on Software Architecture
URL:http://www.wikicfp.com/cfp/servlet/event.showcfp?eventid=39026&copyow
 nerid=45027
UID:cfp473084-N@wikicfp.com
END:VEVENT
BEGIN:VEVENT
DTSTAMP:20260422T181300Z
DTSTART;VALUE=DATE:20150518
DTEND;VALUE=DATE:20150520
SUMMARY:SEAMS 2015
DESCRIPTION:10th International Symposium on Software Engineering for Adap
 tive and Self-Managing Systems
URL:http://www.wikicfp.com/cfp/servlet/event.showcfp?eventid=39801&copyow
 nerid=45027
UID:cfp483595-E@wikicfp.com
END:VEVENT
BEGIN:VEVENT
DTSTAMP:20260422T181300Z
DTSTART;VALUE=DATE:20150109
SUMMARY:SEAMS 2015 Abstract Due
DESCRIPTION:10th International Symposium on Software Engineering for Adap
 tive and Self-Managing Systems
URL:http://www.wikicfp.com/cfp/servlet/event.showcfp?eventid=39801&copyow
 nerid=45027
UID:cfp483595-A@wikicfp.com
END:VEVENT
BEGIN:VEVENT
DTSTAMP:20260422T181300Z
DTSTART;VALUE=DATE:20150116
SUMMARY:SEAMS 2015 Deadline
DESCRIPTION:10th International Symposium on Software Engineering for Adap
 tive and Self-Managing Systems
URL:http://www.wikicfp.com/cfp/servlet/event.showcfp?eventid=39801&copyow
 nerid=45027
UID:cfp483595-D@wikicfp.com
END:VEVENT
BEGIN:VEVENT
DTSTAMP:20260422T181300Z
DTSTART;VALUE=DATE:20150218
SUMMARY:SEAMS 2015 Notification Due
DESCRIPTION:10th International Symposium on Software Engineering for Adap
 tive and Self-Managing Systems
URL:http://www.wikicfp.com/cfp/servlet/event.showcfp?eventid=39801&copyow
 nerid=45027
UID:cfp483595-N@wikicfp.com
END:VEVENT
BEGIN:VEVENT
DTSTAMP:20260422T181300Z
DTSTART;VALUE=DATE:20150227
SUMMARY:SEAMS 2015 Final Version Due
DESCRIPTION:10th International Symposium on Software Engineering for Adap
 tive and Self-Managing Systems
URL:http://www.wikicfp.com/cfp/servlet/event.showcfp?eventid=39801&copyow
 nerid=45027
UID:cfp483595-N@wikicfp.com
END:VEVENT
BEGIN:VEVENT
DTSTAMP:20260422T181300Z
DTSTART;VALUE=DATE:20150831
DTEND;VALUE=DATE:20150905
SUMMARY:FSE 2015
DESCRIPTION:Foundations of Software Engineering
URL:http://www.wikicfp.com/cfp/servlet/event.showcfp?eventid=39506&copyow
 nerid=45027
UID:cfp481001-E@wikicfp.com
END:VEVENT
BEGIN:VEVENT
DTSTAMP:20260422T181300Z
DTSTART;VALUE=DATE:20150316
SUMMARY:FSE 2015 Deadline
DESCRIPTION:Foundations of Software Engineering
URL:http://www.wikicfp.com/cfp/servlet/event.showcfp?eventid=39506&copyow
 nerid=45027
UID:cfp481001-D@wikicfp.com
END:VEVENT
BEGIN:VEVENT
DTSTAMP:20260422T181300Z
DTSTART;VALUE=DATE:20150929
DTEND;VALUE=DATE:20151002
SUMMARY:ICSME 2015
DESCRIPTION:31st International Conference on Software Maintenance and Evo
 lution ICSME 2015
URL:http://www.wikicfp.com/cfp/servlet/event.showcfp?eventid=41476&copyow
 nerid=45027
UID:cfp504487-E@wikicfp.com
END:VEVENT
BEGIN:VEVENT
DTSTAMP:20260422T181300Z
DTSTART;VALUE=DATE:20150327
SUMMARY:ICSME 2015 Abstract Due
DESCRIPTION:31st International Conference on Software Maintenance and Evo
 lution ICSME 2015
URL:http://www.wikicfp.com/cfp/servlet/event.showcfp?eventid=41476&copyow
 nerid=45027
UID:cfp504487-A@wikicfp.com
END:VEVENT
BEGIN:VEVENT
DTSTAMP:20260422T181300Z
DTSTART;VALUE=DATE:20150401
SUMMARY:ICSME 2015 Deadline
DESCRIPTION:31st International Conference on Software Maintenance and Evo
 lution ICSME 2015
URL:http://www.wikicfp.com/cfp/servlet/event.showcfp?eventid=41476&copyow
 nerid=45027
UID:cfp504487-D@wikicfp.com
END:VEVENT
BEGIN:VEVENT
DTSTAMP:20260422T181300Z
DTSTART;VALUE=DATE:20150515
SUMMARY:ICSME 2015 Notification Due
DESCRIPTION:31st International Conference on Software Maintenance and Evo
 lution ICSME 2015
URL:http://www.wikicfp.com/cfp/servlet/event.showcfp?eventid=41476&copyow
 nerid=45027
UID:cfp504487-N@wikicfp.com
END:VEVENT
BEGIN:VEVENT
DTSTAMP:20260422T181300Z
DTSTART;VALUE=DATE:20151207
DTEND;VALUE=DATE:20151211
SUMMARY:UCC  2015
DESCRIPTION:IEEE/ACM International Conference on Utility and Cloud Comput
 ing
URL:http://www.wikicfp.com/cfp/servlet/event.showcfp?eventid=43334&copyow
 nerid=45027
UID:cfp502743-E@wikicfp.com
END:VEVENT
BEGIN:VEVENT
DTSTAMP:20260422T181300Z
DTSTART;VALUE=DATE:20150703
SUMMARY:UCC  2015 Deadline
DESCRIPTION:IEEE/ACM International Conference on Utility and Cloud Comput
 ing
URL:http://www.wikicfp.com/cfp/servlet/event.showcfp?eventid=43334&copyow
 nerid=45027
UID:cfp502743-D@wikicfp.com
END:VEVENT
BEGIN:VEVENT
DTSTAMP:20260422T181300Z
DTSTART;VALUE=DATE:20150821
SUMMARY:UCC  2015 Notification Due
DESCRIPTION:IEEE/ACM International Conference on Utility and Cloud Comput
 ing
URL:http://www.wikicfp.com/cfp/servlet/event.showcfp?eventid=43334&copyow
 nerid=45027
UID:cfp502743-N@wikicfp.com
END:VEVENT
BEGIN:VEVENT
DTSTAMP:20260422T181300Z
DTSTART;VALUE=DATE:20160919
DTEND;VALUE=DATE:20160924
SUMMARY:SPLC 2016
DESCRIPTION:International Systems and Software Product Line Conference
URL:http://www.wikicfp.com/cfp/servlet/event.showcfp?eventid=49791&copyow
 nerid=45027
UID:cfp576132-E@wikicfp.com
END:VEVENT
BEGIN:VEVENT
DTSTAMP:20260422T181300Z
DTSTART;VALUE=DATE:20160516
SUMMARY:SPLC 2016 Deadline
DESCRIPTION:International Systems and Software Product Line Conference
URL:http://www.wikicfp.com/cfp/servlet/event.showcfp?eventid=49791&copyow
 nerid=45027
UID:cfp576132-D@wikicfp.com
END:VEVENT
BEGIN:VEVENT
DTSTAMP:20260422T181300Z
DTSTART;VALUE=DATE:20160613
SUMMARY:SPLC 2016 Notification Due
DESCRIPTION:International Systems and Software Product Line Conference
URL:http://www.wikicfp.com/cfp/servlet/event.showcfp?eventid=49791&copyow
 nerid=45027
UID:cfp576132-N@wikicfp.com
END:VEVENT
BEGIN:VEVENT
DTSTAMP:20260422T181300Z
DTSTART;VALUE=DATE:20160711
SUMMARY:SPLC 2016 Final Version Due
DESCRIPTION:International Systems and Software Product Line Conference
URL:http://www.wikicfp.com/cfp/servlet/event.showcfp?eventid=49791&copyow
 nerid=45027
UID:cfp576132-N@wikicfp.com
END:VEVENT
BEGIN:VEVENT
DTSTAMP:20260422T181300Z
DTSTART;VALUE=DATE:20170521
DTEND;VALUE=DATE:20170522
SUMMARY:SER&IP  2017
DESCRIPTION:Fourth International Workshop on Software Engineering Researc
 h and Industrial Practice (SER&IP 2017)
URL:http://www.wikicfp.com/cfp/servlet/event.showcfp?eventid=59180&copyow
 nerid=45027
UID:cfp646743-E@wikicfp.com
END:VEVENT
BEGIN:VEVENT
DTSTAMP:20260422T181300Z
DTSTART;VALUE=DATE:20170120
SUMMARY:SER&IP  2017 Deadline
DESCRIPTION:Fourth International Workshop on Software Engineering Researc
 h and Industrial Practice (SER&IP 2017)
URL:http://www.wikicfp.com/cfp/servlet/event.showcfp?eventid=59180&copyow
 nerid=45027
UID:cfp646743-D@wikicfp.com
END:VEVENT
BEGIN:VEVENT
DTSTAMP:20260422T181300Z
DTSTART;VALUE=DATE:20170217
SUMMARY:SER&IP  2017 Notification Due
DESCRIPTION:Fourth International Workshop on Software Engineering Researc
 h and Industrial Practice (SER&IP 2017)
URL:http://www.wikicfp.com/cfp/servlet/event.showcfp?eventid=59180&copyow
 nerid=45027
UID:cfp646743-N@wikicfp.com
END:VEVENT
BEGIN:VEVENT
DTSTAMP:20260422T181300Z
DTSTART;VALUE=DATE:20170127
SUMMARY:SER&IP  2017 Final Version Due
DESCRIPTION:Fourth International Workshop on Software Engineering Researc
 h and Industrial Practice (SER&IP 2017)
URL:http://www.wikicfp.com/cfp/servlet/event.showcfp?eventid=59180&copyow
 nerid=45027
UID:cfp646743-N@wikicfp.com
END:VEVENT
BEGIN:VEVENT
DTSTAMP:20260422T181300Z
DTSTART;VALUE=DATE:20170911
DTEND;VALUE=DATE:20170916
SUMMARY:ECSA 2017
DESCRIPTION:11th European Conference on Software Architecture
URL:http://www.wikicfp.com/cfp/servlet/event.showcfp?eventid=59071&copyow
 nerid=45027
UID:cfp646744-E@wikicfp.com
END:VEVENT
BEGIN:VEVENT
DTSTAMP:20260422T181300Z
DTSTART;VALUE=DATE:20170410
SUMMARY:ECSA 2017 Abstract Due
DESCRIPTION:11th European Conference on Software Architecture
URL:http://www.wikicfp.com/cfp/servlet/event.showcfp?eventid=59071&copyow
 nerid=45027
UID:cfp646744-A@wikicfp.com
END:VEVENT
BEGIN:VEVENT
DTSTAMP:20260422T181300Z
DTSTART;VALUE=DATE:20170417
SUMMARY:ECSA 2017 Deadline
DESCRIPTION:11th European Conference on Software Architecture
URL:http://www.wikicfp.com/cfp/servlet/event.showcfp?eventid=59071&copyow
 nerid=45027
UID:cfp646744-D@wikicfp.com
END:VEVENT
BEGIN:VEVENT
DTSTAMP:20260422T181300Z
DTSTART;VALUE=DATE:20170609
SUMMARY:ECSA 2017 Notification Due
DESCRIPTION:11th European Conference on Software Architecture
URL:http://www.wikicfp.com/cfp/servlet/event.showcfp?eventid=59071&copyow
 nerid=45027
UID:cfp646744-N@wikicfp.com
END:VEVENT
BEGIN:VEVENT
DTSTAMP:20260422T181300Z
DTSTART;VALUE=DATE:20170626
SUMMARY:ECSA 2017 Final Version Due
DESCRIPTION:11th European Conference on Software Architecture
URL:http://www.wikicfp.com/cfp/servlet/event.showcfp?eventid=59071&copyow
 nerid=45027
UID:cfp646744-N@wikicfp.com
END:VEVENT
END:VCALENDAR
