BEGIN:VCALENDAR
PRODID:-//WikiCFP//xander 1.0//EN
VERSION:2.0
CALSCALE:GREGORIAN
BEGIN:VEVENT
DTSTAMP:20260421T105836Z
DTSTART;VALUE=DATE:20130606
DTEND;VALUE=DATE:20130609
SUMMARY:ECIS 2013
DESCRIPTION:21st European Conference on Information Systems
URL:http://www.wikicfp.com/cfp/servlet/event.showcfp?eventid=22495&copyow
 nerid=44734
UID:cfp313212-E@wikicfp.com
END:VEVENT
BEGIN:VEVENT
DTSTAMP:20260421T105836Z
DTSTART;VALUE=DATE:20121207
SUMMARY:ECIS 2013 Deadline
DESCRIPTION:21st European Conference on Information Systems
URL:http://www.wikicfp.com/cfp/servlet/event.showcfp?eventid=22495&copyow
 nerid=44734
UID:cfp313212-D@wikicfp.com
END:VEVENT
BEGIN:VEVENT
DTSTAMP:20260421T105836Z
DTSTART;VALUE=DATE:20130228
SUMMARY:ECIS 2013 Notification Due
DESCRIPTION:21st European Conference on Information Systems
URL:http://www.wikicfp.com/cfp/servlet/event.showcfp?eventid=22495&copyow
 nerid=44734
UID:cfp313212-N@wikicfp.com
END:VEVENT
BEGIN:VEVENT
DTSTAMP:20260421T105836Z
DTSTART;VALUE=DATE:20130617
DTEND;VALUE=DATE:20130622
SUMMARY:CAISE 2013
DESCRIPTION:25th International Conference on Advanced Information Systems
  Engineering (CAiSE'13)
URL:http://www.wikicfp.com/cfp/servlet/event.showcfp?eventid=25195&copyow
 nerid=44734
UID:cfp313230-E@wikicfp.com
END:VEVENT
BEGIN:VEVENT
DTSTAMP:20260421T105836Z
DTSTART;VALUE=DATE:20121207
SUMMARY:CAISE 2013 Deadline
DESCRIPTION:25th International Conference on Advanced Information Systems
  Engineering (CAiSE'13)
URL:http://www.wikicfp.com/cfp/servlet/event.showcfp?eventid=25195&copyow
 nerid=44734
UID:cfp313230-D@wikicfp.com
END:VEVENT
BEGIN:VEVENT
DTSTAMP:20260421T105836Z
DTSTART;VALUE=DATE:20130217
SUMMARY:CAISE 2013 Notification Due
DESCRIPTION:25th International Conference on Advanced Information Systems
  Engineering (CAiSE'13)
URL:http://www.wikicfp.com/cfp/servlet/event.showcfp?eventid=25195&copyow
 nerid=44734
UID:cfp313230-N@wikicfp.com
END:VEVENT
BEGIN:VEVENT
DTSTAMP:20260421T105836Z
DTSTART;VALUE=DATE:20130715
DTEND;VALUE=DATE:20130720
SUMMARY:RE 2013
DESCRIPTION:IEEE International Conference on Requirements Engineering
URL:http://www.wikicfp.com/cfp/servlet/event.showcfp?eventid=25919&copyow
 nerid=44734
UID:cfp313644-E@wikicfp.com
END:VEVENT
BEGIN:VEVENT
DTSTAMP:20260421T105836Z
DTSTART;VALUE=DATE:20130121
SUMMARY:RE 2013 Abstract Due
DESCRIPTION:IEEE International Conference on Requirements Engineering
URL:http://www.wikicfp.com/cfp/servlet/event.showcfp?eventid=25919&copyow
 nerid=44734
UID:cfp313644-A@wikicfp.com
END:VEVENT
BEGIN:VEVENT
DTSTAMP:20260421T105836Z
DTSTART;VALUE=DATE:20130128
SUMMARY:RE 2013 Deadline
DESCRIPTION:IEEE International Conference on Requirements Engineering
URL:http://www.wikicfp.com/cfp/servlet/event.showcfp?eventid=25919&copyow
 nerid=44734
UID:cfp313644-D@wikicfp.com
END:VEVENT
BEGIN:VEVENT
DTSTAMP:20260421T105836Z
DTSTART;VALUE=DATE:20130322
SUMMARY:RE 2013 Notification Due
DESCRIPTION:IEEE International Conference on Requirements Engineering
URL:http://www.wikicfp.com/cfp/servlet/event.showcfp?eventid=25919&copyow
 nerid=44734
UID:cfp313644-N@wikicfp.com
END:VEVENT
BEGIN:VEVENT
DTSTAMP:20260421T105836Z
DTSTART;VALUE=DATE:20130415
SUMMARY:RE 2013 Final Version Due
DESCRIPTION:IEEE International Conference on Requirements Engineering
URL:http://www.wikicfp.com/cfp/servlet/event.showcfp?eventid=25919&copyow
 nerid=44734
UID:cfp313644-N@wikicfp.com
END:VEVENT
BEGIN:VEVENT
DTSTAMP:20260421T105836Z
DTSTART;VALUE=DATE:20130703
DTEND;VALUE=DATE:20130708
SUMMARY:ENASE 2013
DESCRIPTION:Evaluation of Novel Approaches to Software Engineering
URL:http://www.wikicfp.com/cfp/servlet/event.showcfp?eventid=26995&copyow
 nerid=44734
UID:cfp313233-E@wikicfp.com
END:VEVENT
BEGIN:VEVENT
DTSTAMP:20260421T105836Z
DTSTART;VALUE=DATE:20130130
SUMMARY:ENASE 2013 Deadline
DESCRIPTION:Evaluation of Novel Approaches to Software Engineering
URL:http://www.wikicfp.com/cfp/servlet/event.showcfp?eventid=26995&copyow
 nerid=44734
UID:cfp313233-D@wikicfp.com
END:VEVENT
BEGIN:VEVENT
DTSTAMP:20260421T105836Z
DTSTART;VALUE=DATE:20130328
SUMMARY:ENASE 2013 Notification Due
DESCRIPTION:Evaluation of Novel Approaches to Software Engineering
URL:http://www.wikicfp.com/cfp/servlet/event.showcfp?eventid=26995&copyow
 nerid=44734
UID:cfp313233-N@wikicfp.com
END:VEVENT
BEGIN:VEVENT
DTSTAMP:20260421T105836Z
DTSTART;VALUE=DATE:20130411
SUMMARY:ENASE 2013 Final Version Due
DESCRIPTION:Evaluation of Novel Approaches to Software Engineering
URL:http://www.wikicfp.com/cfp/servlet/event.showcfp?eventid=26995&copyow
 nerid=44734
UID:cfp313233-N@wikicfp.com
END:VEVENT
BEGIN:VEVENT
DTSTAMP:20260421T105836Z
DTSTART;VALUE=DATE:20130618
DTEND;VALUE=DATE:20130623
SUMMARY:PACIS 2013
DESCRIPTION:Pacific Asia Conference on Information Systems
URL:http://www.wikicfp.com/cfp/servlet/event.showcfp?eventid=26993&copyow
 nerid=44734
UID:cfp313222-E@wikicfp.com
END:VEVENT
BEGIN:VEVENT
DTSTAMP:20260421T105836Z
DTSTART;VALUE=DATE:20130201
SUMMARY:PACIS 2013 Deadline
DESCRIPTION:Pacific Asia Conference on Information Systems
URL:http://www.wikicfp.com/cfp/servlet/event.showcfp?eventid=26993&copyow
 nerid=44734
UID:cfp313222-D@wikicfp.com
END:VEVENT
BEGIN:VEVENT
DTSTAMP:20260421T105836Z
DTSTART;VALUE=DATE:20130401
SUMMARY:PACIS 2013 Notification Due
DESCRIPTION:Pacific Asia Conference on Information Systems
URL:http://www.wikicfp.com/cfp/servlet/event.showcfp?eventid=26993&copyow
 nerid=44734
UID:cfp313222-N@wikicfp.com
END:VEVENT
BEGIN:VEVENT
DTSTAMP:20260421T105836Z
DTSTART;VALUE=DATE:20130501
SUMMARY:PACIS 2013 Final Version Due
DESCRIPTION:Pacific Asia Conference on Information Systems
URL:http://www.wikicfp.com/cfp/servlet/event.showcfp?eventid=26993&copyow
 nerid=44734
UID:cfp313222-N@wikicfp.com
END:VEVENT
BEGIN:VEVENT
DTSTAMP:20260421T105836Z
DTSTART;VALUE=DATE:20130815
DTEND;VALUE=DATE:20130818
SUMMARY:AMCIS 2013
DESCRIPTION:Americas Conference on Information Systems
URL:http://www.wikicfp.com/cfp/servlet/event.showcfp?eventid=26994&copyow
 nerid=44734
UID:cfp313228-E@wikicfp.com
END:VEVENT
BEGIN:VEVENT
DTSTAMP:20260421T105836Z
DTSTART;VALUE=DATE:20130222
SUMMARY:AMCIS 2013 Deadline
DESCRIPTION:Americas Conference on Information Systems
URL:http://www.wikicfp.com/cfp/servlet/event.showcfp?eventid=26994&copyow
 nerid=44734
UID:cfp313228-D@wikicfp.com
END:VEVENT
BEGIN:VEVENT
DTSTAMP:20260421T105836Z
DTSTART;VALUE=DATE:20130422
SUMMARY:AMCIS 2013 Notification Due
DESCRIPTION:Americas Conference on Information Systems
URL:http://www.wikicfp.com/cfp/servlet/event.showcfp?eventid=26994&copyow
 nerid=44734
UID:cfp313228-N@wikicfp.com
END:VEVENT
BEGIN:VEVENT
DTSTAMP:20260421T105836Z
DTSTART;VALUE=DATE:20130509
SUMMARY:AMCIS 2013 Final Version Due
DESCRIPTION:Americas Conference on Information Systems
URL:http://www.wikicfp.com/cfp/servlet/event.showcfp?eventid=26994&copyow
 nerid=44734
UID:cfp313228-N@wikicfp.com
END:VEVENT
BEGIN:VEVENT
DTSTAMP:20260421T105836Z
DTSTART;VALUE=DATE:20130821
DTEND;VALUE=DATE:20130824
SUMMARY:FSE 2013
DESCRIPTION:9th joint meeting of the European Software Engineering Confer
 ence and the ACM SIGSOFT Symposium on the Foundations of Software Engine
 ering
URL:http://www.wikicfp.com/cfp/servlet/event.showcfp?eventid=24789&copyow
 nerid=44734
UID:cfp313210-E@wikicfp.com
END:VEVENT
BEGIN:VEVENT
DTSTAMP:20260421T105836Z
DTSTART;VALUE=DATE:20130301
SUMMARY:FSE 2013 Deadline
DESCRIPTION:9th joint meeting of the European Software Engineering Confer
 ence and the ACM SIGSOFT Symposium on the Foundations of Software Engine
 ering
URL:http://www.wikicfp.com/cfp/servlet/event.showcfp?eventid=24789&copyow
 nerid=44734
UID:cfp313210-D@wikicfp.com
END:VEVENT
BEGIN:VEVENT
DTSTAMP:20260421T105836Z
DTSTART;VALUE=DATE:20130526
SUMMARY:FSE 2013 Notification Due
DESCRIPTION:9th joint meeting of the European Software Engineering Confer
 ence and the ACM SIGSOFT Symposium on the Foundations of Software Engine
 ering
URL:http://www.wikicfp.com/cfp/servlet/event.showcfp?eventid=24789&copyow
 nerid=44734
UID:cfp313210-N@wikicfp.com
END:VEVENT
BEGIN:VEVENT
DTSTAMP:20260421T105836Z
DTSTART;VALUE=DATE:20131215
DTEND;VALUE=DATE:20131219
SUMMARY:ICIS 2013
DESCRIPTION:International Conference on Information Systems
URL:http://www.wikicfp.com/cfp/servlet/event.showcfp?eventid=26996&copyow
 nerid=44734
UID:cfp313244-E@wikicfp.com
END:VEVENT
BEGIN:VEVENT
DTSTAMP:20260421T105836Z
DTSTART;VALUE=DATE:20130503
SUMMARY:ICIS 2013 Deadline
DESCRIPTION:International Conference on Information Systems
URL:http://www.wikicfp.com/cfp/servlet/event.showcfp?eventid=26996&copyow
 nerid=44734
UID:cfp313244-D@wikicfp.com
END:VEVENT
END:VCALENDAR
