BEGIN:VCALENDAR
PRODID:-//WikiCFP//shzied 1.0//EN
VERSION:2.0
CALSCALE:GREGORIAN
BEGIN:VEVENT
DTSTAMP:20260424T192227Z
DTSTART;VALUE=DATE:20130616
DTEND;VALUE=DATE:20130620
SUMMARY:SPAWC 2013
DESCRIPTION:The 14th IEEE International Workshop on Signal Processing Adv
 ances for Wireless Communications
URL:http://www.wikicfp.com/cfp/servlet/event.showcfp?eventid=25592&copyow
 nerid=44506
UID:cfp339902-E@wikicfp.com
END:VEVENT
BEGIN:VEVENT
DTSTAMP:20260424T192227Z
DTSTART;VALUE=DATE:20130301
SUMMARY:SPAWC 2013 Deadline
DESCRIPTION:The 14th IEEE International Workshop on Signal Processing Adv
 ances for Wireless Communications
URL:http://www.wikicfp.com/cfp/servlet/event.showcfp?eventid=25592&copyow
 nerid=44506
UID:cfp339902-D@wikicfp.com
END:VEVENT
BEGIN:VEVENT
DTSTAMP:20260424T192227Z
DTSTART;VALUE=DATE:20130419
SUMMARY:SPAWC 2013 Notification Due
DESCRIPTION:The 14th IEEE International Workshop on Signal Processing Adv
 ances for Wireless Communications
URL:http://www.wikicfp.com/cfp/servlet/event.showcfp?eventid=25592&copyow
 nerid=44506
UID:cfp339902-N@wikicfp.com
END:VEVENT
BEGIN:VEVENT
DTSTAMP:20260424T192227Z
DTSTART;VALUE=DATE:20130506
SUMMARY:SPAWC 2013 Final Version Due
DESCRIPTION:The 14th IEEE International Workshop on Signal Processing Adv
 ances for Wireless Communications
URL:http://www.wikicfp.com/cfp/servlet/event.showcfp?eventid=25592&copyow
 nerid=44506
UID:cfp339902-N@wikicfp.com
END:VEVENT
BEGIN:VEVENT
DTSTAMP:20260424T192227Z
DTSTART;VALUE=DATE:20130509
DTEND;VALUE=DATE:20130512
SUMMARY:TAEECE 2013
DESCRIPTION:The International Conference on Technological Advances in Ele
 ctrical\, Electronics and Computer Engineering
URL:http://www.wikicfp.com/cfp/servlet/event.showcfp?eventid=25112&copyow
 nerid=44506
UID:cfp339586-E@wikicfp.com
END:VEVENT
BEGIN:VEVENT
DTSTAMP:20260424T192227Z
DTSTART;VALUE=DATE:20130430
SUMMARY:TAEECE 2013 Abstract Due
DESCRIPTION:The International Conference on Technological Advances in Ele
 ctrical\, Electronics and Computer Engineering
URL:http://www.wikicfp.com/cfp/servlet/event.showcfp?eventid=25112&copyow
 nerid=44506
UID:cfp339586-A@wikicfp.com
END:VEVENT
BEGIN:VEVENT
DTSTAMP:20260424T192227Z
DTSTART;VALUE=DATE:20130320
SUMMARY:TAEECE 2013 Deadline
DESCRIPTION:The International Conference on Technological Advances in Ele
 ctrical\, Electronics and Computer Engineering
URL:http://www.wikicfp.com/cfp/servlet/event.showcfp?eventid=25112&copyow
 nerid=44506
UID:cfp339586-D@wikicfp.com
END:VEVENT
BEGIN:VEVENT
DTSTAMP:20260424T192227Z
DTSTART;VALUE=DATE:20130410
SUMMARY:TAEECE 2013 Notification Due
DESCRIPTION:The International Conference on Technological Advances in Ele
 ctrical\, Electronics and Computer Engineering
URL:http://www.wikicfp.com/cfp/servlet/event.showcfp?eventid=25112&copyow
 nerid=44506
UID:cfp339586-N@wikicfp.com
END:VEVENT
BEGIN:VEVENT
DTSTAMP:20260424T192227Z
DTSTART;VALUE=DATE:20130430
SUMMARY:TAEECE 2013 Final Version Due
DESCRIPTION:The International Conference on Technological Advances in Ele
 ctrical\, Electronics and Computer Engineering
URL:http://www.wikicfp.com/cfp/servlet/event.showcfp?eventid=25112&copyow
 nerid=44506
UID:cfp339586-N@wikicfp.com
END:VEVENT
BEGIN:VEVENT
DTSTAMP:20260424T192227Z
DTSTART;VALUE=DATE:20130902
DTEND;VALUE=DATE:20130905
SUMMARY:FPL 2013
DESCRIPTION: 23rd international conference on field programmable logic an
 d applications 
URL:http://www.wikicfp.com/cfp/servlet/event.showcfp?eventid=26088&copyow
 nerid=44506
UID:cfp339901-E@wikicfp.com
END:VEVENT
BEGIN:VEVENT
DTSTAMP:20260424T192227Z
DTSTART;VALUE=DATE:20130322
SUMMARY:FPL 2013 Deadline
DESCRIPTION: 23rd international conference on field programmable logic an
 d applications 
URL:http://www.wikicfp.com/cfp/servlet/event.showcfp?eventid=26088&copyow
 nerid=44506
UID:cfp339901-D@wikicfp.com
END:VEVENT
BEGIN:VEVENT
DTSTAMP:20260424T192227Z
DTSTART;VALUE=DATE:20130528
SUMMARY:FPL 2013 Notification Due
DESCRIPTION: 23rd international conference on field programmable logic an
 d applications 
URL:http://www.wikicfp.com/cfp/servlet/event.showcfp?eventid=26088&copyow
 nerid=44506
UID:cfp339901-N@wikicfp.com
END:VEVENT
BEGIN:VEVENT
DTSTAMP:20260424T192227Z
DTSTART;VALUE=DATE:20130624
SUMMARY:FPL 2013 Final Version Due
DESCRIPTION: 23rd international conference on field programmable logic an
 d applications 
URL:http://www.wikicfp.com/cfp/servlet/event.showcfp?eventid=26088&copyow
 nerid=44506
UID:cfp339901-N@wikicfp.com
END:VEVENT
BEGIN:VEVENT
DTSTAMP:20260424T192227Z
DTSTART;VALUE=DATE:20131007
DTEND;VALUE=DATE:20131010
SUMMARY:VLSI-SoC 2013
DESCRIPTION:21st IFIP/IEEE International Conference on Very Large Scale I
 ntegration
URL:http://www.wikicfp.com/cfp/servlet/event.showcfp?eventid=29344&copyow
 nerid=44506
UID:cfp345452-E@wikicfp.com
END:VEVENT
BEGIN:VEVENT
DTSTAMP:20260424T192227Z
DTSTART;VALUE=DATE:20130417
SUMMARY:VLSI-SoC 2013 Deadline
DESCRIPTION:21st IFIP/IEEE International Conference on Very Large Scale I
 ntegration
URL:http://www.wikicfp.com/cfp/servlet/event.showcfp?eventid=29344&copyow
 nerid=44506
UID:cfp345452-D@wikicfp.com
END:VEVENT
BEGIN:VEVENT
DTSTAMP:20260424T192227Z
DTSTART;VALUE=DATE:20130614
SUMMARY:VLSI-SoC 2013 Notification Due
DESCRIPTION:21st IFIP/IEEE International Conference on Very Large Scale I
 ntegration
URL:http://www.wikicfp.com/cfp/servlet/event.showcfp?eventid=29344&copyow
 nerid=44506
UID:cfp345452-N@wikicfp.com
END:VEVENT
BEGIN:VEVENT
DTSTAMP:20260424T192227Z
DTSTART;VALUE=DATE:20130701
SUMMARY:VLSI-SoC 2013 Final Version Due
DESCRIPTION:21st IFIP/IEEE International Conference on Very Large Scale I
 ntegration
URL:http://www.wikicfp.com/cfp/servlet/event.showcfp?eventid=29344&copyow
 nerid=44506
UID:cfp345452-N@wikicfp.com
END:VEVENT
BEGIN:VEVENT
DTSTAMP:20260424T192227Z
DTSTART;VALUE=DATE:20131016
DTEND;VALUE=DATE:20131019
SUMMARY:SiPS 2013
DESCRIPTION:IEEE Workshop on Signal Processing Systems
URL:http://www.wikicfp.com/cfp/servlet/event.showcfp?eventid=29273&copyow
 nerid=44506
UID:cfp345451-E@wikicfp.com
END:VEVENT
BEGIN:VEVENT
DTSTAMP:20260424T192227Z
DTSTART;VALUE=DATE:20130419
SUMMARY:SiPS 2013 Deadline
DESCRIPTION:IEEE Workshop on Signal Processing Systems
URL:http://www.wikicfp.com/cfp/servlet/event.showcfp?eventid=29273&copyow
 nerid=44506
UID:cfp345451-D@wikicfp.com
END:VEVENT
BEGIN:VEVENT
DTSTAMP:20260424T192227Z
DTSTART;VALUE=DATE:20130628
SUMMARY:SiPS 2013 Notification Due
DESCRIPTION:IEEE Workshop on Signal Processing Systems
URL:http://www.wikicfp.com/cfp/servlet/event.showcfp?eventid=29273&copyow
 nerid=44506
UID:cfp345451-N@wikicfp.com
END:VEVENT
BEGIN:VEVENT
DTSTAMP:20260424T192227Z
DTSTART;VALUE=DATE:20130726
SUMMARY:SiPS 2013 Final Version Due
DESCRIPTION:IEEE Workshop on Signal Processing Systems
URL:http://www.wikicfp.com/cfp/servlet/event.showcfp?eventid=29273&copyow
 nerid=44506
UID:cfp345451-N@wikicfp.com
END:VEVENT
BEGIN:VEVENT
DTSTAMP:20260424T192227Z
DTSTART;VALUE=DATE:20131112
DTEND;VALUE=DATE:20131116
SUMMARY:ISPACS 2013
DESCRIPTION:International Symposium on Intelligent Signal Processing and 
 Communication Systems
URL:http://www.wikicfp.com/cfp/servlet/event.showcfp?eventid=29070&copyow
 nerid=44506
UID:cfp339900-E@wikicfp.com
END:VEVENT
BEGIN:VEVENT
DTSTAMP:20260424T192227Z
DTSTART;VALUE=DATE:20130614
SUMMARY:ISPACS 2013 Deadline
DESCRIPTION:International Symposium on Intelligent Signal Processing and 
 Communication Systems
URL:http://www.wikicfp.com/cfp/servlet/event.showcfp?eventid=29070&copyow
 nerid=44506
UID:cfp339900-D@wikicfp.com
END:VEVENT
BEGIN:VEVENT
DTSTAMP:20260424T192227Z
DTSTART;VALUE=DATE:20130823
SUMMARY:ISPACS 2013 Notification Due
DESCRIPTION:International Symposium on Intelligent Signal Processing and 
 Communication Systems
URL:http://www.wikicfp.com/cfp/servlet/event.showcfp?eventid=29070&copyow
 nerid=44506
UID:cfp339900-N@wikicfp.com
END:VEVENT
BEGIN:VEVENT
DTSTAMP:20260424T192227Z
DTSTART;VALUE=DATE:20130921
SUMMARY:ISPACS 2013 Final Version Due
DESCRIPTION:International Symposium on Intelligent Signal Processing and 
 Communication Systems
URL:http://www.wikicfp.com/cfp/servlet/event.showcfp?eventid=29070&copyow
 nerid=44506
UID:cfp339900-N@wikicfp.com
END:VEVENT
BEGIN:VEVENT
DTSTAMP:20260424T192227Z
DTSTART;VALUE=DATE:20130313
DTEND;VALUE=DATE:20130316
SUMMARY:iEECON 2013
DESCRIPTION:International Electrical Engineering Congress
URL:http://www.wikicfp.com/cfp/servlet/event.showcfp?eventid=25377&copyow
 nerid=44506
UID:cfp339903-E@wikicfp.com
END:VEVENT
BEGIN:VEVENT
DTSTAMP:20260424T192227Z
DTSTART;VALUE=DATE:20131007
SUMMARY:iEECON 2013 Deadline
DESCRIPTION:International Electrical Engineering Congress
URL:http://www.wikicfp.com/cfp/servlet/event.showcfp?eventid=25377&copyow
 nerid=44506
UID:cfp339903-D@wikicfp.com
END:VEVENT
BEGIN:VEVENT
DTSTAMP:20260424T192227Z
DTSTART;VALUE=DATE:20131115
SUMMARY:iEECON 2013 Notification Due
DESCRIPTION:International Electrical Engineering Congress
URL:http://www.wikicfp.com/cfp/servlet/event.showcfp?eventid=25377&copyow
 nerid=44506
UID:cfp339903-N@wikicfp.com
END:VEVENT
BEGIN:VEVENT
DTSTAMP:20260424T192227Z
DTSTART;VALUE=DATE:20131201
SUMMARY:iEECON 2013 Final Version Due
DESCRIPTION:International Electrical Engineering Congress
URL:http://www.wikicfp.com/cfp/servlet/event.showcfp?eventid=25377&copyow
 nerid=44506
UID:cfp339903-N@wikicfp.com
END:VEVENT
BEGIN:VEVENT
DTSTAMP:20260424T192227Z
DTSTART;VALUE=DATE:20150627
DTEND;VALUE=DATE:20150702
SUMMARY:SPAWC 2015
DESCRIPTION: 16th IEEE International Workshop on Signal Processing Advanc
 es in Wireless Communications
URL:http://www.wikicfp.com/cfp/servlet/event.showcfp?eventid=41068&copyow
 nerid=44506
UID:cfp485128-E@wikicfp.com
END:VEVENT
BEGIN:VEVENT
DTSTAMP:20260424T192227Z
DTSTART;VALUE=DATE:20150302
SUMMARY:SPAWC 2015 Deadline
DESCRIPTION: 16th IEEE International Workshop on Signal Processing Advanc
 es in Wireless Communications
URL:http://www.wikicfp.com/cfp/servlet/event.showcfp?eventid=41068&copyow
 nerid=44506
UID:cfp485128-D@wikicfp.com
END:VEVENT
BEGIN:VEVENT
DTSTAMP:20260424T192227Z
DTSTART;VALUE=DATE:20150420
SUMMARY:SPAWC 2015 Notification Due
DESCRIPTION: 16th IEEE International Workshop on Signal Processing Advanc
 es in Wireless Communications
URL:http://www.wikicfp.com/cfp/servlet/event.showcfp?eventid=41068&copyow
 nerid=44506
UID:cfp485128-N@wikicfp.com
END:VEVENT
BEGIN:VEVENT
DTSTAMP:20260424T192227Z
DTSTART;VALUE=DATE:20150510
SUMMARY:SPAWC 2015 Final Version Due
DESCRIPTION: 16th IEEE International Workshop on Signal Processing Advanc
 es in Wireless Communications
URL:http://www.wikicfp.com/cfp/servlet/event.showcfp?eventid=41068&copyow
 nerid=44506
UID:cfp485128-N@wikicfp.com
END:VEVENT
BEGIN:VEVENT
DTSTAMP:20260424T192227Z
DTSTART;VALUE=DATE:20240518
SUMMARY:VLSICS 2024 Deadline
DESCRIPTION:International journal of VLSI design & Communication Systems 
 
URL:http://www.wikicfp.com/cfp/servlet/event.showcfp?eventid=29013&copyow
 nerid=44506
UID:cfp345453-D@wikicfp.com
END:VEVENT
BEGIN:VEVENT
DTSTAMP:20260424T192227Z
DTSTART;VALUE=DATE:20240615
SUMMARY:VLSICS 2024 Notification Due
DESCRIPTION:International journal of VLSI design & Communication Systems 
 
URL:http://www.wikicfp.com/cfp/servlet/event.showcfp?eventid=29013&copyow
 nerid=44506
UID:cfp345453-N@wikicfp.com
END:VEVENT
BEGIN:VEVENT
DTSTAMP:20260424T192227Z
DTSTART;VALUE=DATE:20240622
SUMMARY:VLSICS 2024 Final Version Due
DESCRIPTION:International journal of VLSI design & Communication Systems 
 
URL:http://www.wikicfp.com/cfp/servlet/event.showcfp?eventid=29013&copyow
 nerid=44506
UID:cfp345453-N@wikicfp.com
END:VEVENT
END:VCALENDAR
