BEGIN:VCALENDAR
PRODID:-//WikiCFP//choenden 1.0//EN
VERSION:2.0
CALSCALE:GREGORIAN
BEGIN:VEVENT
DTSTAMP:20260420T190105Z
DTSTART;VALUE=DATE:20130122
DTEND;VALUE=DATE:20130126
SUMMARY:ASPDAC 2013
DESCRIPTION:18th Asia and South Pacific Design Automation Conference
URL:http://www.wikicfp.com/cfp/servlet/event.showcfp?eventid=22780&copyow
 nerid=44480
UID:cfp352145-E@wikicfp.com
END:VEVENT
BEGIN:VEVENT
DTSTAMP:20260420T190105Z
DTSTART;VALUE=DATE:20120713
SUMMARY:ASPDAC 2013 Deadline
DESCRIPTION:18th Asia and South Pacific Design Automation Conference
URL:http://www.wikicfp.com/cfp/servlet/event.showcfp?eventid=22780&copyow
 nerid=44480
UID:cfp352145-D@wikicfp.com
END:VEVENT
BEGIN:VEVENT
DTSTAMP:20260420T190105Z
DTSTART;VALUE=DATE:20120912
SUMMARY:ASPDAC 2013 Notification Due
DESCRIPTION:18th Asia and South Pacific Design Automation Conference
URL:http://www.wikicfp.com/cfp/servlet/event.showcfp?eventid=22780&copyow
 nerid=44480
UID:cfp352145-N@wikicfp.com
END:VEVENT
BEGIN:VEVENT
DTSTAMP:20260420T190105Z
DTSTART;VALUE=DATE:20121114
SUMMARY:ASPDAC 2013 Final Version Due
DESCRIPTION:18th Asia and South Pacific Design Automation Conference
URL:http://www.wikicfp.com/cfp/servlet/event.showcfp?eventid=22780&copyow
 nerid=44480
UID:cfp352145-N@wikicfp.com
END:VEVENT
BEGIN:VEVENT
DTSTAMP:20260420T190105Z
DTSTART;VALUE=DATE:20130319
DTEND;VALUE=DATE:20130323
SUMMARY:DATE 2013
DESCRIPTION:Design Automation and Test in Europe
URL:http://www.wikicfp.com/cfp/servlet/event.showcfp?eventid=24811&copyow
 nerid=44480
UID:cfp352144-E@wikicfp.com
END:VEVENT
BEGIN:VEVENT
DTSTAMP:20260420T190105Z
DTSTART;VALUE=DATE:20120909
SUMMARY:DATE 2013 Abstract Due
DESCRIPTION:Design Automation and Test in Europe
URL:http://www.wikicfp.com/cfp/servlet/event.showcfp?eventid=24811&copyow
 nerid=44480
UID:cfp352144-A@wikicfp.com
END:VEVENT
BEGIN:VEVENT
DTSTAMP:20260420T190105Z
DTSTART;VALUE=DATE:20120914
SUMMARY:DATE 2013 Deadline
DESCRIPTION:Design Automation and Test in Europe
URL:http://www.wikicfp.com/cfp/servlet/event.showcfp?eventid=24811&copyow
 nerid=44480
UID:cfp352144-D@wikicfp.com
END:VEVENT
BEGIN:VEVENT
DTSTAMP:20260420T190105Z
DTSTART;VALUE=DATE:20121116
SUMMARY:DATE 2013 Notification Due
DESCRIPTION:Design Automation and Test in Europe
URL:http://www.wikicfp.com/cfp/servlet/event.showcfp?eventid=24811&copyow
 nerid=44480
UID:cfp352144-N@wikicfp.com
END:VEVENT
BEGIN:VEVENT
DTSTAMP:20260420T190105Z
DTSTART;VALUE=DATE:20121216
SUMMARY:DATE 2013 Final Version Due
DESCRIPTION:Design Automation and Test in Europe
URL:http://www.wikicfp.com/cfp/servlet/event.showcfp?eventid=24811&copyow
 nerid=44480
UID:cfp352144-N@wikicfp.com
END:VEVENT
BEGIN:VEVENT
DTSTAMP:20260420T190105Z
DTSTART;VALUE=DATE:20130211
DTEND;VALUE=DATE:20130214
SUMMARY:FPGA 2013
DESCRIPTION:ACM International Symposium on FPGAs
URL:http://www.wikicfp.com/cfp/servlet/event.showcfp?eventid=24889&copyow
 nerid=44480
UID:cfp352137-E@wikicfp.com
END:VEVENT
BEGIN:VEVENT
DTSTAMP:20260420T190105Z
DTSTART;VALUE=DATE:20120928
SUMMARY:FPGA 2013 Deadline
DESCRIPTION:ACM International Symposium on FPGAs
URL:http://www.wikicfp.com/cfp/servlet/event.showcfp?eventid=24889&copyow
 nerid=44480
UID:cfp352137-D@wikicfp.com
END:VEVENT
BEGIN:VEVENT
DTSTAMP:20260420T190105Z
DTSTART;VALUE=DATE:20121111
SUMMARY:FPGA 2013 Notification Due
DESCRIPTION:ACM International Symposium on FPGAs
URL:http://www.wikicfp.com/cfp/servlet/event.showcfp?eventid=24889&copyow
 nerid=44480
UID:cfp352137-N@wikicfp.com
END:VEVENT
BEGIN:VEVENT
DTSTAMP:20260420T190105Z
DTSTART;VALUE=DATE:20121215
SUMMARY:FPGA 2013 Final Version Due
DESCRIPTION:ACM International Symposium on FPGAs
URL:http://www.wikicfp.com/cfp/servlet/event.showcfp?eventid=24889&copyow
 nerid=44480
UID:cfp352137-N@wikicfp.com
END:VEVENT
BEGIN:VEVENT
DTSTAMP:20260420T190105Z
DTSTART;VALUE=DATE:20130602
DTEND;VALUE=DATE:20130607
SUMMARY:DAC 2013
DESCRIPTION:50th ACM/EDAC/IEEE Design Automation Conference (DAC)
URL:http://www.wikicfp.com/cfp/servlet/event.showcfp?eventid=20817&copyow
 nerid=44480
UID:cfp311731-E@wikicfp.com
END:VEVENT
BEGIN:VEVENT
DTSTAMP:20260420T190105Z
DTSTART;VALUE=DATE:20121127
SUMMARY:DAC 2013 Abstract Due
DESCRIPTION:50th ACM/EDAC/IEEE Design Automation Conference (DAC)
URL:http://www.wikicfp.com/cfp/servlet/event.showcfp?eventid=20817&copyow
 nerid=44480
UID:cfp311731-A@wikicfp.com
END:VEVENT
BEGIN:VEVENT
DTSTAMP:20260420T190105Z
DTSTART;VALUE=DATE:20121203
SUMMARY:DAC 2013 Deadline
DESCRIPTION:50th ACM/EDAC/IEEE Design Automation Conference (DAC)
URL:http://www.wikicfp.com/cfp/servlet/event.showcfp?eventid=20817&copyow
 nerid=44480
UID:cfp311731-D@wikicfp.com
END:VEVENT
BEGIN:VEVENT
DTSTAMP:20260420T190105Z
DTSTART;VALUE=DATE:20130502
DTEND;VALUE=DATE:20130505
SUMMARY:GLSVLSI 2013
DESCRIPTION:Great Lakes Symposium on VLSI 2013
URL:http://www.wikicfp.com/cfp/servlet/event.showcfp?eventid=25515&copyow
 nerid=44480
UID:cfp311730-E@wikicfp.com
END:VEVENT
BEGIN:VEVENT
DTSTAMP:20260420T190105Z
DTSTART;VALUE=DATE:20121215
SUMMARY:GLSVLSI 2013 Deadline
DESCRIPTION:Great Lakes Symposium on VLSI 2013
URL:http://www.wikicfp.com/cfp/servlet/event.showcfp?eventid=25515&copyow
 nerid=44480
UID:cfp311730-D@wikicfp.com
END:VEVENT
BEGIN:VEVENT
DTSTAMP:20260420T190105Z
DTSTART;VALUE=DATE:20130910
DTEND;VALUE=DATE:20130913
SUMMARY:ITC 2013
DESCRIPTION:International Test Conference
URL:http://www.wikicfp.com/cfp/servlet/event.showcfp?eventid=26500&copyow
 nerid=44480
UID:cfp311733-E@wikicfp.com
END:VEVENT
BEGIN:VEVENT
DTSTAMP:20260420T190105Z
DTSTART;VALUE=DATE:20130204
SUMMARY:ITC 2013 Deadline
DESCRIPTION:International Test Conference
URL:http://www.wikicfp.com/cfp/servlet/event.showcfp?eventid=26500&copyow
 nerid=44480
UID:cfp311733-D@wikicfp.com
END:VEVENT
BEGIN:VEVENT
DTSTAMP:20260420T190105Z
DTSTART;VALUE=DATE:20130507
SUMMARY:ITC 2013 Notification Due
DESCRIPTION:International Test Conference
URL:http://www.wikicfp.com/cfp/servlet/event.showcfp?eventid=26500&copyow
 nerid=44480
UID:cfp311733-N@wikicfp.com
END:VEVENT
BEGIN:VEVENT
DTSTAMP:20260420T190105Z
DTSTART;VALUE=DATE:20130602
SUMMARY:ITC 2013 Final Version Due
DESCRIPTION:International Test Conference
URL:http://www.wikicfp.com/cfp/servlet/event.showcfp?eventid=26500&copyow
 nerid=44480
UID:cfp311733-N@wikicfp.com
END:VEVENT
BEGIN:VEVENT
DTSTAMP:20260420T190105Z
DTSTART;VALUE=DATE:20130620
DTEND;VALUE=DATE:20130621
SUMMARY:WASH 2013
DESCRIPTION:Workshop on Web Applications and Secure Hardware
URL:http://www.wikicfp.com/cfp/servlet/event.showcfp?eventid=28699&copyow
 nerid=44480
UID:cfp352135-E@wikicfp.com
END:VEVENT
BEGIN:VEVENT
DTSTAMP:20260420T190105Z
DTSTART;VALUE=DATE:20130405
SUMMARY:WASH 2013 Deadline
DESCRIPTION:Workshop on Web Applications and Secure Hardware
URL:http://www.wikicfp.com/cfp/servlet/event.showcfp?eventid=28699&copyow
 nerid=44480
UID:cfp352135-D@wikicfp.com
END:VEVENT
BEGIN:VEVENT
DTSTAMP:20260420T190105Z
DTSTART;VALUE=DATE:20130506
SUMMARY:WASH 2013 Notification Due
DESCRIPTION:Workshop on Web Applications and Secure Hardware
URL:http://www.wikicfp.com/cfp/servlet/event.showcfp?eventid=28699&copyow
 nerid=44480
UID:cfp352135-N@wikicfp.com
END:VEVENT
BEGIN:VEVENT
DTSTAMP:20260420T190105Z
DTSTART;VALUE=DATE:20130422
DTEND;VALUE=DATE:20130424
SUMMARY:HIASCIT 2013
DESCRIPTION:First International Conference on Horizons for Information Ar
 chitecture\, Security and Cloud Intelligent Technology (HIASCIT 2013)
URL:http://www.wikicfp.com/cfp/servlet/event.showcfp?eventid=28751&copyow
 nerid=44480
UID:cfp352140-E@wikicfp.com
END:VEVENT
BEGIN:VEVENT
DTSTAMP:20260420T190105Z
DTSTART;VALUE=DATE:20130412
SUMMARY:HIASCIT 2013 Deadline
DESCRIPTION:First International Conference on Horizons for Information Ar
 chitecture\, Security and Cloud Intelligent Technology (HIASCIT 2013)
URL:http://www.wikicfp.com/cfp/servlet/event.showcfp?eventid=28751&copyow
 nerid=44480
UID:cfp352140-D@wikicfp.com
END:VEVENT
BEGIN:VEVENT
DTSTAMP:20260420T190105Z
DTSTART;VALUE=DATE:20130623
DTEND;VALUE=DATE:20130625
SUMMARY:HASP 2013
DESCRIPTION:The Second Workshop on Hardware and Architectural Support for
  Security and Privacy
URL:http://www.wikicfp.com/cfp/servlet/event.showcfp?eventid=29113&copyow
 nerid=44480
UID:cfp352134-E@wikicfp.com
END:VEVENT
BEGIN:VEVENT
DTSTAMP:20260420T190105Z
DTSTART;VALUE=DATE:20130417
SUMMARY:HASP 2013 Deadline
DESCRIPTION:The Second Workshop on Hardware and Architectural Support for
  Security and Privacy
URL:http://www.wikicfp.com/cfp/servlet/event.showcfp?eventid=29113&copyow
 nerid=44480
UID:cfp352134-D@wikicfp.com
END:VEVENT
BEGIN:VEVENT
DTSTAMP:20260420T190105Z
DTSTART;VALUE=DATE:20130510
SUMMARY:HASP 2013 Notification Due
DESCRIPTION:The Second Workshop on Hardware and Architectural Support for
  Security and Privacy
URL:http://www.wikicfp.com/cfp/servlet/event.showcfp?eventid=29113&copyow
 nerid=44480
UID:cfp352134-N@wikicfp.com
END:VEVENT
BEGIN:VEVENT
DTSTAMP:20260420T190105Z
DTSTART;VALUE=DATE:20130520
SUMMARY:HASP 2013 Final Version Due
DESCRIPTION:The Second Workshop on Hardware and Architectural Support for
  Security and Privacy
URL:http://www.wikicfp.com/cfp/servlet/event.showcfp?eventid=29113&copyow
 nerid=44480
UID:cfp352134-N@wikicfp.com
END:VEVENT
BEGIN:VEVENT
DTSTAMP:20260420T190105Z
DTSTART;VALUE=DATE:20131104
DTEND;VALUE=DATE:20131109
SUMMARY:CCS 2013
DESCRIPTION:ACM Conference on Computer and Communications Security
URL:http://www.wikicfp.com/cfp/servlet/event.showcfp?eventid=24374&copyow
 nerid=44480
UID:cfp352132-E@wikicfp.com
END:VEVENT
BEGIN:VEVENT
DTSTAMP:20260420T190105Z
DTSTART;VALUE=DATE:20130508
SUMMARY:CCS 2013 Deadline
DESCRIPTION:ACM Conference on Computer and Communications Security
URL:http://www.wikicfp.com/cfp/servlet/event.showcfp?eventid=24374&copyow
 nerid=44480
UID:cfp352132-D@wikicfp.com
END:VEVENT
BEGIN:VEVENT
DTSTAMP:20260420T190105Z
DTSTART;VALUE=DATE:20130719
SUMMARY:CCS 2013 Notification Due
DESCRIPTION:ACM Conference on Computer and Communications Security
URL:http://www.wikicfp.com/cfp/servlet/event.showcfp?eventid=24374&copyow
 nerid=44480
UID:cfp352132-N@wikicfp.com
END:VEVENT
BEGIN:VEVENT
DTSTAMP:20260420T190105Z
DTSTART;VALUE=DATE:20130815
SUMMARY:CCS 2013 Final Version Due
DESCRIPTION:ACM Conference on Computer and Communications Security
URL:http://www.wikicfp.com/cfp/servlet/event.showcfp?eventid=24374&copyow
 nerid=44480
UID:cfp352132-N@wikicfp.com
END:VEVENT
BEGIN:VEVENT
DTSTAMP:20260420T190105Z
DTSTART;VALUE=DATE:20131120
DTEND;VALUE=DATE:20131123
SUMMARY:ICICS 2013
DESCRIPTION:15th International Conference on Information and Communicatio
 ns Security
URL:http://www.wikicfp.com/cfp/servlet/event.showcfp?eventid=29009&copyow
 nerid=44480
UID:cfp352136-E@wikicfp.com
END:VEVENT
BEGIN:VEVENT
DTSTAMP:20260420T190105Z
DTSTART;VALUE=DATE:20130605
SUMMARY:ICICS 2013 Deadline
DESCRIPTION:15th International Conference on Information and Communicatio
 ns Security
URL:http://www.wikicfp.com/cfp/servlet/event.showcfp?eventid=29009&copyow
 nerid=44480
UID:cfp352136-D@wikicfp.com
END:VEVENT
BEGIN:VEVENT
DTSTAMP:20260420T190105Z
DTSTART;VALUE=DATE:20130724
SUMMARY:ICICS 2013 Notification Due
DESCRIPTION:15th International Conference on Information and Communicatio
 ns Security
URL:http://www.wikicfp.com/cfp/servlet/event.showcfp?eventid=29009&copyow
 nerid=44480
UID:cfp352136-N@wikicfp.com
END:VEVENT
BEGIN:VEVENT
DTSTAMP:20260420T190105Z
DTSTART;VALUE=DATE:20130814
SUMMARY:ICICS 2013 Final Version Due
DESCRIPTION:15th International Conference on Information and Communicatio
 ns Security
URL:http://www.wikicfp.com/cfp/servlet/event.showcfp?eventid=29009&copyow
 nerid=44480
UID:cfp352136-N@wikicfp.com
END:VEVENT
BEGIN:VEVENT
DTSTAMP:20260420T190105Z
DTSTART;VALUE=DATE:20131120
DTEND;VALUE=DATE:20131123
SUMMARY:CANS 2013
DESCRIPTION:International Conference on Cryptology and Network Security
URL:http://www.wikicfp.com/cfp/servlet/event.showcfp?eventid=30308&copyow
 nerid=44480
UID:cfp352143-E@wikicfp.com
END:VEVENT
BEGIN:VEVENT
DTSTAMP:20260420T190105Z
DTSTART;VALUE=DATE:20130611
SUMMARY:CANS 2013 Deadline
DESCRIPTION:International Conference on Cryptology and Network Security
URL:http://www.wikicfp.com/cfp/servlet/event.showcfp?eventid=30308&copyow
 nerid=44480
UID:cfp352143-D@wikicfp.com
END:VEVENT
BEGIN:VEVENT
DTSTAMP:20260420T190105Z
DTSTART;VALUE=DATE:20131112
DTEND;VALUE=DATE:20131115
SUMMARY:HST 2013
DESCRIPTION:IEEE Conference on Technologies for Homeland Security 
URL:http://www.wikicfp.com/cfp/servlet/event.showcfp?eventid=28394&copyow
 nerid=44480
UID:cfp352138-E@wikicfp.com
END:VEVENT
BEGIN:VEVENT
DTSTAMP:20260420T190105Z
DTSTART;VALUE=DATE:20130430
SUMMARY:HST 2013 Abstract Due
DESCRIPTION:IEEE Conference on Technologies for Homeland Security 
URL:http://www.wikicfp.com/cfp/servlet/event.showcfp?eventid=28394&copyow
 nerid=44480
UID:cfp352138-A@wikicfp.com
END:VEVENT
BEGIN:VEVENT
DTSTAMP:20260420T190105Z
DTSTART;VALUE=DATE:20130619
SUMMARY:HST 2013 Deadline
DESCRIPTION:IEEE Conference on Technologies for Homeland Security 
URL:http://www.wikicfp.com/cfp/servlet/event.showcfp?eventid=28394&copyow
 nerid=44480
UID:cfp352138-D@wikicfp.com
END:VEVENT
BEGIN:VEVENT
DTSTAMP:20260420T190105Z
DTSTART;VALUE=DATE:20130715
SUMMARY:HST 2013 Notification Due
DESCRIPTION:IEEE Conference on Technologies for Homeland Security 
URL:http://www.wikicfp.com/cfp/servlet/event.showcfp?eventid=28394&copyow
 nerid=44480
UID:cfp352138-N@wikicfp.com
END:VEVENT
BEGIN:VEVENT
DTSTAMP:20260420T190105Z
DTSTART;VALUE=DATE:20140120
DTEND;VALUE=DATE:20140125
SUMMARY:ASPDAC 2014
DESCRIPTION:19th Asia and South Pacific Design Automation Conference ASP-
 DAC 2014
URL:http://www.wikicfp.com/cfp/servlet/event.showcfp?eventid=30315&copyow
 nerid=44480
UID:cfp352146-E@wikicfp.com
END:VEVENT
BEGIN:VEVENT
DTSTAMP:20260420T190105Z
DTSTART;VALUE=DATE:20130710
SUMMARY:ASPDAC 2014 Deadline
DESCRIPTION:19th Asia and South Pacific Design Automation Conference ASP-
 DAC 2014
URL:http://www.wikicfp.com/cfp/servlet/event.showcfp?eventid=30315&copyow
 nerid=44480
UID:cfp352146-D@wikicfp.com
END:VEVENT
BEGIN:VEVENT
DTSTAMP:20260420T190105Z
DTSTART;VALUE=DATE:20131108
DTEND;VALUE=DATE:20131109
SUMMARY:SPSM 2013
DESCRIPTION:3rd Annual ACM CCS Workshop on Security and Privacy in Smartp
 hones and Mobile Devices
URL:http://www.wikicfp.com/cfp/servlet/event.showcfp?eventid=30076&copyow
 nerid=44480
UID:cfp352133-E@wikicfp.com
END:VEVENT
BEGIN:VEVENT
DTSTAMP:20260420T190105Z
DTSTART;VALUE=DATE:20130722
SUMMARY:SPSM 2013 Deadline
DESCRIPTION:3rd Annual ACM CCS Workshop on Security and Privacy in Smartp
 hones and Mobile Devices
URL:http://www.wikicfp.com/cfp/servlet/event.showcfp?eventid=30076&copyow
 nerid=44480
UID:cfp352133-D@wikicfp.com
END:VEVENT
BEGIN:VEVENT
DTSTAMP:20260420T190105Z
DTSTART;VALUE=DATE:20130815
SUMMARY:SPSM 2013 Notification Due
DESCRIPTION:3rd Annual ACM CCS Workshop on Security and Privacy in Smartp
 hones and Mobile Devices
URL:http://www.wikicfp.com/cfp/servlet/event.showcfp?eventid=30076&copyow
 nerid=44480
UID:cfp352133-N@wikicfp.com
END:VEVENT
BEGIN:VEVENT
DTSTAMP:20260420T190105Z
DTSTART;VALUE=DATE:20130830
SUMMARY:SPSM 2013 Final Version Due
DESCRIPTION:3rd Annual ACM CCS Workshop on Security and Privacy in Smartp
 hones and Mobile Devices
URL:http://www.wikicfp.com/cfp/servlet/event.showcfp?eventid=30076&copyow
 nerid=44480
UID:cfp352133-N@wikicfp.com
END:VEVENT
BEGIN:VEVENT
DTSTAMP:20260420T190105Z
DTSTART;VALUE=DATE:20131127
DTEND;VALUE=DATE:20131130
SUMMARY:ICISC 2013
DESCRIPTION:The 16th Annual International Conference on Information Secur
 ity and Cryptology
URL:http://www.wikicfp.com/cfp/servlet/event.showcfp?eventid=29796&copyow
 nerid=44480
UID:cfp352141-E@wikicfp.com
END:VEVENT
BEGIN:VEVENT
DTSTAMP:20260420T190105Z
DTSTART;VALUE=DATE:20130909
SUMMARY:ICISC 2013 Deadline
DESCRIPTION:The 16th Annual International Conference on Information Secur
 ity and Cryptology
URL:http://www.wikicfp.com/cfp/servlet/event.showcfp?eventid=29796&copyow
 nerid=44480
UID:cfp352141-D@wikicfp.com
END:VEVENT
BEGIN:VEVENT
DTSTAMP:20260420T190105Z
DTSTART;VALUE=DATE:20131022
SUMMARY:ICISC 2013 Notification Due
DESCRIPTION:The 16th Annual International Conference on Information Secur
 ity and Cryptology
URL:http://www.wikicfp.com/cfp/servlet/event.showcfp?eventid=29796&copyow
 nerid=44480
UID:cfp352141-N@wikicfp.com
END:VEVENT
BEGIN:VEVENT
DTSTAMP:20260420T190105Z
DTSTART;VALUE=DATE:20131104
SUMMARY:ICISC 2013 Final Version Due
DESCRIPTION:The 16th Annual International Conference on Information Secur
 ity and Cryptology
URL:http://www.wikicfp.com/cfp/servlet/event.showcfp?eventid=29796&copyow
 nerid=44480
UID:cfp352141-N@wikicfp.com
END:VEVENT
BEGIN:VEVENT
DTSTAMP:20260420T190105Z
DTSTART;VALUE=DATE:20131116
DTEND;VALUE=DATE:20131118
SUMMARY:ICCNS  2013
DESCRIPTION:2013 the 3rd International Conference on Communication and Ne
 twork Security
URL:http://www.wikicfp.com/cfp/servlet/event.showcfp?eventid=29801&copyow
 nerid=44480
UID:cfp352139-E@wikicfp.com
END:VEVENT
BEGIN:VEVENT
DTSTAMP:20260420T190105Z
DTSTART;VALUE=DATE:20130915
SUMMARY:ICCNS  2013 Deadline
DESCRIPTION:2013 the 3rd International Conference on Communication and Ne
 twork Security
URL:http://www.wikicfp.com/cfp/servlet/event.showcfp?eventid=29801&copyow
 nerid=44480
UID:cfp352139-D@wikicfp.com
END:VEVENT
BEGIN:VEVENT
DTSTAMP:20260420T190105Z
DTSTART;VALUE=DATE:20130930
SUMMARY:ICCNS  2013 Notification Due
DESCRIPTION:2013 the 3rd International Conference on Communication and Ne
 twork Security
URL:http://www.wikicfp.com/cfp/servlet/event.showcfp?eventid=29801&copyow
 nerid=44480
UID:cfp352139-N@wikicfp.com
END:VEVENT
BEGIN:VEVENT
DTSTAMP:20260420T190105Z
DTSTART;VALUE=DATE:20131015
SUMMARY:ICCNS  2013 Final Version Due
DESCRIPTION:2013 the 3rd International Conference on Communication and Ne
 twork Security
URL:http://www.wikicfp.com/cfp/servlet/event.showcfp?eventid=29801&copyow
 nerid=44480
UID:cfp352139-N@wikicfp.com
END:VEVENT
BEGIN:VEVENT
DTSTAMP:20260420T190105Z
DTSTART;VALUE=DATE:20131230
SUMMARY:CCS 2013 Deadline
DESCRIPTION:Communications and Computer Security Journal
URL:http://www.wikicfp.com/cfp/servlet/event.showcfp?eventid=15941&copyow
 nerid=44480
UID:cfp311732-D@wikicfp.com
END:VEVENT
END:VCALENDAR
