BEGIN:VCALENDAR
PRODID:-//WikiCFP//kingderlwc 1.0//EN
VERSION:2.0
CALSCALE:GREGORIAN
BEGIN:VEVENT
DTSTAMP:20260420T031723Z
DTSTART;VALUE=DATE:20130729
DTEND;VALUE=DATE:20130731
SUMMARY:QSIC 2013
DESCRIPTION:The 13th International Conference on Quality Software 2013
URL:http://www.wikicfp.com/cfp/servlet/event.showcfp?eventid=27835&copyow
 nerid=44340
UID:cfp322847-E@wikicfp.com
END:VEVENT
BEGIN:VEVENT
DTSTAMP:20260420T031723Z
DTSTART;VALUE=DATE:20130412
SUMMARY:QSIC 2013 Deadline
DESCRIPTION:The 13th International Conference on Quality Software 2013
URL:http://www.wikicfp.com/cfp/servlet/event.showcfp?eventid=27835&copyow
 nerid=44340
UID:cfp322847-D@wikicfp.com
END:VEVENT
BEGIN:VEVENT
DTSTAMP:20260420T031723Z
DTSTART;VALUE=DATE:20130527
SUMMARY:QSIC 2013 Notification Due
DESCRIPTION:The 13th International Conference on Quality Software 2013
URL:http://www.wikicfp.com/cfp/servlet/event.showcfp?eventid=27835&copyow
 nerid=44340
UID:cfp322847-N@wikicfp.com
END:VEVENT
BEGIN:VEVENT
DTSTAMP:20260420T031723Z
DTSTART;VALUE=DATE:20130610
SUMMARY:QSIC 2013 Final Version Due
DESCRIPTION:The 13th International Conference on Quality Software 2013
URL:http://www.wikicfp.com/cfp/servlet/event.showcfp?eventid=27835&copyow
 nerid=44340
UID:cfp322847-N@wikicfp.com
END:VEVENT
BEGIN:VEVENT
DTSTAMP:20260420T031723Z
DTSTART;VALUE=DATE:20130922
DTEND;VALUE=DATE:20130929
SUMMARY:ICSM 2013
DESCRIPTION:29th IEEE International Conference on Software Maintenance
URL:http://www.wikicfp.com/cfp/servlet/event.showcfp?eventid=26902&copyow
 nerid=44340
UID:cfp320152-E@wikicfp.com
END:VEVENT
BEGIN:VEVENT
DTSTAMP:20260420T031723Z
DTSTART;VALUE=DATE:20130415
SUMMARY:ICSM 2013 Abstract Due
DESCRIPTION:29th IEEE International Conference on Software Maintenance
URL:http://www.wikicfp.com/cfp/servlet/event.showcfp?eventid=26902&copyow
 nerid=44340
UID:cfp320152-A@wikicfp.com
END:VEVENT
BEGIN:VEVENT
DTSTAMP:20260420T031723Z
DTSTART;VALUE=DATE:20130424
SUMMARY:ICSM 2013 Deadline
DESCRIPTION:29th IEEE International Conference on Software Maintenance
URL:http://www.wikicfp.com/cfp/servlet/event.showcfp?eventid=26902&copyow
 nerid=44340
UID:cfp320152-D@wikicfp.com
END:VEVENT
BEGIN:VEVENT
DTSTAMP:20260420T031723Z
DTSTART;VALUE=DATE:20130614
SUMMARY:ICSM 2013 Notification Due
DESCRIPTION:29th IEEE International Conference on Software Maintenance
URL:http://www.wikicfp.com/cfp/servlet/event.showcfp?eventid=26902&copyow
 nerid=44340
UID:cfp320152-N@wikicfp.com
END:VEVENT
BEGIN:VEVENT
DTSTAMP:20260420T031723Z
DTSTART;VALUE=DATE:20130713
SUMMARY:ICSM 2013 Final Version Due
DESCRIPTION:29th IEEE International Conference on Software Maintenance
URL:http://www.wikicfp.com/cfp/servlet/event.showcfp?eventid=26902&copyow
 nerid=44340
UID:cfp320152-N@wikicfp.com
END:VEVENT
BEGIN:VEVENT
DTSTAMP:20260420T031723Z
DTSTART;VALUE=DATE:20131111
DTEND;VALUE=DATE:20131116
SUMMARY:ASE 2013
DESCRIPTION:28th IEEE/ACM International Conference on Automated Software 
 Engineering
URL:http://www.wikicfp.com/cfp/servlet/event.showcfp?eventid=26845&copyow
 nerid=44340
UID:cfp342323-E@wikicfp.com
END:VEVENT
BEGIN:VEVENT
DTSTAMP:20260420T031723Z
DTSTART;VALUE=DATE:20130510
SUMMARY:ASE 2013 Abstract Due
DESCRIPTION:28th IEEE/ACM International Conference on Automated Software 
 Engineering
URL:http://www.wikicfp.com/cfp/servlet/event.showcfp?eventid=26845&copyow
 nerid=44340
UID:cfp342323-A@wikicfp.com
END:VEVENT
BEGIN:VEVENT
DTSTAMP:20260420T031723Z
DTSTART;VALUE=DATE:20130517
SUMMARY:ASE 2013 Deadline
DESCRIPTION:28th IEEE/ACM International Conference on Automated Software 
 Engineering
URL:http://www.wikicfp.com/cfp/servlet/event.showcfp?eventid=26845&copyow
 nerid=44340
UID:cfp342323-D@wikicfp.com
END:VEVENT
BEGIN:VEVENT
DTSTAMP:20260420T031723Z
DTSTART;VALUE=DATE:20130724
SUMMARY:ASE 2013 Notification Due
DESCRIPTION:28th IEEE/ACM International Conference on Automated Software 
 Engineering
URL:http://www.wikicfp.com/cfp/servlet/event.showcfp?eventid=26845&copyow
 nerid=44340
UID:cfp342323-N@wikicfp.com
END:VEVENT
BEGIN:VEVENT
DTSTAMP:20260420T031723Z
DTSTART;VALUE=DATE:20131202
DTEND;VALUE=DATE:20131206
SUMMARY: APSEC 2013
DESCRIPTION:Asia-Pacific Software Engineering Conference
URL:http://www.wikicfp.com/cfp/servlet/event.showcfp?eventid=29358&copyow
 nerid=44340
UID:cfp342325-E@wikicfp.com
END:VEVENT
BEGIN:VEVENT
DTSTAMP:20260420T031723Z
DTSTART;VALUE=DATE:20130618
SUMMARY: APSEC 2013 Deadline
DESCRIPTION:Asia-Pacific Software Engineering Conference
URL:http://www.wikicfp.com/cfp/servlet/event.showcfp?eventid=29358&copyow
 nerid=44340
UID:cfp342325-D@wikicfp.com
END:VEVENT
BEGIN:VEVENT
DTSTAMP:20260420T031723Z
DTSTART;VALUE=DATE:20130830
SUMMARY: APSEC 2013 Notification Due
DESCRIPTION:Asia-Pacific Software Engineering Conference
URL:http://www.wikicfp.com/cfp/servlet/event.showcfp?eventid=29358&copyow
 nerid=44340
UID:cfp342325-N@wikicfp.com
END:VEVENT
BEGIN:VEVENT
DTSTAMP:20260420T031723Z
DTSTART;VALUE=DATE:20131012
SUMMARY: APSEC 2013 Final Version Due
DESCRIPTION:Asia-Pacific Software Engineering Conference
URL:http://www.wikicfp.com/cfp/servlet/event.showcfp?eventid=29358&copyow
 nerid=44340
UID:cfp342325-N@wikicfp.com
END:VEVENT
BEGIN:VEVENT
DTSTAMP:20260420T031723Z
DTSTART;VALUE=DATE:20130928
DTEND;VALUE=DATE:20130930
SUMMARY:ICSTE 2013
DESCRIPTION:2013 5th International Conference on Software Technology and 
 Engineering
URL:http://www.wikicfp.com/cfp/servlet/event.showcfp?eventid=29766&copyow
 nerid=44340
UID:cfp349099-E@wikicfp.com
END:VEVENT
BEGIN:VEVENT
DTSTAMP:20260420T031723Z
DTSTART;VALUE=DATE:20130720
SUMMARY:ICSTE 2013 Deadline
DESCRIPTION:2013 5th International Conference on Software Technology and 
 Engineering
URL:http://www.wikicfp.com/cfp/servlet/event.showcfp?eventid=29766&copyow
 nerid=44340
UID:cfp349099-D@wikicfp.com
END:VEVENT
BEGIN:VEVENT
DTSTAMP:20260420T031723Z
DTSTART;VALUE=DATE:20130815
SUMMARY:ICSTE 2013 Notification Due
DESCRIPTION:2013 5th International Conference on Software Technology and 
 Engineering
URL:http://www.wikicfp.com/cfp/servlet/event.showcfp?eventid=29766&copyow
 nerid=44340
UID:cfp349099-N@wikicfp.com
END:VEVENT
BEGIN:VEVENT
DTSTAMP:20260420T031723Z
DTSTART;VALUE=DATE:20130830
SUMMARY:ICSTE 2013 Final Version Due
DESCRIPTION:2013 5th International Conference on Software Technology and 
 Engineering
URL:http://www.wikicfp.com/cfp/servlet/event.showcfp?eventid=29766&copyow
 nerid=44340
UID:cfp349099-N@wikicfp.com
END:VEVENT
BEGIN:VEVENT
DTSTAMP:20260420T031723Z
DTSTART;VALUE=DATE:20131005
DTEND;VALUE=DATE:20131007
SUMMARY:ICCSM 2013
DESCRIPTION:2013 3rd International Conference on Computer and Software Mo
 deling
URL:http://www.wikicfp.com/cfp/servlet/event.showcfp?eventid=29788&copyow
 nerid=44340
UID:cfp349100-E@wikicfp.com
END:VEVENT
BEGIN:VEVENT
DTSTAMP:20260420T031723Z
DTSTART;VALUE=DATE:20130720
SUMMARY:ICCSM 2013 Deadline
DESCRIPTION:2013 3rd International Conference on Computer and Software Mo
 deling
URL:http://www.wikicfp.com/cfp/servlet/event.showcfp?eventid=29788&copyow
 nerid=44340
UID:cfp349100-D@wikicfp.com
END:VEVENT
BEGIN:VEVENT
DTSTAMP:20260420T031723Z
DTSTART;VALUE=DATE:20130810
SUMMARY:ICCSM 2013 Notification Due
DESCRIPTION:2013 3rd International Conference on Computer and Software Mo
 deling
URL:http://www.wikicfp.com/cfp/servlet/event.showcfp?eventid=29788&copyow
 nerid=44340
UID:cfp349100-N@wikicfp.com
END:VEVENT
BEGIN:VEVENT
DTSTAMP:20260420T031723Z
DTSTART;VALUE=DATE:20130825
SUMMARY:ICCSM 2013 Final Version Due
DESCRIPTION:2013 3rd International Conference on Computer and Software Mo
 deling
URL:http://www.wikicfp.com/cfp/servlet/event.showcfp?eventid=29788&copyow
 nerid=44340
UID:cfp349100-N@wikicfp.com
END:VEVENT
BEGIN:VEVENT
DTSTAMP:20260420T031723Z
DTSTART;VALUE=DATE:20140531
DTEND;VALUE=DATE:20140608
SUMMARY:ICSE 2014
DESCRIPTION:36th International Conference on Software Engineering
URL:http://www.wikicfp.com/cfp/servlet/event.showcfp?eventid=27828&copyow
 nerid=44340
UID:cfp342324-E@wikicfp.com
END:VEVENT
BEGIN:VEVENT
DTSTAMP:20260420T031723Z
DTSTART;VALUE=DATE:20130913
SUMMARY:ICSE 2014 Deadline
DESCRIPTION:36th International Conference on Software Engineering
URL:http://www.wikicfp.com/cfp/servlet/event.showcfp?eventid=27828&copyow
 nerid=44340
UID:cfp342324-D@wikicfp.com
END:VEVENT
BEGIN:VEVENT
DTSTAMP:20260420T031723Z
DTSTART;VALUE=DATE:20140117
SUMMARY:ICSE 2014 Notification Due
DESCRIPTION:36th International Conference on Software Engineering
URL:http://www.wikicfp.com/cfp/servlet/event.showcfp?eventid=27828&copyow
 nerid=44340
UID:cfp342324-N@wikicfp.com
END:VEVENT
BEGIN:VEVENT
DTSTAMP:20260420T031723Z
DTSTART;VALUE=DATE:20140228
SUMMARY:ICSE 2014 Final Version Due
DESCRIPTION:36th International Conference on Software Engineering
URL:http://www.wikicfp.com/cfp/servlet/event.showcfp?eventid=27828&copyow
 nerid=44340
UID:cfp342324-N@wikicfp.com
END:VEVENT
END:VCALENDAR
