BEGIN:VCALENDAR
PRODID:-//WikiCFP//miriamboon 1.0//EN
VERSION:2.0
CALSCALE:GREGORIAN
BEGIN:VEVENT
DTSTAMP:20260420T173041Z
DTSTART;VALUE=DATE:20170925
DTEND;VALUE=DATE:20170930
SUMMARY:INTERACT 2017
DESCRIPTION:The 16th IFIP TC.13 International Conference on Human-Compute
 r Interaction
URL:http://www.wikicfp.com/cfp/servlet/event.showcfp?eventid=54563&copyow
 nerid=44092
UID:cfp648764-E@wikicfp.com
END:VEVENT
BEGIN:VEVENT
DTSTAMP:20260420T173041Z
DTSTART;VALUE=DATE:20171022
DTEND;VALUE=DATE:20171026
SUMMARY:UIST 2017
DESCRIPTION: 30th ACM User Interface Software and Technology Symposium
URL:http://www.wikicfp.com/cfp/servlet/event.showcfp?eventid=57058&copyow
 nerid=44092
UID:cfp648766-E@wikicfp.com
END:VEVENT
BEGIN:VEVENT
DTSTAMP:20260420T173041Z
DTSTART;VALUE=DATE:20171021
DTEND;VALUE=DATE:20171026
SUMMARY:ISWC 2017
DESCRIPTION:16th International Semantic Web Conference
URL:http://www.wikicfp.com/cfp/servlet/event.showcfp?eventid=60054&copyow
 nerid=44092
UID:cfp663110-E@wikicfp.com
END:VEVENT
BEGIN:VEVENT
DTSTAMP:20260420T173041Z
DTSTART;VALUE=DATE:20170508
SUMMARY:ISWC 2017 Abstract Due
DESCRIPTION:16th International Semantic Web Conference
URL:http://www.wikicfp.com/cfp/servlet/event.showcfp?eventid=60054&copyow
 nerid=44092
UID:cfp663110-A@wikicfp.com
END:VEVENT
BEGIN:VEVENT
DTSTAMP:20260420T173041Z
DTSTART;VALUE=DATE:20170515
SUMMARY:ISWC 2017 Deadline
DESCRIPTION:16th International Semantic Web Conference
URL:http://www.wikicfp.com/cfp/servlet/event.showcfp?eventid=60054&copyow
 nerid=44092
UID:cfp663110-D@wikicfp.com
END:VEVENT
BEGIN:VEVENT
DTSTAMP:20260420T173041Z
DTSTART;VALUE=DATE:20170714
SUMMARY:ISWC 2017 Notification Due
DESCRIPTION:16th International Semantic Web Conference
URL:http://www.wikicfp.com/cfp/servlet/event.showcfp?eventid=60054&copyow
 nerid=44092
UID:cfp663110-N@wikicfp.com
END:VEVENT
BEGIN:VEVENT
DTSTAMP:20260420T173041Z
DTSTART;VALUE=DATE:20170728
SUMMARY:ISWC 2017 Final Version Due
DESCRIPTION:16th International Semantic Web Conference
URL:http://www.wikicfp.com/cfp/servlet/event.showcfp?eventid=60054&copyow
 nerid=44092
UID:cfp663110-N@wikicfp.com
END:VEVENT
BEGIN:VEVENT
DTSTAMP:20260420T173041Z
DTSTART;VALUE=DATE:20171106
DTEND;VALUE=DATE:20171111
SUMMARY:CIKM 2017
DESCRIPTION:The 26th 2017 ACM Conference on Information and Knowledge Man
 agement
URL:http://www.wikicfp.com/cfp/servlet/event.showcfp?eventid=57688&copyow
 nerid=44092
UID:cfp663111-E@wikicfp.com
END:VEVENT
BEGIN:VEVENT
DTSTAMP:20260420T173041Z
DTSTART;VALUE=DATE:20170516
SUMMARY:CIKM 2017 Abstract Due
DESCRIPTION:The 26th 2017 ACM Conference on Information and Knowledge Man
 agement
URL:http://www.wikicfp.com/cfp/servlet/event.showcfp?eventid=57688&copyow
 nerid=44092
UID:cfp663111-A@wikicfp.com
END:VEVENT
BEGIN:VEVENT
DTSTAMP:20260420T173041Z
DTSTART;VALUE=DATE:20170523
SUMMARY:CIKM 2017 Deadline
DESCRIPTION:The 26th 2017 ACM Conference on Information and Knowledge Man
 agement
URL:http://www.wikicfp.com/cfp/servlet/event.showcfp?eventid=57688&copyow
 nerid=44092
UID:cfp663111-D@wikicfp.com
END:VEVENT
BEGIN:VEVENT
DTSTAMP:20260420T173041Z
DTSTART;VALUE=DATE:20170806
SUMMARY:CIKM 2017 Notification Due
DESCRIPTION:The 26th 2017 ACM Conference on Information and Knowledge Man
 agement
URL:http://www.wikicfp.com/cfp/servlet/event.showcfp?eventid=57688&copyow
 nerid=44092
UID:cfp663111-N@wikicfp.com
END:VEVENT
BEGIN:VEVENT
DTSTAMP:20260420T173041Z
DTSTART;VALUE=DATE:20170827
SUMMARY:CIKM 2017 Final Version Due
DESCRIPTION:The 26th 2017 ACM Conference on Information and Knowledge Man
 agement
URL:http://www.wikicfp.com/cfp/servlet/event.showcfp?eventid=57688&copyow
 nerid=44092
UID:cfp663111-N@wikicfp.com
END:VEVENT
BEGIN:VEVENT
DTSTAMP:20260420T173041Z
DTSTART;VALUE=DATE:20171118
DTEND;VALUE=DATE:20171122
SUMMARY:ICDM 2017
DESCRIPTION:IEEE International Conference on Data Mining 2017
URL:http://www.wikicfp.com/cfp/servlet/event.showcfp?eventid=60171&copyow
 nerid=44092
UID:cfp663112-E@wikicfp.com
END:VEVENT
BEGIN:VEVENT
DTSTAMP:20260420T173041Z
DTSTART;VALUE=DATE:20170605
SUMMARY:ICDM 2017 Deadline
DESCRIPTION:IEEE International Conference on Data Mining 2017
URL:http://www.wikicfp.com/cfp/servlet/event.showcfp?eventid=60171&copyow
 nerid=44092
UID:cfp663112-D@wikicfp.com
END:VEVENT
BEGIN:VEVENT
DTSTAMP:20260420T173041Z
DTSTART;VALUE=DATE:20170815
SUMMARY:ICDM 2017 Notification Due
DESCRIPTION:IEEE International Conference on Data Mining 2017
URL:http://www.wikicfp.com/cfp/servlet/event.showcfp?eventid=60171&copyow
 nerid=44092
UID:cfp663112-N@wikicfp.com
END:VEVENT
BEGIN:VEVENT
DTSTAMP:20260420T173041Z
DTSTART;VALUE=DATE:20180202
DTEND;VALUE=DATE:20180208
SUMMARY:AAAI 2018
DESCRIPTION:The Thirty-Second AAAI Conference on Artificial Intelligence
URL:http://www.wikicfp.com/cfp/servlet/event.showcfp?eventid=63229&copyow
 nerid=44092
UID:cfp663107-E@wikicfp.com
END:VEVENT
BEGIN:VEVENT
DTSTAMP:20260420T173041Z
DTSTART;VALUE=DATE:20170908
SUMMARY:AAAI 2018 Abstract Due
DESCRIPTION:The Thirty-Second AAAI Conference on Artificial Intelligence
URL:http://www.wikicfp.com/cfp/servlet/event.showcfp?eventid=63229&copyow
 nerid=44092
UID:cfp663107-A@wikicfp.com
END:VEVENT
BEGIN:VEVENT
DTSTAMP:20260420T173041Z
DTSTART;VALUE=DATE:20170911
SUMMARY:AAAI 2018 Deadline
DESCRIPTION:The Thirty-Second AAAI Conference on Artificial Intelligence
URL:http://www.wikicfp.com/cfp/servlet/event.showcfp?eventid=63229&copyow
 nerid=44092
UID:cfp663107-D@wikicfp.com
END:VEVENT
BEGIN:VEVENT
DTSTAMP:20260420T173041Z
DTSTART;VALUE=DATE:20180421
DTEND;VALUE=DATE:20180427
SUMMARY:CHI 2018
DESCRIPTION:ACM CHI Conference on Human Factors in Computing Systems
URL:http://www.wikicfp.com/cfp/servlet/event.showcfp?eventid=62975&copyow
 nerid=44092
UID:cfp663097-E@wikicfp.com
END:VEVENT
BEGIN:VEVENT
DTSTAMP:20260420T173041Z
DTSTART;VALUE=DATE:20170912
SUMMARY:CHI 2018 Abstract Due
DESCRIPTION:ACM CHI Conference on Human Factors in Computing Systems
URL:http://www.wikicfp.com/cfp/servlet/event.showcfp?eventid=62975&copyow
 nerid=44092
UID:cfp663097-A@wikicfp.com
END:VEVENT
BEGIN:VEVENT
DTSTAMP:20260420T173041Z
DTSTART;VALUE=DATE:20170919
SUMMARY:CHI 2018 Deadline
DESCRIPTION:ACM CHI Conference on Human Factors in Computing Systems
URL:http://www.wikicfp.com/cfp/servlet/event.showcfp?eventid=62975&copyow
 nerid=44092
UID:cfp663097-D@wikicfp.com
END:VEVENT
BEGIN:VEVENT
DTSTAMP:20260420T173041Z
DTSTART;VALUE=DATE:20180423
DTEND;VALUE=DATE:20180428
SUMMARY:WWW 2018
DESCRIPTION:World Wide Web (The Web Conference)
URL:http://www.wikicfp.com/cfp/servlet/event.showcfp?eventid=63231&copyow
 nerid=44092
UID:cfp663101-E@wikicfp.com
END:VEVENT
BEGIN:VEVENT
DTSTAMP:20260420T173041Z
DTSTART;VALUE=DATE:20171027
SUMMARY:WWW 2018 Abstract Due
DESCRIPTION:World Wide Web (The Web Conference)
URL:http://www.wikicfp.com/cfp/servlet/event.showcfp?eventid=63231&copyow
 nerid=44092
UID:cfp663101-A@wikicfp.com
END:VEVENT
BEGIN:VEVENT
DTSTAMP:20260420T173041Z
DTSTART;VALUE=DATE:20171031
SUMMARY:WWW 2018 Deadline
DESCRIPTION:World Wide Web (The Web Conference)
URL:http://www.wikicfp.com/cfp/servlet/event.showcfp?eventid=63231&copyow
 nerid=44092
UID:cfp663101-D@wikicfp.com
END:VEVENT
BEGIN:VEVENT
DTSTAMP:20260420T173041Z
DTSTART;VALUE=DATE:20171222
SUMMARY:WWW 2018 Notification Due
DESCRIPTION:World Wide Web (The Web Conference)
URL:http://www.wikicfp.com/cfp/servlet/event.showcfp?eventid=63231&copyow
 nerid=44092
UID:cfp663101-N@wikicfp.com
END:VEVENT
BEGIN:VEVENT
DTSTAMP:20260420T173041Z
DTSTART;VALUE=DATE:20180214
SUMMARY:WWW 2018 Final Version Due
DESCRIPTION:World Wide Web (The Web Conference)
URL:http://www.wikicfp.com/cfp/servlet/event.showcfp?eventid=63231&copyow
 nerid=44092
UID:cfp663101-N@wikicfp.com
END:VEVENT
END:VCALENDAR
