BEGIN:VCALENDAR
PRODID:-//WikiCFP//mamadtaheri 1.0//EN
VERSION:2.0
CALSCALE:GREGORIAN
BEGIN:VEVENT
DTSTAMP:20260420T145016Z
DTSTART;VALUE=DATE:20121015
SUMMARY:CIM 2013 Deadline
DESCRIPTION:Special Issue on Computational Intelligence and Affective Com
 puting in IEEE Computational Intelligence Magazine
URL:http://www.wikicfp.com/cfp/servlet/event.showcfp?eventid=24686&copyow
 nerid=43203
UID:cfp303422-D@wikicfp.com
END:VEVENT
BEGIN:VEVENT
DTSTAMP:20260420T145016Z
DTSTART;VALUE=DATE:20121115
SUMMARY:CIM 2013 Notification Due
DESCRIPTION:Special Issue on Computational Intelligence and Affective Com
 puting in IEEE Computational Intelligence Magazine
URL:http://www.wikicfp.com/cfp/servlet/event.showcfp?eventid=24686&copyow
 nerid=43203
UID:cfp303422-N@wikicfp.com
END:VEVENT
BEGIN:VEVENT
DTSTAMP:20260420T145016Z
DTSTART;VALUE=DATE:20121215
SUMMARY:CIM 2013 Final Version Due
DESCRIPTION:Special Issue on Computational Intelligence and Affective Com
 puting in IEEE Computational Intelligence Magazine
URL:http://www.wikicfp.com/cfp/servlet/event.showcfp?eventid=24686&copyow
 nerid=43203
UID:cfp303422-N@wikicfp.com
END:VEVENT
BEGIN:VEVENT
DTSTAMP:20260420T145016Z
DTSTART;VALUE=DATE:20130228
SUMMARY:IJFSA 2013 Deadline
DESCRIPTION:Special Issue On: Fuzzy and Rough Hybrid Intelligent Techniqu
 es in Medical Diagnosis
URL:http://www.wikicfp.com/cfp/servlet/event.showcfp?eventid=25139&copyow
 nerid=43203
UID:cfp303423-D@wikicfp.com
END:VEVENT
BEGIN:VEVENT
DTSTAMP:20260420T145016Z
DTSTART;VALUE=DATE:20130430
SUMMARY:IJFSA 2013 Notification Due
DESCRIPTION:Special Issue On: Fuzzy and Rough Hybrid Intelligent Techniqu
 es in Medical Diagnosis
URL:http://www.wikicfp.com/cfp/servlet/event.showcfp?eventid=25139&copyow
 nerid=43203
UID:cfp303423-N@wikicfp.com
END:VEVENT
BEGIN:VEVENT
DTSTAMP:20260420T145016Z
DTSTART;VALUE=DATE:20130615
SUMMARY:IJFSA 2013 Final Version Due
DESCRIPTION:Special Issue On: Fuzzy and Rough Hybrid Intelligent Techniqu
 es in Medical Diagnosis
URL:http://www.wikicfp.com/cfp/servlet/event.showcfp?eventid=25139&copyow
 nerid=43203
UID:cfp303423-N@wikicfp.com
END:VEVENT
END:VCALENDAR
