BEGIN:VCALENDAR
PRODID:-//WikiCFP//maicsconference2013 1.0//EN
VERSION:2.0
CALSCALE:GREGORIAN
BEGIN:VEVENT
DTSTAMP:20260420T013342Z
DTSTART;VALUE=DATE:20130413
DTEND;VALUE=DATE:20130415
SUMMARY:MAICS 2013
DESCRIPTION:The 24th Midwest Artificial Intelligence and Cognitive Scienc
 e Conference
URL:http://www.wikicfp.com/cfp/servlet/event.showcfp?eventid=26064&copyow
 nerid=43196
UID:cfp303387-E@wikicfp.com
END:VEVENT
BEGIN:VEVENT
DTSTAMP:20260420T013342Z
DTSTART;VALUE=DATE:20130205
SUMMARY:MAICS 2013 Deadline
DESCRIPTION:The 24th Midwest Artificial Intelligence and Cognitive Scienc
 e Conference
URL:http://www.wikicfp.com/cfp/servlet/event.showcfp?eventid=26064&copyow
 nerid=43196
UID:cfp303387-D@wikicfp.com
END:VEVENT
BEGIN:VEVENT
DTSTAMP:20260420T013342Z
DTSTART;VALUE=DATE:20130305
SUMMARY:MAICS 2013 Notification Due
DESCRIPTION:The 24th Midwest Artificial Intelligence and Cognitive Scienc
 e Conference
URL:http://www.wikicfp.com/cfp/servlet/event.showcfp?eventid=26064&copyow
 nerid=43196
UID:cfp303387-N@wikicfp.com
END:VEVENT
BEGIN:VEVENT
DTSTAMP:20260420T013342Z
DTSTART;VALUE=DATE:20130315
SUMMARY:MAICS 2013 Final Version Due
DESCRIPTION:The 24th Midwest Artificial Intelligence and Cognitive Scienc
 e Conference
URL:http://www.wikicfp.com/cfp/servlet/event.showcfp?eventid=26064&copyow
 nerid=43196
UID:cfp303387-N@wikicfp.com
END:VEVENT
END:VCALENDAR
