BEGIN:VCALENDAR
PRODID:-//WikiCFP//adelrio 1.0//EN
VERSION:2.0
CALSCALE:GREGORIAN
BEGIN:VEVENT
DTSTAMP:20260421T164152Z
DTSTART;VALUE=DATE:20121222
DTEND;VALUE=DATE:20121224
SUMMARY:ICOSH 2012
DESCRIPTION:2012 International Conference on Sociality and Humanities 
URL:http://www.wikicfp.com/cfp/servlet/event.showcfp?eventid=24708&copyow
 nerid=43190
UID:cfp302892-E@wikicfp.com
END:VEVENT
BEGIN:VEVENT
DTSTAMP:20260421T164152Z
DTSTART;VALUE=DATE:20121010
SUMMARY:ICOSH 2012 Deadline
DESCRIPTION:2012 International Conference on Sociality and Humanities 
URL:http://www.wikicfp.com/cfp/servlet/event.showcfp?eventid=24708&copyow
 nerid=43190
UID:cfp302892-D@wikicfp.com
END:VEVENT
BEGIN:VEVENT
DTSTAMP:20260421T164152Z
DTSTART;VALUE=DATE:20121030
SUMMARY:ICOSH 2012 Notification Due
DESCRIPTION:2012 International Conference on Sociality and Humanities 
URL:http://www.wikicfp.com/cfp/servlet/event.showcfp?eventid=24708&copyow
 nerid=43190
UID:cfp302892-N@wikicfp.com
END:VEVENT
BEGIN:VEVENT
DTSTAMP:20260421T164152Z
DTSTART;VALUE=DATE:20121115
SUMMARY:ICOSH 2012 Final Version Due
DESCRIPTION:2012 International Conference on Sociality and Humanities 
URL:http://www.wikicfp.com/cfp/servlet/event.showcfp?eventid=24708&copyow
 nerid=43190
UID:cfp302892-N@wikicfp.com
END:VEVENT
BEGIN:VEVENT
DTSTAMP:20260421T164152Z
DTSTART;VALUE=DATE:20121107
DTEND;VALUE=DATE:20121109
SUMMARY:ICOBIRD 2012
DESCRIPTION:International Conference on Business\, International Relation
 s\, and Diplomacy (ICOBIRD) 2012
URL:http://www.wikicfp.com/cfp/servlet/event.showcfp?eventid=25473&copyow
 nerid=43190
UID:cfp302900-E@wikicfp.com
END:VEVENT
BEGIN:VEVENT
DTSTAMP:20260421T164152Z
DTSTART;VALUE=DATE:20121010
SUMMARY:ICOBIRD 2012 Deadline
DESCRIPTION:International Conference on Business\, International Relation
 s\, and Diplomacy (ICOBIRD) 2012
URL:http://www.wikicfp.com/cfp/servlet/event.showcfp?eventid=25473&copyow
 nerid=43190
UID:cfp302900-D@wikicfp.com
END:VEVENT
BEGIN:VEVENT
DTSTAMP:20260421T164152Z
DTSTART;VALUE=DATE:20121015
SUMMARY:ICOBIRD 2012 Notification Due
DESCRIPTION:International Conference on Business\, International Relation
 s\, and Diplomacy (ICOBIRD) 2012
URL:http://www.wikicfp.com/cfp/servlet/event.showcfp?eventid=25473&copyow
 nerid=43190
UID:cfp302900-N@wikicfp.com
END:VEVENT
BEGIN:VEVENT
DTSTAMP:20260421T164152Z
DTSTART;VALUE=DATE:20121101
SUMMARY:ICOBIRD 2012 Final Version Due
DESCRIPTION:International Conference on Business\, International Relation
 s\, and Diplomacy (ICOBIRD) 2012
URL:http://www.wikicfp.com/cfp/servlet/event.showcfp?eventid=25473&copyow
 nerid=43190
UID:cfp302900-N@wikicfp.com
END:VEVENT
BEGIN:VEVENT
DTSTAMP:20260421T164152Z
DTSTART;VALUE=DATE:20121206
DTEND;VALUE=DATE:20121209
SUMMARY:Euroacademia 2012
DESCRIPTION:The Second Euroacademia International Conference The European
  Union and the Politicization of Europe 
URL:http://www.wikicfp.com/cfp/servlet/event.showcfp?eventid=25772&copyow
 nerid=43190
UID:cfp302903-E@wikicfp.com
END:VEVENT
BEGIN:VEVENT
DTSTAMP:20260421T164152Z
DTSTART;VALUE=DATE:20121015
SUMMARY:Euroacademia 2012 Deadline
DESCRIPTION:The Second Euroacademia International Conference The European
  Union and the Politicization of Europe 
URL:http://www.wikicfp.com/cfp/servlet/event.showcfp?eventid=25772&copyow
 nerid=43190
UID:cfp302903-D@wikicfp.com
END:VEVENT
BEGIN:VEVENT
DTSTAMP:20260421T164152Z
DTSTART;VALUE=DATE:20121020
SUMMARY:Euroacademia 2012 Notification Due
DESCRIPTION:The Second Euroacademia International Conference The European
  Union and the Politicization of Europe 
URL:http://www.wikicfp.com/cfp/servlet/event.showcfp?eventid=25772&copyow
 nerid=43190
UID:cfp302903-N@wikicfp.com
END:VEVENT
BEGIN:VEVENT
DTSTAMP:20260421T164152Z
DTSTART;VALUE=DATE:20121120
SUMMARY:Euroacademia 2012 Final Version Due
DESCRIPTION:The Second Euroacademia International Conference The European
  Union and the Politicization of Europe 
URL:http://www.wikicfp.com/cfp/servlet/event.showcfp?eventid=25772&copyow
 nerid=43190
UID:cfp302903-N@wikicfp.com
END:VEVENT
BEGIN:VEVENT
DTSTAMP:20260421T164152Z
DTSTART;VALUE=DATE:20121117
DTEND;VALUE=DATE:20121118
SUMMARY:BRC Symposium  2012
DESCRIPTION:Symposium on Turkey\, European Union\, Eurasia\, Africa and A
 mericas
URL:http://www.wikicfp.com/cfp/servlet/event.showcfp?eventid=24141&copyow
 nerid=43190
UID:cfp302899-E@wikicfp.com
END:VEVENT
BEGIN:VEVENT
DTSTAMP:20260421T164152Z
DTSTART;VALUE=DATE:20120815
SUMMARY:BRC Symposium  2012 Abstract Due
DESCRIPTION:Symposium on Turkey\, European Union\, Eurasia\, Africa and A
 mericas
URL:http://www.wikicfp.com/cfp/servlet/event.showcfp?eventid=24141&copyow
 nerid=43190
UID:cfp302899-A@wikicfp.com
END:VEVENT
BEGIN:VEVENT
DTSTAMP:20260421T164152Z
DTSTART;VALUE=DATE:20121030
SUMMARY:BRC Symposium  2012 Deadline
DESCRIPTION:Symposium on Turkey\, European Union\, Eurasia\, Africa and A
 mericas
URL:http://www.wikicfp.com/cfp/servlet/event.showcfp?eventid=24141&copyow
 nerid=43190
UID:cfp302899-D@wikicfp.com
END:VEVENT
BEGIN:VEVENT
DTSTAMP:20260421T164152Z
DTSTART;VALUE=DATE:20121030
SUMMARY:BRC Symposium  2012 Final Version Due
DESCRIPTION:Symposium on Turkey\, European Union\, Eurasia\, Africa and A
 mericas
URL:http://www.wikicfp.com/cfp/servlet/event.showcfp?eventid=24141&copyow
 nerid=43190
UID:cfp302899-N@wikicfp.com
END:VEVENT
BEGIN:VEVENT
DTSTAMP:20260421T164152Z
DTSTART;VALUE=DATE:20130107
DTEND;VALUE=DATE:20130109
SUMMARY:Shanti-Quest 2013
DESCRIPTION:International Conference on Re-booting India's Growth Engine
URL:http://www.wikicfp.com/cfp/servlet/event.showcfp?eventid=25200&copyow
 nerid=43190
UID:cfp302896-E@wikicfp.com
END:VEVENT
BEGIN:VEVENT
DTSTAMP:20260421T164152Z
DTSTART;VALUE=DATE:20120915
SUMMARY:Shanti-Quest 2013 Abstract Due
DESCRIPTION:International Conference on Re-booting India's Growth Engine
URL:http://www.wikicfp.com/cfp/servlet/event.showcfp?eventid=25200&copyow
 nerid=43190
UID:cfp302896-A@wikicfp.com
END:VEVENT
BEGIN:VEVENT
DTSTAMP:20260421T164152Z
DTSTART;VALUE=DATE:20121031
SUMMARY:Shanti-Quest 2013 Deadline
DESCRIPTION:International Conference on Re-booting India's Growth Engine
URL:http://www.wikicfp.com/cfp/servlet/event.showcfp?eventid=25200&copyow
 nerid=43190
UID:cfp302896-D@wikicfp.com
END:VEVENT
BEGIN:VEVENT
DTSTAMP:20260421T164152Z
DTSTART;VALUE=DATE:20120930
SUMMARY:Shanti-Quest 2013 Notification Due
DESCRIPTION:International Conference on Re-booting India's Growth Engine
URL:http://www.wikicfp.com/cfp/servlet/event.showcfp?eventid=25200&copyow
 nerid=43190
UID:cfp302896-N@wikicfp.com
END:VEVENT
BEGIN:VEVENT
DTSTAMP:20260421T164152Z
DTSTART;VALUE=DATE:20121031
SUMMARY:Shanti-Quest 2013 Final Version Due
DESCRIPTION:International Conference on Re-booting India's Growth Engine
URL:http://www.wikicfp.com/cfp/servlet/event.showcfp?eventid=25200&copyow
 nerid=43190
UID:cfp302896-N@wikicfp.com
END:VEVENT
BEGIN:VEVENT
DTSTAMP:20260421T164152Z
DTSTART;VALUE=DATE:20121213
DTEND;VALUE=DATE:20121216
SUMMARY:Euroacademia 2012
DESCRIPTION:The Euroacademia Global Forum of Critical Studies: Asking Big
  Questions Again
URL:http://www.wikicfp.com/cfp/servlet/event.showcfp?eventid=25771&copyow
 nerid=43190
UID:cfp302897-E@wikicfp.com
END:VEVENT
BEGIN:VEVENT
DTSTAMP:20260421T164152Z
DTSTART;VALUE=DATE:20121101
SUMMARY:Euroacademia 2012 Deadline
DESCRIPTION:The Euroacademia Global Forum of Critical Studies: Asking Big
  Questions Again
URL:http://www.wikicfp.com/cfp/servlet/event.showcfp?eventid=25771&copyow
 nerid=43190
UID:cfp302897-D@wikicfp.com
END:VEVENT
BEGIN:VEVENT
DTSTAMP:20260421T164152Z
DTSTART;VALUE=DATE:20121105
SUMMARY:Euroacademia 2012 Notification Due
DESCRIPTION:The Euroacademia Global Forum of Critical Studies: Asking Big
  Questions Again
URL:http://www.wikicfp.com/cfp/servlet/event.showcfp?eventid=25771&copyow
 nerid=43190
UID:cfp302897-N@wikicfp.com
END:VEVENT
BEGIN:VEVENT
DTSTAMP:20260421T164152Z
DTSTART;VALUE=DATE:20121120
SUMMARY:Euroacademia 2012 Final Version Due
DESCRIPTION:The Euroacademia Global Forum of Critical Studies: Asking Big
  Questions Again
URL:http://www.wikicfp.com/cfp/servlet/event.showcfp?eventid=25771&copyow
 nerid=43190
UID:cfp302897-N@wikicfp.com
END:VEVENT
BEGIN:VEVENT
DTSTAMP:20260421T164152Z
DTSTART;VALUE=DATE:20130119
DTEND;VALUE=DATE:20130121
SUMMARY:ICGLC 2013
DESCRIPTION:2013 2nd International Conference on Government\, Law and Cul
 ture
URL:http://www.wikicfp.com/cfp/servlet/event.showcfp?eventid=24607&copyow
 nerid=43190
UID:cfp302888-E@wikicfp.com
END:VEVENT
BEGIN:VEVENT
DTSTAMP:20260421T164152Z
DTSTART;VALUE=DATE:20121115
SUMMARY:ICGLC 2013 Deadline
DESCRIPTION:2013 2nd International Conference on Government\, Law and Cul
 ture
URL:http://www.wikicfp.com/cfp/servlet/event.showcfp?eventid=24607&copyow
 nerid=43190
UID:cfp302888-D@wikicfp.com
END:VEVENT
BEGIN:VEVENT
DTSTAMP:20260421T164152Z
DTSTART;VALUE=DATE:20121130
SUMMARY:ICGLC 2013 Notification Due
DESCRIPTION:2013 2nd International Conference on Government\, Law and Cul
 ture
URL:http://www.wikicfp.com/cfp/servlet/event.showcfp?eventid=24607&copyow
 nerid=43190
UID:cfp302888-N@wikicfp.com
END:VEVENT
BEGIN:VEVENT
DTSTAMP:20260421T164152Z
DTSTART;VALUE=DATE:20121215
SUMMARY:ICGLC 2013 Final Version Due
DESCRIPTION:2013 2nd International Conference on Government\, Law and Cul
 ture
URL:http://www.wikicfp.com/cfp/servlet/event.showcfp?eventid=24607&copyow
 nerid=43190
UID:cfp302888-N@wikicfp.com
END:VEVENT
BEGIN:VEVENT
DTSTAMP:20260421T164152Z
DTSTART;VALUE=DATE:20111213
DTEND;VALUE=DATE:20121201
SUMMARY:IDP Journal 2013
DESCRIPTION:IDP. Journal on Internet\, Law and Politics - Call for papers
 
URL:http://www.wikicfp.com/cfp/servlet/event.showcfp?eventid=20177&copyow
 nerid=43190
UID:cfp302886-E@wikicfp.com
END:VEVENT
BEGIN:VEVENT
DTSTAMP:20260421T164152Z
DTSTART;VALUE=DATE:20121130
SUMMARY:IDP Journal 2013 Deadline
DESCRIPTION:IDP. Journal on Internet\, Law and Politics - Call for papers
 
URL:http://www.wikicfp.com/cfp/servlet/event.showcfp?eventid=20177&copyow
 nerid=43190
UID:cfp302886-D@wikicfp.com
END:VEVENT
BEGIN:VEVENT
DTSTAMP:20260421T164152Z
DTSTART;VALUE=DATE:20130606
DTEND;VALUE=DATE:20130608
SUMMARY:Law and Popular Culture 2013
DESCRIPTION:Law and Popular Culture: International Perspectives
URL:http://www.wikicfp.com/cfp/servlet/event.showcfp?eventid=25922&copyow
 nerid=43190
UID:cfp302889-E@wikicfp.com
END:VEVENT
BEGIN:VEVENT
DTSTAMP:20260421T164152Z
DTSTART;VALUE=DATE:20121201
SUMMARY:Law and Popular Culture 2013 Deadline
DESCRIPTION:Law and Popular Culture: International Perspectives
URL:http://www.wikicfp.com/cfp/servlet/event.showcfp?eventid=25922&copyow
 nerid=43190
UID:cfp302889-D@wikicfp.com
END:VEVENT
BEGIN:VEVENT
DTSTAMP:20260421T164152Z
DTSTART;VALUE=DATE:20130215
DTEND;VALUE=DATE:20130217
SUMMARY:DePaul 2013
DESCRIPTION:DePaul University Philosophy Graduate Conference
URL:http://www.wikicfp.com/cfp/servlet/event.showcfp?eventid=25913&copyow
 nerid=43190
UID:cfp302904-E@wikicfp.com
END:VEVENT
BEGIN:VEVENT
DTSTAMP:20260421T164152Z
DTSTART;VALUE=DATE:20121215
SUMMARY:DePaul 2013 Deadline
DESCRIPTION:DePaul University Philosophy Graduate Conference
URL:http://www.wikicfp.com/cfp/servlet/event.showcfp?eventid=25913&copyow
 nerid=43190
UID:cfp302904-D@wikicfp.com
END:VEVENT
BEGIN:VEVENT
DTSTAMP:20260421T164152Z
DTSTART;VALUE=DATE:20130221
DTEND;VALUE=DATE:20130224
SUMMARY:Euroacademia 2013
DESCRIPTION:The Third Euroacademia Global Conference Europe Inside-Out: E
 urope and Europeaness Exposed to Plural Observers
URL:http://www.wikicfp.com/cfp/servlet/event.showcfp?eventid=25770&copyow
 nerid=43190
UID:cfp302902-E@wikicfp.com
END:VEVENT
BEGIN:VEVENT
DTSTAMP:20260421T164152Z
DTSTART;VALUE=DATE:20121220
SUMMARY:Euroacademia 2013 Deadline
DESCRIPTION:The Third Euroacademia Global Conference Europe Inside-Out: E
 urope and Europeaness Exposed to Plural Observers
URL:http://www.wikicfp.com/cfp/servlet/event.showcfp?eventid=25770&copyow
 nerid=43190
UID:cfp302902-D@wikicfp.com
END:VEVENT
BEGIN:VEVENT
DTSTAMP:20260421T164152Z
DTSTART;VALUE=DATE:20121223
SUMMARY:Euroacademia 2013 Notification Due
DESCRIPTION:The Third Euroacademia Global Conference Europe Inside-Out: E
 urope and Europeaness Exposed to Plural Observers
URL:http://www.wikicfp.com/cfp/servlet/event.showcfp?eventid=25770&copyow
 nerid=43190
UID:cfp302902-N@wikicfp.com
END:VEVENT
BEGIN:VEVENT
DTSTAMP:20260421T164152Z
DTSTART;VALUE=DATE:20130120
SUMMARY:Euroacademia 2013 Final Version Due
DESCRIPTION:The Third Euroacademia Global Conference Europe Inside-Out: E
 urope and Europeaness Exposed to Plural Observers
URL:http://www.wikicfp.com/cfp/servlet/event.showcfp?eventid=25770&copyow
 nerid=43190
UID:cfp302902-N@wikicfp.com
END:VEVENT
BEGIN:VEVENT
DTSTAMP:20260421T164152Z
DTSTART;VALUE=DATE:20130715
DTEND;VALUE=DATE:20130719
SUMMARY:ATINER LAW 2013
DESCRIPTION:10th Annual International Conference on Law
URL:http://www.wikicfp.com/cfp/servlet/event.showcfp?eventid=24606&copyow
 nerid=43190
UID:cfp302887-E@wikicfp.com
END:VEVENT
BEGIN:VEVENT
DTSTAMP:20260421T164152Z
DTSTART;VALUE=DATE:20121224
SUMMARY:ATINER LAW 2013 Deadline
DESCRIPTION:10th Annual International Conference on Law
URL:http://www.wikicfp.com/cfp/servlet/event.showcfp?eventid=24606&copyow
 nerid=43190
UID:cfp302887-D@wikicfp.com
END:VEVENT
BEGIN:VEVENT
DTSTAMP:20260421T164152Z
DTSTART;VALUE=DATE:20130317
DTEND;VALUE=DATE:20130319
SUMMARY:ICSSH 2013
DESCRIPTION:2013 2nd International Conference on Social Science and Human
 ity 
URL:http://www.wikicfp.com/cfp/servlet/event.showcfp?eventid=25736&copyow
 nerid=43190
UID:cfp302894-E@wikicfp.com
END:VEVENT
BEGIN:VEVENT
DTSTAMP:20260421T164152Z
DTSTART;VALUE=DATE:20130115
SUMMARY:ICSSH 2013 Deadline
DESCRIPTION:2013 2nd International Conference on Social Science and Human
 ity 
URL:http://www.wikicfp.com/cfp/servlet/event.showcfp?eventid=25736&copyow
 nerid=43190
UID:cfp302894-D@wikicfp.com
END:VEVENT
BEGIN:VEVENT
DTSTAMP:20260421T164152Z
DTSTART;VALUE=DATE:20130205
SUMMARY:ICSSH 2013 Notification Due
DESCRIPTION:2013 2nd International Conference on Social Science and Human
 ity 
URL:http://www.wikicfp.com/cfp/servlet/event.showcfp?eventid=25736&copyow
 nerid=43190
UID:cfp302894-N@wikicfp.com
END:VEVENT
BEGIN:VEVENT
DTSTAMP:20260421T164152Z
DTSTART;VALUE=DATE:20130220
SUMMARY:ICSSH 2013 Final Version Due
DESCRIPTION:2013 2nd International Conference on Social Science and Human
 ity 
URL:http://www.wikicfp.com/cfp/servlet/event.showcfp?eventid=25736&copyow
 nerid=43190
UID:cfp302894-N@wikicfp.com
END:VEVENT
BEGIN:VEVENT
DTSTAMP:20260421T164152Z
DTSTART;VALUE=DATE:20121231
SUMMARY:ASEAS 2013 Abstract Due
DESCRIPTION:ASEAS - Austrian Journal of South-East Asian Studies / Ãster
 reichische Zeitschrift fÃ¼r SÃ¼dostasienwissenschaften
URL:http://www.wikicfp.com/cfp/servlet/event.showcfp?eventid=24188&copyow
 nerid=43190
UID:cfp302890-A@wikicfp.com
END:VEVENT
BEGIN:VEVENT
DTSTAMP:20260421T164152Z
DTSTART;VALUE=DATE:20130215
SUMMARY:ASEAS 2013 Deadline
DESCRIPTION:ASEAS - Austrian Journal of South-East Asian Studies / Ãster
 reichische Zeitschrift fÃ¼r SÃ¼dostasienwissenschaften
URL:http://www.wikicfp.com/cfp/servlet/event.showcfp?eventid=24188&copyow
 nerid=43190
UID:cfp302890-D@wikicfp.com
END:VEVENT
BEGIN:VEVENT
DTSTAMP:20260421T164152Z
DTSTART;VALUE=DATE:20130215
SUMMARY:ASEAS 2013 Final Version Due
DESCRIPTION:ASEAS - Austrian Journal of South-East Asian Studies / Ãster
 reichische Zeitschrift fÃ¼r SÃ¼dostasienwissenschaften
URL:http://www.wikicfp.com/cfp/servlet/event.showcfp?eventid=24188&copyow
 nerid=43190
UID:cfp302890-N@wikicfp.com
END:VEVENT
BEGIN:VEVENT
DTSTAMP:20260421T164152Z
DTSTART;VALUE=DATE:20130416
DTEND;VALUE=DATE:20130419
SUMMARY:Thehistory 2013
DESCRIPTION:Kurds and Kurdistan in Ottoman Period
URL:http://www.wikicfp.com/cfp/servlet/event.showcfp?eventid=25362&copyow
 nerid=43190
UID:cfp302905-E@wikicfp.com
END:VEVENT
BEGIN:VEVENT
DTSTAMP:20260421T164152Z
DTSTART;VALUE=DATE:20121115
SUMMARY:Thehistory 2013 Abstract Due
DESCRIPTION:Kurds and Kurdistan in Ottoman Period
URL:http://www.wikicfp.com/cfp/servlet/event.showcfp?eventid=25362&copyow
 nerid=43190
UID:cfp302905-A@wikicfp.com
END:VEVENT
BEGIN:VEVENT
DTSTAMP:20260421T164152Z
DTSTART;VALUE=DATE:20130215
SUMMARY:Thehistory 2013 Deadline
DESCRIPTION:Kurds and Kurdistan in Ottoman Period
URL:http://www.wikicfp.com/cfp/servlet/event.showcfp?eventid=25362&copyow
 nerid=43190
UID:cfp302905-D@wikicfp.com
END:VEVENT
BEGIN:VEVENT
DTSTAMP:20260421T164152Z
DTSTART;VALUE=DATE:20130301
SUMMARY:Thehistory 2013 Notification Due
DESCRIPTION:Kurds and Kurdistan in Ottoman Period
URL:http://www.wikicfp.com/cfp/servlet/event.showcfp?eventid=25362&copyow
 nerid=43190
UID:cfp302905-N@wikicfp.com
END:VEVENT
BEGIN:VEVENT
DTSTAMP:20260421T164152Z
DTSTART;VALUE=DATE:20130315
SUMMARY:Thehistory 2013 Final Version Due
DESCRIPTION:Kurds and Kurdistan in Ottoman Period
URL:http://www.wikicfp.com/cfp/servlet/event.showcfp?eventid=25362&copyow
 nerid=43190
UID:cfp302905-N@wikicfp.com
END:VEVENT
BEGIN:VEVENT
DTSTAMP:20260421T164152Z
DTSTART;VALUE=DATE:20120821
DTEND;VALUE=DATE:20120302
SUMMARY:OTHCY 2013
DESCRIPTION:NEW BOOK: Othello's Island: Mediaeval and Renaissance Cyprus 
 in art\, literature and wider culture
URL:http://www.wikicfp.com/cfp/servlet/event.showcfp?eventid=25368&copyow
 nerid=43190
UID:cfp302906-E@wikicfp.com
END:VEVENT
BEGIN:VEVENT
DTSTAMP:20260421T164152Z
DTSTART;VALUE=DATE:20130301
SUMMARY:OTHCY 2013 Deadline
DESCRIPTION:NEW BOOK: Othello's Island: Mediaeval and Renaissance Cyprus 
 in art\, literature and wider culture
URL:http://www.wikicfp.com/cfp/servlet/event.showcfp?eventid=25368&copyow
 nerid=43190
UID:cfp302906-D@wikicfp.com
END:VEVENT
BEGIN:VEVENT
DTSTAMP:20260421T164152Z
DTSTART;VALUE=DATE:20120501
SUMMARY:OTHCY 2013 Final Version Due
DESCRIPTION:NEW BOOK: Othello's Island: Mediaeval and Renaissance Cyprus 
 in art\, literature and wider culture
URL:http://www.wikicfp.com/cfp/servlet/event.showcfp?eventid=25368&copyow
 nerid=43190
UID:cfp302906-N@wikicfp.com
END:VEVENT
BEGIN:VEVENT
DTSTAMP:20260421T164152Z
DTSTART;VALUE=DATE:20130418
DTEND;VALUE=DATE:20130421
SUMMARY:Euroacademia1 2013
DESCRIPTION:Identities and Identifications: Politicized Uses of Collectiv
 e Identities 
URL:http://www.wikicfp.com/cfp/servlet/event.showcfp?eventid=25768&copyow
 nerid=43190
UID:cfp302901-E@wikicfp.com
END:VEVENT
BEGIN:VEVENT
DTSTAMP:20260421T164152Z
DTSTART;VALUE=DATE:20130301
SUMMARY:Euroacademia1 2013 Deadline
DESCRIPTION:Identities and Identifications: Politicized Uses of Collectiv
 e Identities 
URL:http://www.wikicfp.com/cfp/servlet/event.showcfp?eventid=25768&copyow
 nerid=43190
UID:cfp302901-D@wikicfp.com
END:VEVENT
BEGIN:VEVENT
DTSTAMP:20260421T164152Z
DTSTART;VALUE=DATE:20130305
SUMMARY:Euroacademia1 2013 Notification Due
DESCRIPTION:Identities and Identifications: Politicized Uses of Collectiv
 e Identities 
URL:http://www.wikicfp.com/cfp/servlet/event.showcfp?eventid=25768&copyow
 nerid=43190
UID:cfp302901-N@wikicfp.com
END:VEVENT
BEGIN:VEVENT
DTSTAMP:20260421T164152Z
DTSTART;VALUE=DATE:20130320
SUMMARY:Euroacademia1 2013 Final Version Due
DESCRIPTION:Identities and Identifications: Politicized Uses of Collectiv
 e Identities 
URL:http://www.wikicfp.com/cfp/servlet/event.showcfp?eventid=25768&copyow
 nerid=43190
UID:cfp302901-N@wikicfp.com
END:VEVENT
BEGIN:VEVENT
DTSTAMP:20260421T164152Z
DTSTART;VALUE=DATE:20120606
DTEND;VALUE=DATE:20120610
SUMMARY:ACSS 2013
DESCRIPTION:The Asian Conference on the Social Sciences 2013
URL:http://www.wikicfp.com/cfp/servlet/event.showcfp?eventid=25131&copyow
 nerid=43190
UID:cfp302893-E@wikicfp.com
END:VEVENT
BEGIN:VEVENT
DTSTAMP:20260421T164152Z
DTSTART;VALUE=DATE:20130415
SUMMARY:ACSS 2013 Deadline
DESCRIPTION:The Asian Conference on the Social Sciences 2013
URL:http://www.wikicfp.com/cfp/servlet/event.showcfp?eventid=25131&copyow
 nerid=43190
UID:cfp302893-D@wikicfp.com
END:VEVENT
BEGIN:VEVENT
DTSTAMP:20260421T164152Z
DTSTART;VALUE=DATE:20130701
SUMMARY:ACSS 2013 Final Version Due
DESCRIPTION:The Asian Conference on the Social Sciences 2013
URL:http://www.wikicfp.com/cfp/servlet/event.showcfp?eventid=25131&copyow
 nerid=43190
UID:cfp302893-N@wikicfp.com
END:VEVENT
BEGIN:VEVENT
DTSTAMP:20260421T164152Z
DTSTART;VALUE=DATE:20131115
DTEND;VALUE=DATE:20131117
SUMMARY:SE2020-SEC 2013
DESCRIPTION:3-rd International Symposium on Shaping Europe 2020: socio-ec
 onomic challenges
URL:http://www.wikicfp.com/cfp/servlet/event.showcfp?eventid=24556&copyow
 nerid=43190
UID:cfp302891-E@wikicfp.com
END:VEVENT
BEGIN:VEVENT
DTSTAMP:20260421T164152Z
DTSTART;VALUE=DATE:20131015
SUMMARY:SE2020-SEC 2013 Abstract Due
DESCRIPTION:3-rd International Symposium on Shaping Europe 2020: socio-ec
 onomic challenges
URL:http://www.wikicfp.com/cfp/servlet/event.showcfp?eventid=24556&copyow
 nerid=43190
UID:cfp302891-A@wikicfp.com
END:VEVENT
BEGIN:VEVENT
DTSTAMP:20260421T164152Z
DTSTART;VALUE=DATE:20131030
SUMMARY:SE2020-SEC 2013 Deadline
DESCRIPTION:3-rd International Symposium on Shaping Europe 2020: socio-ec
 onomic challenges
URL:http://www.wikicfp.com/cfp/servlet/event.showcfp?eventid=24556&copyow
 nerid=43190
UID:cfp302891-D@wikicfp.com
END:VEVENT
BEGIN:VEVENT
DTSTAMP:20260421T164152Z
DTSTART;VALUE=DATE:20130312
DTEND;VALUE=DATE:20130317
SUMMARY:ICOT 2013
DESCRIPTION:2013 IEEE International Conference on Orange Technologies
URL:http://www.wikicfp.com/cfp/servlet/event.showcfp?eventid=24943&copyow
 nerid=43190
UID:cfp302895-E@wikicfp.com
END:VEVENT
BEGIN:VEVENT
DTSTAMP:20260421T164152Z
DTSTART;VALUE=DATE:20131125
SUMMARY:ICOT 2013 Deadline
DESCRIPTION:2013 IEEE International Conference on Orange Technologies
URL:http://www.wikicfp.com/cfp/servlet/event.showcfp?eventid=24943&copyow
 nerid=43190
UID:cfp302895-D@wikicfp.com
END:VEVENT
END:VCALENDAR
