BEGIN:VCALENDAR
PRODID:-//WikiCFP//kittynmhao 1.0//EN
VERSION:2.0
CALSCALE:GREGORIAN
BEGIN:VEVENT
DTSTAMP:20260424T192104Z
DTSTART;VALUE=DATE:20130326
DTEND;VALUE=DATE:20130329
SUMMARY:MobileCloud 2013
DESCRIPTION:The IEEE International Symposium on Mobile Cloud\, Computing 
 and Service Engineering
URL:http://www.wikicfp.com/cfp/servlet/event.showcfp?eventid=24389&copyow
 nerid=43143
UID:cfp302577-E@wikicfp.com
END:VEVENT
BEGIN:VEVENT
DTSTAMP:20260424T192104Z
DTSTART;VALUE=DATE:20121031
SUMMARY:MobileCloud 2013 Deadline
DESCRIPTION:The IEEE International Symposium on Mobile Cloud\, Computing 
 and Service Engineering
URL:http://www.wikicfp.com/cfp/servlet/event.showcfp?eventid=24389&copyow
 nerid=43143
UID:cfp302577-D@wikicfp.com
END:VEVENT
BEGIN:VEVENT
DTSTAMP:20260424T192104Z
DTSTART;VALUE=DATE:20121231
SUMMARY:MobileCloud 2013 Notification Due
DESCRIPTION:The IEEE International Symposium on Mobile Cloud\, Computing 
 and Service Engineering
URL:http://www.wikicfp.com/cfp/servlet/event.showcfp?eventid=24389&copyow
 nerid=43143
UID:cfp302577-N@wikicfp.com
END:VEVENT
BEGIN:VEVENT
DTSTAMP:20260424T192104Z
DTSTART;VALUE=DATE:20130115
SUMMARY:MobileCloud 2013 Final Version Due
DESCRIPTION:The IEEE International Symposium on Mobile Cloud\, Computing 
 and Service Engineering
URL:http://www.wikicfp.com/cfp/servlet/event.showcfp?eventid=24389&copyow
 nerid=43143
UID:cfp302577-N@wikicfp.com
END:VEVENT
BEGIN:VEVENT
DTSTAMP:20260424T192104Z
DTSTART;VALUE=DATE:20130701
DTEND;VALUE=DATE:20130706
SUMMARY:IWCMC 2013
DESCRIPTION:9th International Wireless Communications And Mobile Computin
 g Conference
URL:http://www.wikicfp.com/cfp/servlet/event.showcfp?eventid=23515&copyow
 nerid=43143
UID:cfp302578-E@wikicfp.com
END:VEVENT
BEGIN:VEVENT
DTSTAMP:20260424T192104Z
DTSTART;VALUE=DATE:20130115
SUMMARY:IWCMC 2013 Deadline
DESCRIPTION:9th International Wireless Communications And Mobile Computin
 g Conference
URL:http://www.wikicfp.com/cfp/servlet/event.showcfp?eventid=23515&copyow
 nerid=43143
UID:cfp302578-D@wikicfp.com
END:VEVENT
BEGIN:VEVENT
DTSTAMP:20260424T192104Z
DTSTART;VALUE=DATE:20130315
SUMMARY:IWCMC 2013 Notification Due
DESCRIPTION:9th International Wireless Communications And Mobile Computin
 g Conference
URL:http://www.wikicfp.com/cfp/servlet/event.showcfp?eventid=23515&copyow
 nerid=43143
UID:cfp302578-N@wikicfp.com
END:VEVENT
BEGIN:VEVENT
DTSTAMP:20260424T192104Z
DTSTART;VALUE=DATE:20130401
SUMMARY:IWCMC 2013 Final Version Due
DESCRIPTION:9th International Wireless Communications And Mobile Computin
 g Conference
URL:http://www.wikicfp.com/cfp/servlet/event.showcfp?eventid=23515&copyow
 nerid=43143
UID:cfp302578-N@wikicfp.com
END:VEVENT
BEGIN:VEVENT
DTSTAMP:20260424T192104Z
DTSTART;VALUE=DATE:20130827
DTEND;VALUE=DATE:20130831
SUMMARY:MobileHCI 2013
DESCRIPTION:15th International Conference on Human-Computer Interaction w
 ith Mobile Devices and Services
URL:http://www.wikicfp.com/cfp/servlet/event.showcfp?eventid=25514&copyow
 nerid=43143
UID:cfp319204-E@wikicfp.com
END:VEVENT
BEGIN:VEVENT
DTSTAMP:20260424T192104Z
DTSTART;VALUE=DATE:20130215
SUMMARY:MobileHCI 2013 Deadline
DESCRIPTION:15th International Conference on Human-Computer Interaction w
 ith Mobile Devices and Services
URL:http://www.wikicfp.com/cfp/servlet/event.showcfp?eventid=25514&copyow
 nerid=43143
UID:cfp319204-D@wikicfp.com
END:VEVENT
BEGIN:VEVENT
DTSTAMP:20260424T192104Z
DTSTART;VALUE=DATE:20130426
SUMMARY:MobileHCI 2013 Notification Due
DESCRIPTION:15th International Conference on Human-Computer Interaction w
 ith Mobile Devices and Services
URL:http://www.wikicfp.com/cfp/servlet/event.showcfp?eventid=25514&copyow
 nerid=43143
UID:cfp319204-N@wikicfp.com
END:VEVENT
BEGIN:VEVENT
DTSTAMP:20260424T192104Z
DTSTART;VALUE=DATE:20130531
SUMMARY:MobileHCI 2013 Final Version Due
DESCRIPTION:15th International Conference on Human-Computer Interaction w
 ith Mobile Devices and Services
URL:http://www.wikicfp.com/cfp/servlet/event.showcfp?eventid=25514&copyow
 nerid=43143
UID:cfp319204-N@wikicfp.com
END:VEVENT
BEGIN:VEVENT
DTSTAMP:20260424T192104Z
DTSTART;VALUE=DATE:20130930
DTEND;VALUE=DATE:20131005
SUMMARY:MobiCom 2013
DESCRIPTION:The 19th Annual International Conference on Mobile Computing 
 and Networking
URL:http://www.wikicfp.com/cfp/servlet/event.showcfp?eventid=27246&copyow
 nerid=43143
UID:cfp319210-E@wikicfp.com
END:VEVENT
BEGIN:VEVENT
DTSTAMP:20260424T192104Z
DTSTART;VALUE=DATE:20130308
SUMMARY:MobiCom 2013 Abstract Due
DESCRIPTION:The 19th Annual International Conference on Mobile Computing 
 and Networking
URL:http://www.wikicfp.com/cfp/servlet/event.showcfp?eventid=27246&copyow
 nerid=43143
UID:cfp319210-A@wikicfp.com
END:VEVENT
BEGIN:VEVENT
DTSTAMP:20260424T192104Z
DTSTART;VALUE=DATE:20130315
SUMMARY:MobiCom 2013 Deadline
DESCRIPTION:The 19th Annual International Conference on Mobile Computing 
 and Networking
URL:http://www.wikicfp.com/cfp/servlet/event.showcfp?eventid=27246&copyow
 nerid=43143
UID:cfp319210-D@wikicfp.com
END:VEVENT
BEGIN:VEVENT
DTSTAMP:20260424T192104Z
DTSTART;VALUE=DATE:20130609
SUMMARY:MobiCom 2013 Notification Due
DESCRIPTION:The 19th Annual International Conference on Mobile Computing 
 and Networking
URL:http://www.wikicfp.com/cfp/servlet/event.showcfp?eventid=27246&copyow
 nerid=43143
UID:cfp319210-N@wikicfp.com
END:VEVENT
BEGIN:VEVENT
DTSTAMP:20260424T192104Z
DTSTART;VALUE=DATE:20130715
SUMMARY:MobiCom 2013 Final Version Due
DESCRIPTION:The 19th Annual International Conference on Mobile Computing 
 and Networking
URL:http://www.wikicfp.com/cfp/servlet/event.showcfp?eventid=27246&copyow
 nerid=43143
UID:cfp319210-N@wikicfp.com
END:VEVENT
BEGIN:VEVENT
DTSTAMP:20260424T192104Z
DTSTART;VALUE=DATE:20130628
DTEND;VALUE=DATE:20130701
SUMMARY:iCETS  2013
DESCRIPTION:2013 Macau International Conference on E-Business Technology 
 and Strategy
URL:http://www.wikicfp.com/cfp/servlet/event.showcfp?eventid=26040&copyow
 nerid=43143
UID:cfp319209-E@wikicfp.com
END:VEVENT
BEGIN:VEVENT
DTSTAMP:20260424T192104Z
DTSTART;VALUE=DATE:20130320
SUMMARY:iCETS  2013 Deadline
DESCRIPTION:2013 Macau International Conference on E-Business Technology 
 and Strategy
URL:http://www.wikicfp.com/cfp/servlet/event.showcfp?eventid=26040&copyow
 nerid=43143
UID:cfp319209-D@wikicfp.com
END:VEVENT
BEGIN:VEVENT
DTSTAMP:20260424T192104Z
DTSTART;VALUE=DATE:20130331
SUMMARY:iCETS  2013 Notification Due
DESCRIPTION:2013 Macau International Conference on E-Business Technology 
 and Strategy
URL:http://www.wikicfp.com/cfp/servlet/event.showcfp?eventid=26040&copyow
 nerid=43143
UID:cfp319209-N@wikicfp.com
END:VEVENT
BEGIN:VEVENT
DTSTAMP:20260424T192104Z
DTSTART;VALUE=DATE:20130415
SUMMARY:iCETS  2013 Final Version Due
DESCRIPTION:2013 Macau International Conference on E-Business Technology 
 and Strategy
URL:http://www.wikicfp.com/cfp/servlet/event.showcfp?eventid=26040&copyow
 nerid=43143
UID:cfp319209-N@wikicfp.com
END:VEVENT
BEGIN:VEVENT
DTSTAMP:20260424T192104Z
DTSTART;VALUE=DATE:20130825
DTEND;VALUE=DATE:20130829
SUMMARY:ASONAM 2013
DESCRIPTION:The 2013 IEEE/ACM International Conference on Advances in Soc
 ial Networks Analysis and Mining
URL:http://www.wikicfp.com/cfp/servlet/event.showcfp?eventid=26725&copyow
 nerid=43143
UID:cfp319207-E@wikicfp.com
END:VEVENT
BEGIN:VEVENT
DTSTAMP:20260424T192104Z
DTSTART;VALUE=DATE:20130408
SUMMARY:ASONAM 2013 Abstract Due
DESCRIPTION:The 2013 IEEE/ACM International Conference on Advances in Soc
 ial Networks Analysis and Mining
URL:http://www.wikicfp.com/cfp/servlet/event.showcfp?eventid=26725&copyow
 nerid=43143
UID:cfp319207-A@wikicfp.com
END:VEVENT
BEGIN:VEVENT
DTSTAMP:20260424T192104Z
DTSTART;VALUE=DATE:20130415
SUMMARY:ASONAM 2013 Deadline
DESCRIPTION:The 2013 IEEE/ACM International Conference on Advances in Soc
 ial Networks Analysis and Mining
URL:http://www.wikicfp.com/cfp/servlet/event.showcfp?eventid=26725&copyow
 nerid=43143
UID:cfp319207-D@wikicfp.com
END:VEVENT
BEGIN:VEVENT
DTSTAMP:20260424T192104Z
DTSTART;VALUE=DATE:20130520
SUMMARY:ASONAM 2013 Notification Due
DESCRIPTION:The 2013 IEEE/ACM International Conference on Advances in Soc
 ial Networks Analysis and Mining
URL:http://www.wikicfp.com/cfp/servlet/event.showcfp?eventid=26725&copyow
 nerid=43143
UID:cfp319207-N@wikicfp.com
END:VEVENT
BEGIN:VEVENT
DTSTAMP:20260424T192104Z
DTSTART;VALUE=DATE:20130531
SUMMARY:ASONAM 2013 Final Version Due
DESCRIPTION:The 2013 IEEE/ACM International Conference on Advances in Soc
 ial Networks Analysis and Mining
URL:http://www.wikicfp.com/cfp/servlet/event.showcfp?eventid=26725&copyow
 nerid=43143
UID:cfp319207-N@wikicfp.com
END:VEVENT
BEGIN:VEVENT
DTSTAMP:20260424T192104Z
DTSTART;VALUE=DATE:20130215
DTEND;VALUE=DATE:20130316
SUMMARY:Online Social Networks 2013
DESCRIPTION:Examining the Current State and Future Prospects of Mobile So
 cial Networks
URL:http://www.wikicfp.com/cfp/servlet/event.showcfp?eventid=27250&copyow
 nerid=43143
UID:cfp319208-E@wikicfp.com
END:VEVENT
BEGIN:VEVENT
DTSTAMP:20260424T192104Z
DTSTART;VALUE=DATE:20130215
SUMMARY:Online Social Networks 2013 Abstract Due
DESCRIPTION:Examining the Current State and Future Prospects of Mobile So
 cial Networks
URL:http://www.wikicfp.com/cfp/servlet/event.showcfp?eventid=27250&copyow
 nerid=43143
UID:cfp319208-A@wikicfp.com
END:VEVENT
BEGIN:VEVENT
DTSTAMP:20260424T192104Z
DTSTART;VALUE=DATE:20130515
SUMMARY:Online Social Networks 2013 Deadline
DESCRIPTION:Examining the Current State and Future Prospects of Mobile So
 cial Networks
URL:http://www.wikicfp.com/cfp/servlet/event.showcfp?eventid=27250&copyow
 nerid=43143
UID:cfp319208-D@wikicfp.com
END:VEVENT
BEGIN:VEVENT
DTSTAMP:20260424T192104Z
DTSTART;VALUE=DATE:20130715
SUMMARY:Online Social Networks 2013 Notification Due
DESCRIPTION:Examining the Current State and Future Prospects of Mobile So
 cial Networks
URL:http://www.wikicfp.com/cfp/servlet/event.showcfp?eventid=27250&copyow
 nerid=43143
UID:cfp319208-N@wikicfp.com
END:VEVENT
BEGIN:VEVENT
DTSTAMP:20260424T192104Z
DTSTART;VALUE=DATE:20130915
SUMMARY:Online Social Networks 2013 Final Version Due
DESCRIPTION:Examining the Current State and Future Prospects of Mobile So
 cial Networks
URL:http://www.wikicfp.com/cfp/servlet/event.showcfp?eventid=27250&copyow
 nerid=43143
UID:cfp319208-N@wikicfp.com
END:VEVENT
BEGIN:VEVENT
DTSTAMP:20260424T192104Z
DTSTART;VALUE=DATE:20130930
DTEND;VALUE=DATE:20131003
SUMMARY:SCA 2013
DESCRIPTION:International Conference on Social Computing and its Applicat
 ions
URL:http://www.wikicfp.com/cfp/servlet/event.showcfp?eventid=26646&copyow
 nerid=43143
UID:cfp319206-E@wikicfp.com
END:VEVENT
BEGIN:VEVENT
DTSTAMP:20260424T192104Z
DTSTART;VALUE=DATE:20130615
SUMMARY:SCA 2013 Abstract Due
DESCRIPTION:International Conference on Social Computing and its Applicat
 ions
URL:http://www.wikicfp.com/cfp/servlet/event.showcfp?eventid=26646&copyow
 nerid=43143
UID:cfp319206-A@wikicfp.com
END:VEVENT
BEGIN:VEVENT
DTSTAMP:20260424T192104Z
DTSTART;VALUE=DATE:20130615
SUMMARY:SCA 2013 Deadline
DESCRIPTION:International Conference on Social Computing and its Applicat
 ions
URL:http://www.wikicfp.com/cfp/servlet/event.showcfp?eventid=26646&copyow
 nerid=43143
UID:cfp319206-D@wikicfp.com
END:VEVENT
BEGIN:VEVENT
DTSTAMP:20260424T192104Z
DTSTART;VALUE=DATE:20130710
SUMMARY:SCA 2013 Notification Due
DESCRIPTION:International Conference on Social Computing and its Applicat
 ions
URL:http://www.wikicfp.com/cfp/servlet/event.showcfp?eventid=26646&copyow
 nerid=43143
UID:cfp319206-N@wikicfp.com
END:VEVENT
BEGIN:VEVENT
DTSTAMP:20260424T192104Z
DTSTART;VALUE=DATE:20130812
SUMMARY:SCA 2013 Final Version Due
DESCRIPTION:International Conference on Social Computing and its Applicat
 ions
URL:http://www.wikicfp.com/cfp/servlet/event.showcfp?eventid=26646&copyow
 nerid=43143
UID:cfp319206-N@wikicfp.com
END:VEVENT
BEGIN:VEVENT
DTSTAMP:20260424T192104Z
DTSTART;VALUE=DATE:20131202
DTEND;VALUE=DATE:20131206
SUMMARY:MUM 2013
DESCRIPTION:12th International Conference on Mobile and Ubiquitous Multim
 edia
URL:http://www.wikicfp.com/cfp/servlet/event.showcfp?eventid=27421&copyow
 nerid=43143
UID:cfp319205-E@wikicfp.com
END:VEVENT
BEGIN:VEVENT
DTSTAMP:20260424T192104Z
DTSTART;VALUE=DATE:20130817
SUMMARY:MUM 2013 Abstract Due
DESCRIPTION:12th International Conference on Mobile and Ubiquitous Multim
 edia
URL:http://www.wikicfp.com/cfp/servlet/event.showcfp?eventid=27421&copyow
 nerid=43143
UID:cfp319205-A@wikicfp.com
END:VEVENT
BEGIN:VEVENT
DTSTAMP:20260424T192104Z
DTSTART;VALUE=DATE:20130821
SUMMARY:MUM 2013 Deadline
DESCRIPTION:12th International Conference on Mobile and Ubiquitous Multim
 edia
URL:http://www.wikicfp.com/cfp/servlet/event.showcfp?eventid=27421&copyow
 nerid=43143
UID:cfp319205-D@wikicfp.com
END:VEVENT
BEGIN:VEVENT
DTSTAMP:20260424T192104Z
DTSTART;VALUE=DATE:20131007
SUMMARY:MUM 2013 Notification Due
DESCRIPTION:12th International Conference on Mobile and Ubiquitous Multim
 edia
URL:http://www.wikicfp.com/cfp/servlet/event.showcfp?eventid=27421&copyow
 nerid=43143
UID:cfp319205-N@wikicfp.com
END:VEVENT
END:VCALENDAR
