BEGIN:VCALENDAR
PRODID:-//WikiCFP//hussamhamdan 1.0//EN
VERSION:2.0
CALSCALE:GREGORIAN
BEGIN:VEVENT
DTSTAMP:20260419T181144Z
DTSTART;VALUE=DATE:20121215
DTEND;VALUE=DATE:20121216
SUMMARY:SMR 2012
DESCRIPTION:1st International Workshop on Social Media Mining\, Retrieval
  and Recommendation Technologies
URL:http://www.wikicfp.com/cfp/servlet/event.showcfp?eventid=24692&copyow
 nerid=43114
UID:cfp302297-E@wikicfp.com
END:VEVENT
BEGIN:VEVENT
DTSTAMP:20260419T181144Z
DTSTART;VALUE=DATE:20120815
SUMMARY:SMR 2012 Deadline
DESCRIPTION:1st International Workshop on Social Media Mining\, Retrieval
  and Recommendation Technologies
URL:http://www.wikicfp.com/cfp/servlet/event.showcfp?eventid=24692&copyow
 nerid=43114
UID:cfp302297-D@wikicfp.com
END:VEVENT
BEGIN:VEVENT
DTSTAMP:20260419T181144Z
DTSTART;VALUE=DATE:20130324
DTEND;VALUE=DATE:20130329
SUMMARY:ECIR 2013
DESCRIPTION:European Conference on Information Retrieval
URL:http://www.wikicfp.com/cfp/servlet/event.showcfp?eventid=22873&copyow
 nerid=43114
UID:cfp302295-E@wikicfp.com
END:VEVENT
BEGIN:VEVENT
DTSTAMP:20260419T181144Z
DTSTART;VALUE=DATE:20121001
SUMMARY:ECIR 2013 Abstract Due
DESCRIPTION:European Conference on Information Retrieval
URL:http://www.wikicfp.com/cfp/servlet/event.showcfp?eventid=22873&copyow
 nerid=43114
UID:cfp302295-A@wikicfp.com
END:VEVENT
BEGIN:VEVENT
DTSTAMP:20260419T181144Z
DTSTART;VALUE=DATE:20121008
SUMMARY:ECIR 2013 Deadline
DESCRIPTION:European Conference on Information Retrieval
URL:http://www.wikicfp.com/cfp/servlet/event.showcfp?eventid=22873&copyow
 nerid=43114
UID:cfp302295-D@wikicfp.com
END:VEVENT
BEGIN:VEVENT
DTSTAMP:20260419T181144Z
DTSTART;VALUE=DATE:20121130
SUMMARY:ECIR 2013 Notification Due
DESCRIPTION:European Conference on Information Retrieval
URL:http://www.wikicfp.com/cfp/servlet/event.showcfp?eventid=22873&copyow
 nerid=43114
UID:cfp302295-N@wikicfp.com
END:VEVENT
BEGIN:VEVENT
DTSTAMP:20260419T181144Z
DTSTART;VALUE=DATE:20130719
DTEND;VALUE=DATE:20130726
SUMMARY:MLDM 2013
DESCRIPTION:International Conference on Machine Learning and Data Mining
URL:http://www.wikicfp.com/cfp/servlet/event.showcfp?eventid=21258&copyow
 nerid=43114
UID:cfp302296-E@wikicfp.com
END:VEVENT
BEGIN:VEVENT
DTSTAMP:20260419T181144Z
DTSTART;VALUE=DATE:20130115
SUMMARY:MLDM 2013 Deadline
DESCRIPTION:International Conference on Machine Learning and Data Mining
URL:http://www.wikicfp.com/cfp/servlet/event.showcfp?eventid=21258&copyow
 nerid=43114
UID:cfp302296-D@wikicfp.com
END:VEVENT
BEGIN:VEVENT
DTSTAMP:20260419T181144Z
DTSTART;VALUE=DATE:20130318
SUMMARY:MLDM 2013 Notification Due
DESCRIPTION:International Conference on Machine Learning and Data Mining
URL:http://www.wikicfp.com/cfp/servlet/event.showcfp?eventid=21258&copyow
 nerid=43114
UID:cfp302296-N@wikicfp.com
END:VEVENT
BEGIN:VEVENT
DTSTAMP:20260419T181144Z
DTSTART;VALUE=DATE:20130406
SUMMARY:MLDM 2013 Final Version Due
DESCRIPTION:International Conference on Machine Learning and Data Mining
URL:http://www.wikicfp.com/cfp/servlet/event.showcfp?eventid=21258&copyow
 nerid=43114
UID:cfp302296-N@wikicfp.com
END:VEVENT
END:VCALENDAR
