BEGIN:VCALENDAR
PRODID:-//WikiCFP//yoni230 1.0//EN
VERSION:2.0
CALSCALE:GREGORIAN
BEGIN:VEVENT
DTSTAMP:20260420T023419Z
DTSTART;VALUE=DATE:20130226
DTEND;VALUE=DATE:20130228
SUMMARY:HotMobile 2013
DESCRIPTION:Workshop on Mobile Computing Systems and Applications (ACM Ho
 tMobile 2013)
URL:http://www.wikicfp.com/cfp/servlet/event.showcfp?eventid=24933&copyow
 nerid=42758
UID:cfp299125-E@wikicfp.com
END:VEVENT
BEGIN:VEVENT
DTSTAMP:20260420T023419Z
DTSTART;VALUE=DATE:20121005
SUMMARY:HotMobile 2013 Deadline
DESCRIPTION:Workshop on Mobile Computing Systems and Applications (ACM Ho
 tMobile 2013)
URL:http://www.wikicfp.com/cfp/servlet/event.showcfp?eventid=24933&copyow
 nerid=42758
UID:cfp299125-D@wikicfp.com
END:VEVENT
BEGIN:VEVENT
DTSTAMP:20260420T023419Z
DTSTART;VALUE=DATE:20121212
SUMMARY:HotMobile 2013 Notification Due
DESCRIPTION:Workshop on Mobile Computing Systems and Applications (ACM Ho
 tMobile 2013)
URL:http://www.wikicfp.com/cfp/servlet/event.showcfp?eventid=24933&copyow
 nerid=42758
UID:cfp299125-N@wikicfp.com
END:VEVENT
BEGIN:VEVENT
DTSTAMP:20260420T023419Z
DTSTART;VALUE=DATE:20130116
SUMMARY:HotMobile 2013 Final Version Due
DESCRIPTION:Workshop on Mobile Computing Systems and Applications (ACM Ho
 tMobile 2013)
URL:http://www.wikicfp.com/cfp/servlet/event.showcfp?eventid=24933&copyow
 nerid=42758
UID:cfp299125-N@wikicfp.com
END:VEVENT
BEGIN:VEVENT
DTSTAMP:20260420T023419Z
DTSTART;VALUE=DATE:20130124
DTEND;VALUE=DATE:20130127
SUMMARY:IC-ICTES 2013
DESCRIPTION:The International Conference on Information and Communication
  Technology for Embedded Systems 
URL:http://www.wikicfp.com/cfp/servlet/event.showcfp?eventid=24830&copyow
 nerid=42758
UID:cfp299118-E@wikicfp.com
END:VEVENT
BEGIN:VEVENT
DTSTAMP:20260420T023419Z
DTSTART;VALUE=DATE:20121022
SUMMARY:IC-ICTES 2013 Deadline
DESCRIPTION:The International Conference on Information and Communication
  Technology for Embedded Systems 
URL:http://www.wikicfp.com/cfp/servlet/event.showcfp?eventid=24830&copyow
 nerid=42758
UID:cfp299118-D@wikicfp.com
END:VEVENT
BEGIN:VEVENT
DTSTAMP:20260420T023419Z
DTSTART;VALUE=DATE:20121201
SUMMARY:IC-ICTES 2013 Notification Due
DESCRIPTION:The International Conference on Information and Communication
  Technology for Embedded Systems 
URL:http://www.wikicfp.com/cfp/servlet/event.showcfp?eventid=24830&copyow
 nerid=42758
UID:cfp299118-N@wikicfp.com
END:VEVENT
BEGIN:VEVENT
DTSTAMP:20260420T023419Z
DTSTART;VALUE=DATE:20121214
SUMMARY:IC-ICTES 2013 Final Version Due
DESCRIPTION:The International Conference on Information and Communication
  Technology for Embedded Systems 
URL:http://www.wikicfp.com/cfp/servlet/event.showcfp?eventid=24830&copyow
 nerid=42758
UID:cfp299118-N@wikicfp.com
END:VEVENT
BEGIN:VEVENT
DTSTAMP:20260420T023419Z
DTSTART;VALUE=DATE:20121212
DTEND;VALUE=DATE:20121215
SUMMARY:SCSS 2012
DESCRIPTION:The First International Workshop on Service Computing and Com
 munications Systems 
URL:http://www.wikicfp.com/cfp/servlet/event.showcfp?eventid=25577&copyow
 nerid=42758
UID:cfp299116-E@wikicfp.com
END:VEVENT
BEGIN:VEVENT
DTSTAMP:20260420T023419Z
DTSTART;VALUE=DATE:20121024
SUMMARY:SCSS 2012 Deadline
DESCRIPTION:The First International Workshop on Service Computing and Com
 munications Systems 
URL:http://www.wikicfp.com/cfp/servlet/event.showcfp?eventid=25577&copyow
 nerid=42758
UID:cfp299116-D@wikicfp.com
END:VEVENT
BEGIN:VEVENT
DTSTAMP:20260420T023419Z
DTSTART;VALUE=DATE:20121115
SUMMARY:SCSS 2012 Notification Due
DESCRIPTION:The First International Workshop on Service Computing and Com
 munications Systems 
URL:http://www.wikicfp.com/cfp/servlet/event.showcfp?eventid=25577&copyow
 nerid=42758
UID:cfp299116-N@wikicfp.com
END:VEVENT
BEGIN:VEVENT
DTSTAMP:20260420T023419Z
DTSTART;VALUE=DATE:20121202
SUMMARY:SCSS 2012 Final Version Due
DESCRIPTION:The First International Workshop on Service Computing and Com
 munications Systems 
URL:http://www.wikicfp.com/cfp/servlet/event.showcfp?eventid=25577&copyow
 nerid=42758
UID:cfp299116-N@wikicfp.com
END:VEVENT
BEGIN:VEVENT
DTSTAMP:20260420T023419Z
DTSTART;VALUE=DATE:20130131
DTEND;VALUE=DATE:20130202
SUMMARY:KST 2013
DESCRIPTION: the 2013 5th International Conference on Knowledge and Smart
  Technology (KST)
URL:http://www.wikicfp.com/cfp/servlet/event.showcfp?eventid=25755&copyow
 nerid=42758
UID:cfp299123-E@wikicfp.com
END:VEVENT
BEGIN:VEVENT
DTSTAMP:20260420T023419Z
DTSTART;VALUE=DATE:20121031
SUMMARY:KST 2013 Deadline
DESCRIPTION: the 2013 5th International Conference on Knowledge and Smart
  Technology (KST)
URL:http://www.wikicfp.com/cfp/servlet/event.showcfp?eventid=25755&copyow
 nerid=42758
UID:cfp299123-D@wikicfp.com
END:VEVENT
BEGIN:VEVENT
DTSTAMP:20260420T023419Z
DTSTART;VALUE=DATE:20121214
SUMMARY:KST 2013 Notification Due
DESCRIPTION: the 2013 5th International Conference on Knowledge and Smart
  Technology (KST)
URL:http://www.wikicfp.com/cfp/servlet/event.showcfp?eventid=25755&copyow
 nerid=42758
UID:cfp299123-N@wikicfp.com
END:VEVENT
BEGIN:VEVENT
DTSTAMP:20260420T023419Z
DTSTART;VALUE=DATE:20121228
SUMMARY:KST 2013 Final Version Due
DESCRIPTION: the 2013 5th International Conference on Knowledge and Smart
  Technology (KST)
URL:http://www.wikicfp.com/cfp/servlet/event.showcfp?eventid=25755&copyow
 nerid=42758
UID:cfp299123-N@wikicfp.com
END:VEVENT
BEGIN:VEVENT
DTSTAMP:20260420T023419Z
DTSTART;VALUE=DATE:20130604
DTEND;VALUE=DATE:20130608
SUMMARY:WoWMoM  2013
DESCRIPTION:Fourteenth International Symposium on a World of Wireless\, M
 obile and Multimedia Networks
URL:http://www.wikicfp.com/cfp/servlet/event.showcfp?eventid=25609&copyow
 nerid=42758
UID:cfp299119-E@wikicfp.com
END:VEVENT
BEGIN:VEVENT
DTSTAMP:20260420T023419Z
DTSTART;VALUE=DATE:20121130
SUMMARY:WoWMoM  2013 Abstract Due
DESCRIPTION:Fourteenth International Symposium on a World of Wireless\, M
 obile and Multimedia Networks
URL:http://www.wikicfp.com/cfp/servlet/event.showcfp?eventid=25609&copyow
 nerid=42758
UID:cfp299119-A@wikicfp.com
END:VEVENT
BEGIN:VEVENT
DTSTAMP:20260420T023419Z
DTSTART;VALUE=DATE:20121207
SUMMARY:WoWMoM  2013 Deadline
DESCRIPTION:Fourteenth International Symposium on a World of Wireless\, M
 obile and Multimedia Networks
URL:http://www.wikicfp.com/cfp/servlet/event.showcfp?eventid=25609&copyow
 nerid=42758
UID:cfp299119-D@wikicfp.com
END:VEVENT
BEGIN:VEVENT
DTSTAMP:20260420T023419Z
DTSTART;VALUE=DATE:20130315
SUMMARY:WoWMoM  2013 Notification Due
DESCRIPTION:Fourteenth International Symposium on a World of Wireless\, M
 obile and Multimedia Networks
URL:http://www.wikicfp.com/cfp/servlet/event.showcfp?eventid=25609&copyow
 nerid=42758
UID:cfp299119-N@wikicfp.com
END:VEVENT
BEGIN:VEVENT
DTSTAMP:20260420T023419Z
DTSTART;VALUE=DATE:20130327
DTEND;VALUE=DATE:20130329
SUMMARY:ICIST 2013
DESCRIPTION:Call for Papers - Third IEEE International Conference on Info
 rmation Science and Technology (Yangzhou\, China)
URL:http://www.wikicfp.com/cfp/servlet/event.showcfp?eventid=25775&copyow
 nerid=42758
UID:cfp299117-E@wikicfp.com
END:VEVENT
BEGIN:VEVENT
DTSTAMP:20260420T023419Z
DTSTART;VALUE=DATE:20121215
SUMMARY:ICIST 2013 Deadline
DESCRIPTION:Call for Papers - Third IEEE International Conference on Info
 rmation Science and Technology (Yangzhou\, China)
URL:http://www.wikicfp.com/cfp/servlet/event.showcfp?eventid=25775&copyow
 nerid=42758
UID:cfp299117-D@wikicfp.com
END:VEVENT
BEGIN:VEVENT
DTSTAMP:20260420T023419Z
DTSTART;VALUE=DATE:20130115
SUMMARY:ICIST 2013 Notification Due
DESCRIPTION:Call for Papers - Third IEEE International Conference on Info
 rmation Science and Technology (Yangzhou\, China)
URL:http://www.wikicfp.com/cfp/servlet/event.showcfp?eventid=25775&copyow
 nerid=42758
UID:cfp299117-N@wikicfp.com
END:VEVENT
BEGIN:VEVENT
DTSTAMP:20260420T023419Z
DTSTART;VALUE=DATE:20130228
SUMMARY:ICIST 2013 Final Version Due
DESCRIPTION:Call for Papers - Third IEEE International Conference on Info
 rmation Science and Technology (Yangzhou\, China)
URL:http://www.wikicfp.com/cfp/servlet/event.showcfp?eventid=25775&copyow
 nerid=42758
UID:cfp299117-N@wikicfp.com
END:VEVENT
BEGIN:VEVENT
DTSTAMP:20260420T023419Z
DTSTART;VALUE=DATE:20130408
DTEND;VALUE=DATE:20130411
SUMMARY:CIbSE 2013
DESCRIPTION:XVI Iberoamerican Conference on Software Engineering 
URL:http://www.wikicfp.com/cfp/servlet/event.showcfp?eventid=25743&copyow
 nerid=42758
UID:cfp299122-E@wikicfp.com
END:VEVENT
BEGIN:VEVENT
DTSTAMP:20260420T023419Z
DTSTART;VALUE=DATE:20121211
SUMMARY:CIbSE 2013 Abstract Due
DESCRIPTION:XVI Iberoamerican Conference on Software Engineering 
URL:http://www.wikicfp.com/cfp/servlet/event.showcfp?eventid=25743&copyow
 nerid=42758
UID:cfp299122-A@wikicfp.com
END:VEVENT
BEGIN:VEVENT
DTSTAMP:20260420T023419Z
DTSTART;VALUE=DATE:20121220
SUMMARY:CIbSE 2013 Deadline
DESCRIPTION:XVI Iberoamerican Conference on Software Engineering 
URL:http://www.wikicfp.com/cfp/servlet/event.showcfp?eventid=25743&copyow
 nerid=42758
UID:cfp299122-D@wikicfp.com
END:VEVENT
BEGIN:VEVENT
DTSTAMP:20260420T023419Z
DTSTART;VALUE=DATE:20130205
SUMMARY:CIbSE 2013 Notification Due
DESCRIPTION:XVI Iberoamerican Conference on Software Engineering 
URL:http://www.wikicfp.com/cfp/servlet/event.showcfp?eventid=25743&copyow
 nerid=42758
UID:cfp299122-N@wikicfp.com
END:VEVENT
BEGIN:VEVENT
DTSTAMP:20260420T023419Z
DTSTART;VALUE=DATE:20130222
SUMMARY:CIbSE 2013 Final Version Due
DESCRIPTION:XVI Iberoamerican Conference on Software Engineering 
URL:http://www.wikicfp.com/cfp/servlet/event.showcfp?eventid=25743&copyow
 nerid=42758
UID:cfp299122-N@wikicfp.com
END:VEVENT
END:VCALENDAR
