BEGIN:VCALENDAR
PRODID:-//WikiCFP//vahidschwart 1.0//EN
VERSION:2.0
CALSCALE:GREGORIAN
BEGIN:VEVENT
DTSTAMP:20260421T191601Z
DTSTART;VALUE=DATE:20121001
DTEND;VALUE=DATE:20121002
SUMMARY:MDsec 2012
DESCRIPTION:International Workshop on Model-Driven Security 
URL:http://www.wikicfp.com/cfp/servlet/event.showcfp?eventid=23127&copyow
 nerid=42697
UID:cfp298752-E@wikicfp.com
END:VEVENT
BEGIN:VEVENT
DTSTAMP:20260421T191601Z
DTSTART;VALUE=DATE:20120719
SUMMARY:MDsec 2012 Abstract Due
DESCRIPTION:International Workshop on Model-Driven Security 
URL:http://www.wikicfp.com/cfp/servlet/event.showcfp?eventid=23127&copyow
 nerid=42697
UID:cfp298752-A@wikicfp.com
END:VEVENT
BEGIN:VEVENT
DTSTAMP:20260421T191601Z
DTSTART;VALUE=DATE:20120726
SUMMARY:MDsec 2012 Deadline
DESCRIPTION:International Workshop on Model-Driven Security 
URL:http://www.wikicfp.com/cfp/servlet/event.showcfp?eventid=23127&copyow
 nerid=42697
UID:cfp298752-D@wikicfp.com
END:VEVENT
BEGIN:VEVENT
DTSTAMP:20260421T191601Z
DTSTART;VALUE=DATE:20120830
SUMMARY:MDsec 2012 Notification Due
DESCRIPTION:International Workshop on Model-Driven Security 
URL:http://www.wikicfp.com/cfp/servlet/event.showcfp?eventid=23127&copyow
 nerid=42697
UID:cfp298752-N@wikicfp.com
END:VEVENT
BEGIN:VEVENT
DTSTAMP:20260421T191601Z
DTSTART;VALUE=DATE:20120917
SUMMARY:MDsec 2012 Final Version Due
DESCRIPTION:International Workshop on Model-Driven Security 
URL:http://www.wikicfp.com/cfp/servlet/event.showcfp?eventid=23127&copyow
 nerid=42697
UID:cfp298752-N@wikicfp.com
END:VEVENT
BEGIN:VEVENT
DTSTAMP:20260421T191601Z
DTSTART;VALUE=DATE:20121127
DTEND;VALUE=DATE:20121201
SUMMARY:RTW 2012
DESCRIPTION:International Workshop on Risk and Trust in Safety Critical S
 ystems
URL:http://www.wikicfp.com/cfp/servlet/event.showcfp?eventid=24172&copyow
 nerid=42697
UID:cfp298751-E@wikicfp.com
END:VEVENT
BEGIN:VEVENT
DTSTAMP:20260421T191601Z
DTSTART;VALUE=DATE:20120917
SUMMARY:RTW 2012 Deadline
DESCRIPTION:International Workshop on Risk and Trust in Safety Critical S
 ystems
URL:http://www.wikicfp.com/cfp/servlet/event.showcfp?eventid=24172&copyow
 nerid=42697
UID:cfp298751-D@wikicfp.com
END:VEVENT
BEGIN:VEVENT
DTSTAMP:20260421T191601Z
DTSTART;VALUE=DATE:20120930
SUMMARY:RTW 2012 Notification Due
DESCRIPTION:International Workshop on Risk and Trust in Safety Critical S
 ystems
URL:http://www.wikicfp.com/cfp/servlet/event.showcfp?eventid=24172&copyow
 nerid=42697
UID:cfp298751-N@wikicfp.com
END:VEVENT
BEGIN:VEVENT
DTSTAMP:20260421T191601Z
DTSTART;VALUE=DATE:20121010
SUMMARY:RTW 2012 Final Version Due
DESCRIPTION:International Workshop on Risk and Trust in Safety Critical S
 ystems
URL:http://www.wikicfp.com/cfp/servlet/event.showcfp?eventid=24172&copyow
 nerid=42697
UID:cfp298751-N@wikicfp.com
END:VEVENT
BEGIN:VEVENT
DTSTAMP:20260421T191601Z
DTSTART;VALUE=DATE:20130227
DTEND;VALUE=DATE:20130302
SUMMARY:ESSoS 2013
DESCRIPTION:International Symposium on Engineering Secure Software and Sy
 stems
URL:http://www.wikicfp.com/cfp/servlet/event.showcfp?eventid=23604&copyow
 nerid=42697
UID:cfp298750-E@wikicfp.com
END:VEVENT
BEGIN:VEVENT
DTSTAMP:20260421T191601Z
DTSTART;VALUE=DATE:20120930
SUMMARY:ESSoS 2013 Deadline
DESCRIPTION:International Symposium on Engineering Secure Software and Sy
 stems
URL:http://www.wikicfp.com/cfp/servlet/event.showcfp?eventid=23604&copyow
 nerid=42697
UID:cfp298750-D@wikicfp.com
END:VEVENT
BEGIN:VEVENT
DTSTAMP:20260421T191601Z
DTSTART;VALUE=DATE:20121122
SUMMARY:ESSoS 2013 Notification Due
DESCRIPTION:International Symposium on Engineering Secure Software and Sy
 stems
URL:http://www.wikicfp.com/cfp/servlet/event.showcfp?eventid=23604&copyow
 nerid=42697
UID:cfp298750-N@wikicfp.com
END:VEVENT
BEGIN:VEVENT
DTSTAMP:20260421T191601Z
DTSTART;VALUE=DATE:20121213
SUMMARY:ESSoS 2013 Final Version Due
DESCRIPTION:International Symposium on Engineering Secure Software and Sy
 stems
URL:http://www.wikicfp.com/cfp/servlet/event.showcfp?eventid=23604&copyow
 nerid=42697
UID:cfp298750-N@wikicfp.com
END:VEVENT
BEGIN:VEVENT
DTSTAMP:20260421T191601Z
DTSTART;VALUE=DATE:20130211
DTEND;VALUE=DATE:20130214
SUMMARY:SE 2013
DESCRIPTION:Software Engineering
URL:http://www.wikicfp.com/cfp/servlet/event.showcfp?eventid=23122&copyow
 nerid=42697
UID:cfp298754-E@wikicfp.com
END:VEVENT
BEGIN:VEVENT
DTSTAMP:20260421T191601Z
DTSTART;VALUE=DATE:20121026
SUMMARY:SE 2013 Deadline
DESCRIPTION:Software Engineering
URL:http://www.wikicfp.com/cfp/servlet/event.showcfp?eventid=23122&copyow
 nerid=42697
UID:cfp298754-D@wikicfp.com
END:VEVENT
BEGIN:VEVENT
DTSTAMP:20260421T191601Z
DTSTART;VALUE=DATE:20130524
DTEND;VALUE=DATE:20130527
SUMMARY:SPPR 2013
DESCRIPTION:Second International Conference on Signal\, Image Processing 
 & Pattern Recognition 
URL:http://www.wikicfp.com/cfp/servlet/event.showcfp?eventid=25137&copyow
 nerid=42697
UID:cfp298747-E@wikicfp.com
END:VEVENT
BEGIN:VEVENT
DTSTAMP:20260421T191601Z
DTSTART;VALUE=DATE:20130104
SUMMARY:SPPR 2013 Deadline
DESCRIPTION:Second International Conference on Signal\, Image Processing 
 & Pattern Recognition 
URL:http://www.wikicfp.com/cfp/servlet/event.showcfp?eventid=25137&copyow
 nerid=42697
UID:cfp298747-D@wikicfp.com
END:VEVENT
BEGIN:VEVENT
DTSTAMP:20260421T191601Z
DTSTART;VALUE=DATE:20130130
SUMMARY:SPPR 2013 Notification Due
DESCRIPTION:Second International Conference on Signal\, Image Processing 
 & Pattern Recognition 
URL:http://www.wikicfp.com/cfp/servlet/event.showcfp?eventid=25137&copyow
 nerid=42697
UID:cfp298747-N@wikicfp.com
END:VEVENT
BEGIN:VEVENT
DTSTAMP:20260421T191601Z
DTSTART;VALUE=DATE:20130205
SUMMARY:SPPR 2013 Final Version Due
DESCRIPTION:Second International Conference on Signal\, Image Processing 
 & Pattern Recognition 
URL:http://www.wikicfp.com/cfp/servlet/event.showcfp?eventid=25137&copyow
 nerid=42697
UID:cfp298747-N@wikicfp.com
END:VEVENT
BEGIN:VEVENT
DTSTAMP:20260421T191601Z
DTSTART;VALUE=DATE:20130627
DTEND;VALUE=DATE:20130630
SUMMARY:SEKE 2013
DESCRIPTION:The 25th International Conference on Software Engineering and
  Knowledge Engineering
URL:http://www.wikicfp.com/cfp/servlet/event.showcfp?eventid=25801&copyow
 nerid=42697
UID:cfp298749-E@wikicfp.com
END:VEVENT
BEGIN:VEVENT
DTSTAMP:20260421T191601Z
DTSTART;VALUE=DATE:20130310
SUMMARY:SEKE 2013 Deadline
DESCRIPTION:The 25th International Conference on Software Engineering and
  Knowledge Engineering
URL:http://www.wikicfp.com/cfp/servlet/event.showcfp?eventid=25801&copyow
 nerid=42697
UID:cfp298749-D@wikicfp.com
END:VEVENT
BEGIN:VEVENT
DTSTAMP:20260421T191601Z
DTSTART;VALUE=DATE:20130420
SUMMARY:SEKE 2013 Notification Due
DESCRIPTION:The 25th International Conference on Software Engineering and
  Knowledge Engineering
URL:http://www.wikicfp.com/cfp/servlet/event.showcfp?eventid=25801&copyow
 nerid=42697
UID:cfp298749-N@wikicfp.com
END:VEVENT
BEGIN:VEVENT
DTSTAMP:20260421T191601Z
DTSTART;VALUE=DATE:20130510
SUMMARY:SEKE 2013 Final Version Due
DESCRIPTION:The 25th International Conference on Software Engineering and
  Knowledge Engineering
URL:http://www.wikicfp.com/cfp/servlet/event.showcfp?eventid=25801&copyow
 nerid=42697
UID:cfp298749-N@wikicfp.com
END:VEVENT
BEGIN:VEVENT
DTSTAMP:20260421T191601Z
DTSTART;VALUE=DATE:20140801
SUMMARY:JBECTM 2014 Deadline
DESCRIPTION:Journal on Business Economics\, Commerce & Trade Management
URL:http://www.wikicfp.com/cfp/servlet/event.showcfp?eventid=25361&copyow
 nerid=42697
UID:cfp298748-D@wikicfp.com
END:VEVENT
BEGIN:VEVENT
DTSTAMP:20260421T191601Z
DTSTART;VALUE=DATE:20140901
SUMMARY:JBECTM 2014 Notification Due
DESCRIPTION:Journal on Business Economics\, Commerce & Trade Management
URL:http://www.wikicfp.com/cfp/servlet/event.showcfp?eventid=25361&copyow
 nerid=42697
UID:cfp298748-N@wikicfp.com
END:VEVENT
BEGIN:VEVENT
DTSTAMP:20260421T191601Z
DTSTART;VALUE=DATE:20140907
SUMMARY:JBECTM 2014 Final Version Due
DESCRIPTION:Journal on Business Economics\, Commerce & Trade Management
URL:http://www.wikicfp.com/cfp/servlet/event.showcfp?eventid=25361&copyow
 nerid=42697
UID:cfp298748-N@wikicfp.com
END:VEVENT
END:VCALENDAR
