BEGIN:VCALENDAR
PRODID:-//WikiCFP//ynm 1.0//EN
VERSION:2.0
CALSCALE:GREGORIAN
BEGIN:VEVENT
DTSTAMP:20260422T122653Z
DTSTART;VALUE=DATE:20130107
DTEND;VALUE=DATE:20130112
SUMMARY:LION 2013
DESCRIPTION:Learning and Intelligent Optimization Conference
URL:http://www.wikicfp.com/cfp/servlet/event.showcfp?eventid=25646&copyow
 nerid=42420
UID:cfp296817-E@wikicfp.com
END:VEVENT
BEGIN:VEVENT
DTSTAMP:20260422T122653Z
DTSTART;VALUE=DATE:20121014
SUMMARY:LION 2013 Deadline
DESCRIPTION:Learning and Intelligent Optimization Conference
URL:http://www.wikicfp.com/cfp/servlet/event.showcfp?eventid=25646&copyow
 nerid=42420
UID:cfp296817-D@wikicfp.com
END:VEVENT
BEGIN:VEVENT
DTSTAMP:20260422T122653Z
DTSTART;VALUE=DATE:20130518
DTEND;VALUE=DATE:20130523
SUMMARY:CPAIOR 2013
DESCRIPTION:International Conference on Integration of Artificial Intelli
 gence (AI) and Operations Research (OR) techniques in Constraint Program
 ming 
URL:http://www.wikicfp.com/cfp/servlet/event.showcfp?eventid=25645&copyow
 nerid=42420
UID:cfp296816-E@wikicfp.com
END:VEVENT
BEGIN:VEVENT
DTSTAMP:20260422T122653Z
DTSTART;VALUE=DATE:20121029
SUMMARY:CPAIOR 2013 Abstract Due
DESCRIPTION:International Conference on Integration of Artificial Intelli
 gence (AI) and Operations Research (OR) techniques in Constraint Program
 ming 
URL:http://www.wikicfp.com/cfp/servlet/event.showcfp?eventid=25645&copyow
 nerid=42420
UID:cfp296816-A@wikicfp.com
END:VEVENT
BEGIN:VEVENT
DTSTAMP:20260422T122653Z
DTSTART;VALUE=DATE:20121102
SUMMARY:CPAIOR 2013 Deadline
DESCRIPTION:International Conference on Integration of Artificial Intelli
 gence (AI) and Operations Research (OR) techniques in Constraint Program
 ming 
URL:http://www.wikicfp.com/cfp/servlet/event.showcfp?eventid=25645&copyow
 nerid=42420
UID:cfp296816-D@wikicfp.com
END:VEVENT
BEGIN:VEVENT
DTSTAMP:20260422T122653Z
DTSTART;VALUE=DATE:20121128
SUMMARY:CPAIOR 2013 Notification Due
DESCRIPTION:International Conference on Integration of Artificial Intelli
 gence (AI) and Operations Research (OR) techniques in Constraint Program
 ming 
URL:http://www.wikicfp.com/cfp/servlet/event.showcfp?eventid=25645&copyow
 nerid=42420
UID:cfp296816-N@wikicfp.com
END:VEVENT
BEGIN:VEVENT
DTSTAMP:20260422T122653Z
DTSTART;VALUE=DATE:20130113
SUMMARY:CPAIOR 2013 Final Version Due
DESCRIPTION:International Conference on Integration of Artificial Intelli
 gence (AI) and Operations Research (OR) techniques in Constraint Program
 ming 
URL:http://www.wikicfp.com/cfp/servlet/event.showcfp?eventid=25645&copyow
 nerid=42420
UID:cfp296816-N@wikicfp.com
END:VEVENT
BEGIN:VEVENT
DTSTAMP:20260422T122653Z
DTSTART;VALUE=DATE:20130714
DTEND;VALUE=DATE:20130719
SUMMARY:AAAI 2013
DESCRIPTION:Association of the Advancement of Artificial Intelligence
URL:http://www.wikicfp.com/cfp/servlet/event.showcfp?eventid=25337&copyow
 nerid=42420
UID:cfp296812-E@wikicfp.com
END:VEVENT
BEGIN:VEVENT
DTSTAMP:20260422T122653Z
DTSTART;VALUE=DATE:20130119
SUMMARY:AAAI 2013 Abstract Due
DESCRIPTION:Association of the Advancement of Artificial Intelligence
URL:http://www.wikicfp.com/cfp/servlet/event.showcfp?eventid=25337&copyow
 nerid=42420
UID:cfp296812-A@wikicfp.com
END:VEVENT
BEGIN:VEVENT
DTSTAMP:20260422T122653Z
DTSTART;VALUE=DATE:20130122
SUMMARY:AAAI 2013 Deadline
DESCRIPTION:Association of the Advancement of Artificial Intelligence
URL:http://www.wikicfp.com/cfp/servlet/event.showcfp?eventid=25337&copyow
 nerid=42420
UID:cfp296812-D@wikicfp.com
END:VEVENT
BEGIN:VEVENT
DTSTAMP:20260422T122653Z
DTSTART;VALUE=DATE:20130326
SUMMARY:AAAI 2013 Notification Due
DESCRIPTION:Association of the Advancement of Artificial Intelligence
URL:http://www.wikicfp.com/cfp/servlet/event.showcfp?eventid=25337&copyow
 nerid=42420
UID:cfp296812-N@wikicfp.com
END:VEVENT
BEGIN:VEVENT
DTSTAMP:20260422T122653Z
DTSTART;VALUE=DATE:20130803
DTEND;VALUE=DATE:20130810
SUMMARY:IJCAI 2013
DESCRIPTION:The 2013 International Joint Conference on Artificial Intelli
 gence 
URL:http://www.wikicfp.com/cfp/servlet/event.showcfp?eventid=17455&copyow
 nerid=42420
UID:cfp296813-E@wikicfp.com
END:VEVENT
BEGIN:VEVENT
DTSTAMP:20260422T122653Z
DTSTART;VALUE=DATE:20130126
SUMMARY:IJCAI 2013 Abstract Due
DESCRIPTION:The 2013 International Joint Conference on Artificial Intelli
 gence 
URL:http://www.wikicfp.com/cfp/servlet/event.showcfp?eventid=17455&copyow
 nerid=42420
UID:cfp296813-A@wikicfp.com
END:VEVENT
BEGIN:VEVENT
DTSTAMP:20260422T122653Z
DTSTART;VALUE=DATE:20130131
SUMMARY:IJCAI 2013 Deadline
DESCRIPTION:The 2013 International Joint Conference on Artificial Intelli
 gence 
URL:http://www.wikicfp.com/cfp/servlet/event.showcfp?eventid=17455&copyow
 nerid=42420
UID:cfp296813-D@wikicfp.com
END:VEVENT
BEGIN:VEVENT
DTSTAMP:20260422T122653Z
DTSTART;VALUE=DATE:20130402
SUMMARY:IJCAI 2013 Notification Due
DESCRIPTION:The 2013 International Joint Conference on Artificial Intelli
 gence 
URL:http://www.wikicfp.com/cfp/servlet/event.showcfp?eventid=17455&copyow
 nerid=42420
UID:cfp296813-N@wikicfp.com
END:VEVENT
BEGIN:VEVENT
DTSTAMP:20260422T122653Z
DTSTART;VALUE=DATE:20130423
SUMMARY:IJCAI 2013 Final Version Due
DESCRIPTION:The 2013 International Joint Conference on Artificial Intelli
 gence 
URL:http://www.wikicfp.com/cfp/servlet/event.showcfp?eventid=17455&copyow
 nerid=42420
UID:cfp296813-N@wikicfp.com
END:VEVENT
BEGIN:VEVENT
DTSTAMP:20260422T122653Z
DTSTART;VALUE=DATE:20140519
DTEND;VALUE=DATE:20140524
SUMMARY:CPAIOR 2014
DESCRIPTION:International Conference on Integration of Artificial Intelli
 gence (AI) and Operations Research (OR) techniques in Constraint Program
 ming (CP)
URL:http://www.wikicfp.com/cfp/servlet/event.showcfp?eventid=32566&copyow
 nerid=42420
UID:cfp381893-E@wikicfp.com
END:VEVENT
BEGIN:VEVENT
DTSTAMP:20260422T122653Z
DTSTART;VALUE=DATE:20131120
SUMMARY:CPAIOR 2014 Abstract Due
DESCRIPTION:International Conference on Integration of Artificial Intelli
 gence (AI) and Operations Research (OR) techniques in Constraint Program
 ming (CP)
URL:http://www.wikicfp.com/cfp/servlet/event.showcfp?eventid=32566&copyow
 nerid=42420
UID:cfp381893-A@wikicfp.com
END:VEVENT
BEGIN:VEVENT
DTSTAMP:20260422T122653Z
DTSTART;VALUE=DATE:20131124
SUMMARY:CPAIOR 2014 Deadline
DESCRIPTION:International Conference on Integration of Artificial Intelli
 gence (AI) and Operations Research (OR) techniques in Constraint Program
 ming (CP)
URL:http://www.wikicfp.com/cfp/servlet/event.showcfp?eventid=32566&copyow
 nerid=42420
UID:cfp381893-D@wikicfp.com
END:VEVENT
BEGIN:VEVENT
DTSTAMP:20260422T122653Z
DTSTART;VALUE=DATE:20130110
SUMMARY:CPAIOR 2014 Notification Due
DESCRIPTION:International Conference on Integration of Artificial Intelli
 gence (AI) and Operations Research (OR) techniques in Constraint Program
 ming (CP)
URL:http://www.wikicfp.com/cfp/servlet/event.showcfp?eventid=32566&copyow
 nerid=42420
UID:cfp381893-N@wikicfp.com
END:VEVENT
BEGIN:VEVENT
DTSTAMP:20260422T122653Z
DTSTART;VALUE=DATE:20140210
SUMMARY:CPAIOR 2014 Final Version Due
DESCRIPTION:International Conference on Integration of Artificial Intelli
 gence (AI) and Operations Research (OR) techniques in Constraint Program
 ming (CP)
URL:http://www.wikicfp.com/cfp/servlet/event.showcfp?eventid=32566&copyow
 nerid=42420
UID:cfp381893-N@wikicfp.com
END:VEVENT
BEGIN:VEVENT
DTSTAMP:20260422T122653Z
DTSTART;VALUE=DATE:20140727
DTEND;VALUE=DATE:20140801
SUMMARY:AAAI 2014
DESCRIPTION:28th AAAI Conference on Artificial Intelligence
URL:http://www.wikicfp.com/cfp/servlet/event.showcfp?eventid=31244&copyow
 nerid=42420
UID:cfp381896-E@wikicfp.com
END:VEVENT
BEGIN:VEVENT
DTSTAMP:20260422T122653Z
DTSTART;VALUE=DATE:20140131
SUMMARY:AAAI 2014 Abstract Due
DESCRIPTION:28th AAAI Conference on Artificial Intelligence
URL:http://www.wikicfp.com/cfp/servlet/event.showcfp?eventid=31244&copyow
 nerid=42420
UID:cfp381896-A@wikicfp.com
END:VEVENT
BEGIN:VEVENT
DTSTAMP:20260422T122653Z
DTSTART;VALUE=DATE:20140204
SUMMARY:AAAI 2014 Deadline
DESCRIPTION:28th AAAI Conference on Artificial Intelligence
URL:http://www.wikicfp.com/cfp/servlet/event.showcfp?eventid=31244&copyow
 nerid=42420
UID:cfp381896-D@wikicfp.com
END:VEVENT
BEGIN:VEVENT
DTSTAMP:20260422T122653Z
DTSTART;VALUE=DATE:20140407
SUMMARY:AAAI 2014 Notification Due
DESCRIPTION:28th AAAI Conference on Artificial Intelligence
URL:http://www.wikicfp.com/cfp/servlet/event.showcfp?eventid=31244&copyow
 nerid=42420
UID:cfp381896-N@wikicfp.com
END:VEVENT
BEGIN:VEVENT
DTSTAMP:20260422T122653Z
DTSTART;VALUE=DATE:20140422
SUMMARY:AAAI 2014 Final Version Due
DESCRIPTION:28th AAAI Conference on Artificial Intelligence
URL:http://www.wikicfp.com/cfp/servlet/event.showcfp?eventid=31244&copyow
 nerid=42420
UID:cfp381896-N@wikicfp.com
END:VEVENT
BEGIN:VEVENT
DTSTAMP:20260422T122653Z
DTSTART;VALUE=DATE:20140817
DTEND;VALUE=DATE:20140823
SUMMARY:ECAI 2014
DESCRIPTION:21st European Conference on Artificial Intelligence
URL:http://www.wikicfp.com/cfp/servlet/event.showcfp?eventid=31243&copyow
 nerid=42420
UID:cfp381895-E@wikicfp.com
END:VEVENT
BEGIN:VEVENT
DTSTAMP:20260422T122653Z
DTSTART;VALUE=DATE:20140301
SUMMARY:ECAI 2014 Deadline
DESCRIPTION:21st European Conference on Artificial Intelligence
URL:http://www.wikicfp.com/cfp/servlet/event.showcfp?eventid=31243&copyow
 nerid=42420
UID:cfp381895-D@wikicfp.com
END:VEVENT
BEGIN:VEVENT
DTSTAMP:20260422T122653Z
DTSTART;VALUE=DATE:20140509
SUMMARY:ECAI 2014 Notification Due
DESCRIPTION:21st European Conference on Artificial Intelligence
URL:http://www.wikicfp.com/cfp/servlet/event.showcfp?eventid=31243&copyow
 nerid=42420
UID:cfp381895-N@wikicfp.com
END:VEVENT
BEGIN:VEVENT
DTSTAMP:20260422T122653Z
DTSTART;VALUE=DATE:20140530
SUMMARY:ECAI 2014 Final Version Due
DESCRIPTION:21st European Conference on Artificial Intelligence
URL:http://www.wikicfp.com/cfp/servlet/event.showcfp?eventid=31243&copyow
 nerid=42420
UID:cfp381895-N@wikicfp.com
END:VEVENT
END:VCALENDAR
