BEGIN:VCALENDAR
PRODID:-//WikiCFP//bobduncan 1.0//EN
VERSION:2.0
CALSCALE:GREGORIAN
BEGIN:VEVENT
DTSTAMP:20260421T020355Z
DTSTART;VALUE=DATE:20121208
DTEND;VALUE=DATE:20121211
SUMMARY:ICCCTAM 2012
DESCRIPTION:The International Conference on Cloud Computing Technologies\
 , Applications and Management
URL:http://www.wikicfp.com/cfp/servlet/event.showcfp?eventid=25469&copyow
 nerid=42382
UID:cfp296605-E@wikicfp.com
END:VEVENT
BEGIN:VEVENT
DTSTAMP:20260421T020355Z
DTSTART;VALUE=DATE:20120910
SUMMARY:ICCCTAM 2012 Deadline
DESCRIPTION:The International Conference on Cloud Computing Technologies\
 , Applications and Management
URL:http://www.wikicfp.com/cfp/servlet/event.showcfp?eventid=25469&copyow
 nerid=42382
UID:cfp296605-D@wikicfp.com
END:VEVENT
BEGIN:VEVENT
DTSTAMP:20260421T020355Z
DTSTART;VALUE=DATE:20121110
DTEND;VALUE=DATE:20121112
SUMMARY:ICICCT 2012
DESCRIPTION:2nd International Conference on Internet & Cloud Computing Te
 chnology
URL:http://www.wikicfp.com/cfp/servlet/event.showcfp?eventid=24467&copyow
 nerid=42382
UID:cfp296604-E@wikicfp.com
END:VEVENT
BEGIN:VEVENT
DTSTAMP:20260421T020355Z
DTSTART;VALUE=DATE:20120915
SUMMARY:ICICCT 2012 Deadline
DESCRIPTION:2nd International Conference on Internet & Cloud Computing Te
 chnology
URL:http://www.wikicfp.com/cfp/servlet/event.showcfp?eventid=24467&copyow
 nerid=42382
UID:cfp296604-D@wikicfp.com
END:VEVENT
BEGIN:VEVENT
DTSTAMP:20260421T020355Z
DTSTART;VALUE=DATE:20121210
DTEND;VALUE=DATE:20121213
SUMMARY:CAS  2012
DESCRIPTION:3rd International Workshop on Cloud Applications and Security
  in conjunction with the IEEE International Conference for Internet Tech
 nology and Secured Transactions
URL:http://www.wikicfp.com/cfp/servlet/event.showcfp?eventid=23849&copyow
 nerid=42382
UID:cfp296603-E@wikicfp.com
END:VEVENT
BEGIN:VEVENT
DTSTAMP:20260421T020355Z
DTSTART;VALUE=DATE:20121001
SUMMARY:CAS  2012 Deadline
DESCRIPTION:3rd International Workshop on Cloud Applications and Security
  in conjunction with the IEEE International Conference for Internet Tech
 nology and Secured Transactions
URL:http://www.wikicfp.com/cfp/servlet/event.showcfp?eventid=23849&copyow
 nerid=42382
UID:cfp296603-D@wikicfp.com
END:VEVENT
BEGIN:VEVENT
DTSTAMP:20260421T020355Z
DTSTART;VALUE=DATE:20121020
SUMMARY:CAS  2012 Notification Due
DESCRIPTION:3rd International Workshop on Cloud Applications and Security
  in conjunction with the IEEE International Conference for Internet Tech
 nology and Secured Transactions
URL:http://www.wikicfp.com/cfp/servlet/event.showcfp?eventid=23849&copyow
 nerid=42382
UID:cfp296603-N@wikicfp.com
END:VEVENT
BEGIN:VEVENT
DTSTAMP:20260421T020355Z
DTSTART;VALUE=DATE:20121011
SUMMARY:CAS  2012 Final Version Due
DESCRIPTION:3rd International Workshop on Cloud Applications and Security
  in conjunction with the IEEE International Conference for Internet Tech
 nology and Secured Transactions
URL:http://www.wikicfp.com/cfp/servlet/event.showcfp?eventid=23849&copyow
 nerid=42382
UID:cfp296603-N@wikicfp.com
END:VEVENT
END:VCALENDAR
